BEGIN:VCALENDAR
VERSION:2.0
PRODID:-//jEvents 2.0 for Joomla//EN
CALSCALE:GREGORIAN
METHOD:PUBLISH
BEGIN:VTIMEZONE
TZID:America/Denver
BEGIN:STANDARD
DTSTART:20221106T010000
RDATE:20230312T030000
TZOFFSETFROM:-0600
TZOFFSETTO:-0700
TZNAME:America/Denver MST
END:STANDARD
BEGIN:STANDARD
DTSTART:20231105T010000
RDATE:20240310T030000
TZOFFSETFROM:-0600
TZOFFSETTO:-0700
TZNAME:America/Denver MST
END:STANDARD
BEGIN:STANDARD
DTSTART:20241103T010000
RDATE:20250309T030000
TZOFFSETFROM:-0600
TZOFFSETTO:-0700
TZNAME:America/Denver MST
END:STANDARD
BEGIN:STANDARD
DTSTART:20251102T010000
RDATE:20260308T030000
TZOFFSETFROM:-0600
TZOFFSETTO:-0700
TZNAME:America/Denver MST
END:STANDARD
BEGIN:STANDARD
DTSTART:20261101T010000
RDATE:20270314T030000
TZOFFSETFROM:-0600
TZOFFSETTO:-0700
TZNAME:America/Denver MST
END:STANDARD
BEGIN:STANDARD
DTSTART:20271107T010000
RDATE:20280312T030000
TZOFFSETFROM:-0600
TZOFFSETTO:-0700
TZNAME:America/Denver MST
END:STANDARD
BEGIN:STANDARD
DTSTART:20281105T010000
RDATE:20290311T030000
TZOFFSETFROM:-0600
TZOFFSETTO:-0700
TZNAME:America/Denver MST
END:STANDARD
BEGIN:STANDARD
DTSTART:20291104T010000
RDATE:20300310T030000
TZOFFSETFROM:-0600
TZOFFSETTO:-0700
TZNAME:America/Denver MST
END:STANDARD
BEGIN:STANDARD
DTSTART:20301103T010000
RDATE:20310309T030000
TZOFFSETFROM:-0600
TZOFFSETTO:-0700
TZNAME:America/Denver MST
END:STANDARD
BEGIN:STANDARD
DTSTART:20311102T010000
RDATE:20320314T030000
TZOFFSETFROM:-0600
TZOFFSETTO:-0700
TZNAME:America/Denver MST
END:STANDARD
BEGIN:STANDARD
DTSTART:20321107T010000
RDATE:20330313T030000
TZOFFSETFROM:-0600
TZOFFSETTO:-0700
TZNAME:America/Denver MST
END:STANDARD
BEGIN:STANDARD
DTSTART:20331106T010000
RDATE:20340312T030000
TZOFFSETFROM:-0600
TZOFFSETTO:-0700
TZNAME:America/Denver MST
END:STANDARD
BEGIN:STANDARD
DTSTART:20341105T010000
RDATE:20350311T030000
TZOFFSETFROM:-0600
TZOFFSETTO:-0700
TZNAME:America/Denver MST
END:STANDARD
BEGIN:STANDARD
DTSTART:20351104T010000
RDATE:20360309T030000
TZOFFSETFROM:-0600
TZOFFSETTO:-0700
TZNAME:America/Denver MST
END:STANDARD
BEGIN:STANDARD
DTSTART:20361102T010000
RDATE:20370308T030000
TZOFFSETFROM:-0600
TZOFFSETTO:-0700
TZNAME:America/Denver MST
END:STANDARD
BEGIN:STANDARD
DTSTART:20371101T010000
TZOFFSETFROM:-0600
TZOFFSETTO:-0700
TZNAME:America/Denver MST
END:STANDARD
BEGIN:DAYLIGHT
DTSTART:20221002T070000
RDATE:20221106T010000
TZOFFSETFROM:-0700
TZOFFSETTO:-0600
TZNAME:America/Denver MDT
END:DAYLIGHT
BEGIN:DAYLIGHT
DTSTART:20230312T030000
RDATE:20231105T010000
TZOFFSETFROM:-0700
TZOFFSETTO:-0600
TZNAME:America/Denver MDT
END:DAYLIGHT
BEGIN:DAYLIGHT
DTSTART:20240310T030000
RDATE:20241103T010000
TZOFFSETFROM:-0700
TZOFFSETTO:-0600
TZNAME:America/Denver MDT
END:DAYLIGHT
BEGIN:DAYLIGHT
DTSTART:20250309T030000
RDATE:20251102T010000
TZOFFSETFROM:-0700
TZOFFSETTO:-0600
TZNAME:America/Denver MDT
END:DAYLIGHT
BEGIN:DAYLIGHT
DTSTART:20260308T030000
RDATE:20261101T010000
TZOFFSETFROM:-0700
TZOFFSETTO:-0600
TZNAME:America/Denver MDT
END:DAYLIGHT
BEGIN:DAYLIGHT
DTSTART:20270314T030000
RDATE:20271107T010000
TZOFFSETFROM:-0700
TZOFFSETTO:-0600
TZNAME:America/Denver MDT
END:DAYLIGHT
BEGIN:DAYLIGHT
DTSTART:20280312T030000
RDATE:20281105T010000
TZOFFSETFROM:-0700
TZOFFSETTO:-0600
TZNAME:America/Denver MDT
END:DAYLIGHT
BEGIN:DAYLIGHT
DTSTART:20290311T030000
RDATE:20291104T010000
TZOFFSETFROM:-0700
TZOFFSETTO:-0600
TZNAME:America/Denver MDT
END:DAYLIGHT
BEGIN:DAYLIGHT
DTSTART:20300310T030000
RDATE:20301103T010000
TZOFFSETFROM:-0700
TZOFFSETTO:-0600
TZNAME:America/Denver MDT
END:DAYLIGHT
BEGIN:DAYLIGHT
DTSTART:20310309T030000
RDATE:20311102T010000
TZOFFSETFROM:-0700
TZOFFSETTO:-0600
TZNAME:America/Denver MDT
END:DAYLIGHT
BEGIN:DAYLIGHT
DTSTART:20320314T030000
RDATE:20321107T010000
TZOFFSETFROM:-0700
TZOFFSETTO:-0600
TZNAME:America/Denver MDT
END:DAYLIGHT
BEGIN:DAYLIGHT
DTSTART:20330313T030000
RDATE:20331106T010000
TZOFFSETFROM:-0700
TZOFFSETTO:-0600
TZNAME:America/Denver MDT
END:DAYLIGHT
BEGIN:DAYLIGHT
DTSTART:20340312T030000
RDATE:20341105T010000
TZOFFSETFROM:-0700
TZOFFSETTO:-0600
TZNAME:America/Denver MDT
END:DAYLIGHT
BEGIN:DAYLIGHT
DTSTART:20350311T030000
RDATE:20351104T010000
TZOFFSETFROM:-0700
TZOFFSETTO:-0600
TZNAME:America/Denver MDT
END:DAYLIGHT
BEGIN:DAYLIGHT
DTSTART:20360309T030000
RDATE:20361102T010000
TZOFFSETFROM:-0700
TZOFFSETTO:-0600
TZNAME:America/Denver MDT
END:DAYLIGHT
BEGIN:DAYLIGHT
DTSTART:20370308T030000
RDATE:20371101T010000
TZOFFSETFROM:-0700
TZOFFSETTO:-0600
TZNAME:America/Denver MDT
END:DAYLIGHT
END:VTIMEZONE
BEGIN:VEVENT
UID:658c9b578c8787043821b21465355cb4
CATEGORIES:LSDM
CREATED:20230829T162724
SUMMARY:Dr. Michael G. Vickers, former US Under Secretary of Defense for Intelligence
DESCRIPTION:Amazon.com: By All Means Available: Memoirs of a Life in Intelligence, Spec
 ial Operations, and Strategy: 9781101947708: Vickers, Michael G.: Books\nA 
 vivid insider's account of a life in intelligence, special operations, and 
 strategy from the Cold War to the war with al-Qa’ida • "[An] illuminating a
 nd richly detailed memoir." —The New York Times Book Review\n\n"Deeply insi
 ghtful...A sweeping and breathtaking journey that gives the reader unpreced
 ented access to the courage, sacrifice, and bravado of our nation’s finest 
 warriors, in their finest hours." —Admiral William H. McRaven, author of Wi
 sdom of the Bullfrog and#1 New York Times bestseller, Make Your Bed\n\nIn 1
 984, Michael Vickers took charge of the CIA’s secret war against the Soviet
 s in Afghanistan. After inheriting a strategy aimed at imposing costs on th
 e Soviets for their invasion and occupation of Afghanistan, Vickers transfo
 rmed the covert campaign into an all-out effort to help the Afghan resistan
 ce win their war. More than any other American, he was responsible for the 
 outcome in Afghanistan that led to the end of the Cold War.\n\nIn By All Me
 ans Available, Vickers recounts his remarkable career, from his days as a G
 reen Beret to his vision for victory in Afghanistan to his role in waging A
 merica’s war with al-Qa’ida at the highest levels of government. In captiva
 ting detail, he depicts his years in the Special Forces—including his train
 ing to parachute behind enemy lines with a backpack nuclear weapon in the e
 vent of a Soviet invasion of Western Europe—and reveals how those experienc
 es directly influenced his approach to shaping policy. Vickers has played a
  significant role in most of the military and intelligence operations of th
 e past four decades, and he offers a deeply informed analysis of the greate
 st challenges facing America today, and in the decades ahead.\n\nRiveting a
 nd illuminating, this is a rare and important insider’s account of the mode
 rn military and intelligence worlds at every level.\nHat tip:  Kilimanjaro 
 \n
X-ALT-DESC;FMTTYPE=text/html:<p><a href="https://www.amazon.com/All-Means-Available-Intelligence-Operati
 ons/dp/1101947705">Amazon.com: By All Means Available: Memoirs of a Life in
  Intelligence, Special Operations, and Strategy: 9781101947708: Vickers, Mi
 chael G.: Books</a></p><p><span class="a-text-bold">A vivid insider's accou
 nt of a life in intelligence, special operations, and strategy from the Col
 d War to the war with al-Qa’ida • "[An] illuminating and richly detailed me
 moir." —</span><span class="a-text-bold a-text-italic">The New York Times B
 ook Review</span><span class="a-text-bold"><br /><br />"Deeply insightful..
 .A sweeping and breathtaking journey that gives the reader unprecedented ac
 cess to the courage, sacrifice, and bravado of our nation’s finest warriors
 , in their finest hours." —Admiral William H. McRaven, author of&nbsp;</spa
 n><span class="a-text-bold a-text-italic">Wisdom of the Bullfrog&nbsp;</spa
 n><span class="a-text-bold">and</span><span class="a-text-bold">#1&nbsp;</s
 pan><span class="a-text-bold a-text-italic">New York Times</span><span clas
 s="a-text-bold">&nbsp;bestseller,&nbsp;</span><span class="a-text-bold a-te
 xt-italic">Make Your Bed</span><br /><br />In 1984, Michael Vickers took ch
 arge of the CIA’s secret war against the Soviets in Afghanistan. After inhe
 riting a strategy aimed at imposing costs on the Soviets for their invasion
  and occupation of Afghanistan, Vickers transformed the covert campaign int
 o an all-out effort to help the Afghan resistance win their war. More than 
 any other American, he was responsible for the outcome in Afghanistan that 
 led to the end of the Cold War.<br /><br />In&nbsp;<span class="a-text-ital
 ic">By All Means Available,</span>&nbsp;Vickers recounts his remarkable car
 eer, from his days as a Green Beret to his vision for victory in Afghanista
 n to his role in waging America’s war with al-Qa’ida at the highest levels 
 of government. In captivating detail, he depicts his years in the Special F
 orces—including his training to parachute behind enemy lines with a backpac
 k nuclear weapon in the event of a Soviet invasion of Western Europe—and re
 veals how those experiences directly influenced his approach to shaping pol
 icy. Vickers has played a significant role in most of the military and inte
 lligence operations of the past four decades, and he offers a deeply inform
 ed analysis of the greatest challenges facing America today, and in the dec
 ades ahead.<br /><br />Riveting and illuminating, this is a rare and import
 ant insider’s account of the modern military and intelligence worlds at eve
 ry level.</p><p>Hat tip:&nbsp; Kilimanjaro&nbsp;</p>
DTSTAMP:20260421T093626
DTSTART;TZID=America/Denver:20231003T070000
DTEND;TZID=America/Denver:20231003T080000
SEQUENCE:0
TRANSP:OPAQUE
END:VEVENT
END:VCALENDAR