BEGIN:VCALENDAR
VERSION:2.0
PRODID:-//jEvents 2.0 for Joomla//EN
CALSCALE:GREGORIAN
METHOD:PUBLISH
BEGIN:VTIMEZONE
TZID:America/Denver
BEGIN:STANDARD
DTSTART:20221106T010000
RDATE:20230312T030000
TZOFFSETFROM:-0600
TZOFFSETTO:-0700
TZNAME:America/Denver MST
END:STANDARD
BEGIN:STANDARD
DTSTART:20231105T010000
RDATE:20240310T030000
TZOFFSETFROM:-0600
TZOFFSETTO:-0700
TZNAME:America/Denver MST
END:STANDARD
BEGIN:STANDARD
DTSTART:20241103T010000
RDATE:20250309T030000
TZOFFSETFROM:-0600
TZOFFSETTO:-0700
TZNAME:America/Denver MST
END:STANDARD
BEGIN:STANDARD
DTSTART:20251102T010000
RDATE:20260308T030000
TZOFFSETFROM:-0600
TZOFFSETTO:-0700
TZNAME:America/Denver MST
END:STANDARD
BEGIN:STANDARD
DTSTART:20261101T010000
RDATE:20270314T030000
TZOFFSETFROM:-0600
TZOFFSETTO:-0700
TZNAME:America/Denver MST
END:STANDARD
BEGIN:STANDARD
DTSTART:20271107T010000
RDATE:20280312T030000
TZOFFSETFROM:-0600
TZOFFSETTO:-0700
TZNAME:America/Denver MST
END:STANDARD
BEGIN:STANDARD
DTSTART:20281105T010000
RDATE:20290311T030000
TZOFFSETFROM:-0600
TZOFFSETTO:-0700
TZNAME:America/Denver MST
END:STANDARD
BEGIN:STANDARD
DTSTART:20291104T010000
RDATE:20300310T030000
TZOFFSETFROM:-0600
TZOFFSETTO:-0700
TZNAME:America/Denver MST
END:STANDARD
BEGIN:STANDARD
DTSTART:20301103T010000
RDATE:20310309T030000
TZOFFSETFROM:-0600
TZOFFSETTO:-0700
TZNAME:America/Denver MST
END:STANDARD
BEGIN:STANDARD
DTSTART:20311102T010000
RDATE:20320314T030000
TZOFFSETFROM:-0600
TZOFFSETTO:-0700
TZNAME:America/Denver MST
END:STANDARD
BEGIN:STANDARD
DTSTART:20321107T010000
RDATE:20330313T030000
TZOFFSETFROM:-0600
TZOFFSETTO:-0700
TZNAME:America/Denver MST
END:STANDARD
BEGIN:STANDARD
DTSTART:20331106T010000
RDATE:20340312T030000
TZOFFSETFROM:-0600
TZOFFSETTO:-0700
TZNAME:America/Denver MST
END:STANDARD
BEGIN:STANDARD
DTSTART:20341105T010000
RDATE:20350311T030000
TZOFFSETFROM:-0600
TZOFFSETTO:-0700
TZNAME:America/Denver MST
END:STANDARD
BEGIN:STANDARD
DTSTART:20351104T010000
RDATE:20360309T030000
TZOFFSETFROM:-0600
TZOFFSETTO:-0700
TZNAME:America/Denver MST
END:STANDARD
BEGIN:STANDARD
DTSTART:20361102T010000
RDATE:20370308T030000
TZOFFSETFROM:-0600
TZOFFSETTO:-0700
TZNAME:America/Denver MST
END:STANDARD
BEGIN:STANDARD
DTSTART:20371101T010000
TZOFFSETFROM:-0600
TZOFFSETTO:-0700
TZNAME:America/Denver MST
END:STANDARD
BEGIN:DAYLIGHT
DTSTART:20221011T070000
RDATE:20221106T010000
TZOFFSETFROM:-0700
TZOFFSETTO:-0600
TZNAME:America/Denver MDT
END:DAYLIGHT
BEGIN:DAYLIGHT
DTSTART:20230312T030000
RDATE:20231105T010000
TZOFFSETFROM:-0700
TZOFFSETTO:-0600
TZNAME:America/Denver MDT
END:DAYLIGHT
BEGIN:DAYLIGHT
DTSTART:20240310T030000
RDATE:20241103T010000
TZOFFSETFROM:-0700
TZOFFSETTO:-0600
TZNAME:America/Denver MDT
END:DAYLIGHT
BEGIN:DAYLIGHT
DTSTART:20250309T030000
RDATE:20251102T010000
TZOFFSETFROM:-0700
TZOFFSETTO:-0600
TZNAME:America/Denver MDT
END:DAYLIGHT
BEGIN:DAYLIGHT
DTSTART:20260308T030000
RDATE:20261101T010000
TZOFFSETFROM:-0700
TZOFFSETTO:-0600
TZNAME:America/Denver MDT
END:DAYLIGHT
BEGIN:DAYLIGHT
DTSTART:20270314T030000
RDATE:20271107T010000
TZOFFSETFROM:-0700
TZOFFSETTO:-0600
TZNAME:America/Denver MDT
END:DAYLIGHT
BEGIN:DAYLIGHT
DTSTART:20280312T030000
RDATE:20281105T010000
TZOFFSETFROM:-0700
TZOFFSETTO:-0600
TZNAME:America/Denver MDT
END:DAYLIGHT
BEGIN:DAYLIGHT
DTSTART:20290311T030000
RDATE:20291104T010000
TZOFFSETFROM:-0700
TZOFFSETTO:-0600
TZNAME:America/Denver MDT
END:DAYLIGHT
BEGIN:DAYLIGHT
DTSTART:20300310T030000
RDATE:20301103T010000
TZOFFSETFROM:-0700
TZOFFSETTO:-0600
TZNAME:America/Denver MDT
END:DAYLIGHT
BEGIN:DAYLIGHT
DTSTART:20310309T030000
RDATE:20311102T010000
TZOFFSETFROM:-0700
TZOFFSETTO:-0600
TZNAME:America/Denver MDT
END:DAYLIGHT
BEGIN:DAYLIGHT
DTSTART:20320314T030000
RDATE:20321107T010000
TZOFFSETFROM:-0700
TZOFFSETTO:-0600
TZNAME:America/Denver MDT
END:DAYLIGHT
BEGIN:DAYLIGHT
DTSTART:20330313T030000
RDATE:20331106T010000
TZOFFSETFROM:-0700
TZOFFSETTO:-0600
TZNAME:America/Denver MDT
END:DAYLIGHT
BEGIN:DAYLIGHT
DTSTART:20340312T030000
RDATE:20341105T010000
TZOFFSETFROM:-0700
TZOFFSETTO:-0600
TZNAME:America/Denver MDT
END:DAYLIGHT
BEGIN:DAYLIGHT
DTSTART:20350311T030000
RDATE:20351104T010000
TZOFFSETFROM:-0700
TZOFFSETTO:-0600
TZNAME:America/Denver MDT
END:DAYLIGHT
BEGIN:DAYLIGHT
DTSTART:20360309T030000
RDATE:20361102T010000
TZOFFSETFROM:-0700
TZOFFSETTO:-0600
TZNAME:America/Denver MDT
END:DAYLIGHT
BEGIN:DAYLIGHT
DTSTART:20370308T030000
RDATE:20371101T010000
TZOFFSETFROM:-0700
TZOFFSETTO:-0600
TZNAME:America/Denver MDT
END:DAYLIGHT
END:VTIMEZONE
BEGIN:VEVENT
UID:a660dbdfea208f2905fb5df41dc660ed
CATEGORIES:LSDM
CREATED:20231003T121056
SUMMARY:Betsy McCaughey, PH.D, Lieutenant Governor of New York, 1995 to 1998
DESCRIPTION:<p><span style="color: #ff0000;"><strong>Chairman, Committe to Reduce Infec
 tion Deaths (RID)</strong></span></p><p><b>Elizabeth Helen McCaughey</b>&nb
 sp;(<span class="rt-commentedText nowrap"><span class="IPA nopopups noexcer
 pt" lang="en-fonipa"><a href="https://en.wikipedia.org/wiki/Help:IPA/Englis
 h" title="Help:IPA/English">/<span title="m' in 'my">m</span>span title="/ə
 /: 'a' in 'about'&quot;"ə</span>span title="/ˈ/: primary stress follows&quo
 t;"ˈ</span><span title="k' in 'kind">k</span>span title="/ɔɪ/: 'oi' in 'cho
 ice'&quot;&gt;"ɪ</span>/</a></span></span>; née&nbsp;<b>Peterken</b>; born 
 October 20, 1948),<sup id="cite_ref-woman_in_the_news_1-0" class="reference
 "><a href="https://en.wikipedia.org/wiki/Betsy_McCaughey#cite_note-woman_in
 _the_news-1">[1]</a></sup>&nbsp;formerly known as&nbsp;<b>Betsy McCaughey R
 oss</b>, is an American politician who was the&nbsp;<a href="https://en.wik
 ipedia.org/wiki/Lieutenant_Governor_of_New_York" title="Lieutenant Governor
  of New York">Lieutenant Governor of New York</a>&nbsp;from 1995 to 1998, d
 uring the first term of Governor&nbsp;<a href="https://en.wikipedia.org/wik
 i/George_Pataki" title="George Pataki">George Pataki</a>. She unsuccessfull
 y sought the&nbsp;<a href="https://en.wikipedia.org/wiki/Democratic_Party_(
 United_States)" title="Democratic Party (United States)">Democratic Party</
 a>&nbsp;nomination for governor after Pataki dropped her from his 1998 tick
 et, and she ended up on the ballot under the&nbsp;<a href="https://en.wikip
 edia.org/wiki/Liberal_Party_of_New_York" title="Liberal Party of New York">
 Liberal Party</a>&nbsp;line. In August 2016 the&nbsp;<a href="https://en.wi
 kipedia.org/wiki/Donald_Trump" title="Donald Trump">Donald Trump</a>&nbsp;<
 a href="https://en.wikipedia.org/wiki/Donald_Trump_presidential_campaign,_2
 016" class="mw-redirect" title="Donald Trump presidential campaign, 2016">p
 residential campaign</a>&nbsp;announced that she had joined the campaign as
  an economic adviser.<sup id="cite_ref-COTTLE_2-0" class="reference"><a hre
 f="https://en.wikipedia.org/wiki/Betsy_McCaughey#cite_note-COTTLE-2">[2]</a
 ></sup></p><p>A historian by training, with a&nbsp;<a href="https://en.wiki
 pedia.org/wiki/PhD" class="mw-redirect" title="PhD">PhD</a>&nbsp;from&nbsp;
 <a href="https://en.wikipedia.org/wiki/Columbia_University" title="Columbia
  University">Columbia University</a>, McCaughey has, over the years, provid
 ed&nbsp;<a href="https://en.wikipedia.org/wiki/Conservatism_in_the_United_S
 tates" title="Conservatism in the United States">conservative</a>&nbsp;medi
 a commentary on US public policy affecting healthcare-related issues. Her 1
 993 attack on the Clinton healthcare plan was likely a major factor in the 
 initially popular bill's defeat in Congress. Also, it brought her to the at
 tention of Republican Pataki, who chose her as his nominee/running mate. In
  2009, her criticisms of the&nbsp;<a href="https://en.wikipedia.org/wiki/Af
 fordable_Care_Act" title="Affordable Care Act">Affordable Care Act</a>, the
 n a bill being debated in Congress again gained significant media attention
  in television and radio interviews, and it may have specifically inspired 
 the "<a href="https://en.wikipedia.org/wiki/Death_panel" title="Death panel
 ">death panel</a>" claim about the act.&nbsp; Wikipedia</p><p>Hat tip:&nbsp
 ; Park Avenue</p>
DTSTAMP:20260421T094216
DTSTART;TZID=America/Denver:20231012T070000
DTEND;TZID=America/Denver:20231012T080000
SEQUENCE:0
TRANSP:OPAQUE
END:VEVENT
END:VCALENDAR