BEGIN:VCALENDAR
VERSION:2.0
PRODID:-//jEvents 2.0 for Joomla//EN
CALSCALE:GREGORIAN
METHOD:PUBLISH
BEGIN:VTIMEZONE
TZID:America/Denver
BEGIN:STANDARD
DTSTART:20241103T010000
RDATE:20250309T030000
TZOFFSETFROM:-0600
TZOFFSETTO:-0700
TZNAME:America/Denver MST
END:STANDARD
BEGIN:STANDARD
DTSTART:20251102T010000
RDATE:20260308T030000
TZOFFSETFROM:-0600
TZOFFSETTO:-0700
TZNAME:America/Denver MST
END:STANDARD
BEGIN:STANDARD
DTSTART:20261101T010000
RDATE:20270314T030000
TZOFFSETFROM:-0600
TZOFFSETTO:-0700
TZNAME:America/Denver MST
END:STANDARD
BEGIN:STANDARD
DTSTART:20271107T010000
RDATE:20280312T030000
TZOFFSETFROM:-0600
TZOFFSETTO:-0700
TZNAME:America/Denver MST
END:STANDARD
BEGIN:STANDARD
DTSTART:20281105T010000
RDATE:20290311T030000
TZOFFSETFROM:-0600
TZOFFSETTO:-0700
TZNAME:America/Denver MST
END:STANDARD
BEGIN:STANDARD
DTSTART:20291104T010000
RDATE:20300310T030000
TZOFFSETFROM:-0600
TZOFFSETTO:-0700
TZNAME:America/Denver MST
END:STANDARD
BEGIN:STANDARD
DTSTART:20301103T010000
RDATE:20310309T030000
TZOFFSETFROM:-0600
TZOFFSETTO:-0700
TZNAME:America/Denver MST
END:STANDARD
BEGIN:STANDARD
DTSTART:20311102T010000
RDATE:20320314T030000
TZOFFSETFROM:-0600
TZOFFSETTO:-0700
TZNAME:America/Denver MST
END:STANDARD
BEGIN:STANDARD
DTSTART:20321107T010000
RDATE:20330313T030000
TZOFFSETFROM:-0600
TZOFFSETTO:-0700
TZNAME:America/Denver MST
END:STANDARD
BEGIN:STANDARD
DTSTART:20331106T010000
RDATE:20340312T030000
TZOFFSETFROM:-0600
TZOFFSETTO:-0700
TZNAME:America/Denver MST
END:STANDARD
BEGIN:STANDARD
DTSTART:20341105T010000
RDATE:20350311T030000
TZOFFSETFROM:-0600
TZOFFSETTO:-0700
TZNAME:America/Denver MST
END:STANDARD
BEGIN:STANDARD
DTSTART:20351104T010000
RDATE:20360309T030000
TZOFFSETFROM:-0600
TZOFFSETTO:-0700
TZNAME:America/Denver MST
END:STANDARD
BEGIN:STANDARD
DTSTART:20361102T010000
RDATE:20370308T030000
TZOFFSETFROM:-0600
TZOFFSETTO:-0700
TZNAME:America/Denver MST
END:STANDARD
BEGIN:STANDARD
DTSTART:20371101T010000
TZOFFSETFROM:-0600
TZOFFSETTO:-0700
TZNAME:America/Denver MST
END:STANDARD
BEGIN:DAYLIGHT
DTSTART:20240421T070000
RDATE:20241103T010000
TZOFFSETFROM:-0700
TZOFFSETTO:-0600
TZNAME:America/Denver MDT
END:DAYLIGHT
BEGIN:DAYLIGHT
DTSTART:20250309T030000
RDATE:20251102T010000
TZOFFSETFROM:-0700
TZOFFSETTO:-0600
TZNAME:America/Denver MDT
END:DAYLIGHT
BEGIN:DAYLIGHT
DTSTART:20260308T030000
RDATE:20261101T010000
TZOFFSETFROM:-0700
TZOFFSETTO:-0600
TZNAME:America/Denver MDT
END:DAYLIGHT
BEGIN:DAYLIGHT
DTSTART:20270314T030000
RDATE:20271107T010000
TZOFFSETFROM:-0700
TZOFFSETTO:-0600
TZNAME:America/Denver MDT
END:DAYLIGHT
BEGIN:DAYLIGHT
DTSTART:20280312T030000
RDATE:20281105T010000
TZOFFSETFROM:-0700
TZOFFSETTO:-0600
TZNAME:America/Denver MDT
END:DAYLIGHT
BEGIN:DAYLIGHT
DTSTART:20290311T030000
RDATE:20291104T010000
TZOFFSETFROM:-0700
TZOFFSETTO:-0600
TZNAME:America/Denver MDT
END:DAYLIGHT
BEGIN:DAYLIGHT
DTSTART:20300310T030000
RDATE:20301103T010000
TZOFFSETFROM:-0700
TZOFFSETTO:-0600
TZNAME:America/Denver MDT
END:DAYLIGHT
BEGIN:DAYLIGHT
DTSTART:20310309T030000
RDATE:20311102T010000
TZOFFSETFROM:-0700
TZOFFSETTO:-0600
TZNAME:America/Denver MDT
END:DAYLIGHT
BEGIN:DAYLIGHT
DTSTART:20320314T030000
RDATE:20321107T010000
TZOFFSETFROM:-0700
TZOFFSETTO:-0600
TZNAME:America/Denver MDT
END:DAYLIGHT
BEGIN:DAYLIGHT
DTSTART:20330313T030000
RDATE:20331106T010000
TZOFFSETFROM:-0700
TZOFFSETTO:-0600
TZNAME:America/Denver MDT
END:DAYLIGHT
BEGIN:DAYLIGHT
DTSTART:20340312T030000
RDATE:20341105T010000
TZOFFSETFROM:-0700
TZOFFSETTO:-0600
TZNAME:America/Denver MDT
END:DAYLIGHT
BEGIN:DAYLIGHT
DTSTART:20350311T030000
RDATE:20351104T010000
TZOFFSETFROM:-0700
TZOFFSETTO:-0600
TZNAME:America/Denver MDT
END:DAYLIGHT
BEGIN:DAYLIGHT
DTSTART:20360309T030000
RDATE:20361102T010000
TZOFFSETFROM:-0700
TZOFFSETTO:-0600
TZNAME:America/Denver MDT
END:DAYLIGHT
BEGIN:DAYLIGHT
DTSTART:20370308T030000
RDATE:20371101T010000
TZOFFSETFROM:-0700
TZOFFSETTO:-0600
TZNAME:America/Denver MDT
END:DAYLIGHT
END:VTIMEZONE
BEGIN:VEVENT
UID:f166aceeb5a67afbf3a84ffb7d5a2c58
CATEGORIES:LSDM
CREATED:20250318T101105
SUMMARY:William F. Shughart II is  Senior Fellow at the Independent Institute
DESCRIPTION:William Shughart is the J. Fish Smith Professor in Public Choice in the Jon
  M. Huntsman School of Business at Utah State University, past President an
 d Distinguished Fellow of the Southern Economic Association, and past Presi
 dent of the Public Choice Society. A former economist at the Federal Trade 
 Commission, Professor Shughart received his Ph.D. in economics from Texas A
  &amp; M University, and he has taught at George Mason University, Clemson 
 University, University of Mississippi, and the University of Arizona.\nHis 
 recent articles include:\n
Can a New National Nanny Make America Healthy Ag
 ain?\n
 (https://www.independent.org/news/article.asp?id=15229)\n Don’t Put
  Coal on Ice (https://www.independent.org/news/article.asp?id=15176)\nTrick
 s of the Trust-Busting Trade (https://www.independent.org/news/article.asp?
 id=15060)\nChevron’s End Changes Washington’s Status Quo for the Better (ht
 tps://www.independent.org/news/article.asp?id=15003) \nThe Bitter Truth Beh
 ind Sugary Soda Taxes (https://www.independent.org/news/article.asp?id=1484
 4)\nHe is the author of Taxing Choice: The Predatory Politics of Fiscal Dis
 crimination in which he shows that the record of “sin taxes” has been anyth
 ing but successful, as they have hindered economic progress and failed to d
 eliver the promised social benefits.\n
X-ALT-DESC;FMTTYPE=text/html:<p>William&nbsp;Shughart is&nbsp;the J. Fish Smith Professor in Public Choi
 ce in the Jon M. Huntsman School of Business at Utah State University, past
  President and Distinguished Fellow of the Southern Economic Association, a
 nd past President of the Public Choice Society. A former economist at the F
 ederal Trade Commission, Professor Shughart received his Ph.D. in economics
  from Texas A &amp; M University, and he has taught at George Mason Univers
 ity, Clemson University, University of Mississippi, and the University of A
 rizona.</p><p>His recent articles include:</p><p><a href="https://www.indep
 endent.org/news/article.asp?id=15229"><p>Can a New National Nanny Make Amer
 ica Healthy Again?</p></a></p><p>&nbsp;<a href="https://www.independent.org
 /news/article.asp?id=15176">Don’t Put Coal on Ice</a></p><p><a href="https:
 //www.independent.org/news/article.asp?id=15060">Tricks of the Trust-Bustin
 g Trade</a></p><p><a href="https://www.independent.org/news/article.asp?id=
 15003">Chevron’s End Changes Washington’s Status Quo for the Better</a>&nbs
 p;</p><p><a href="https://www.independent.org/news/article.asp?id=14844">Th
 e Bitter Truth Behind Sugary Soda Taxes</a></p><p>He is the author of&nbsp;
 Taxing Choice: The Predatory Politics of Fiscal Discrimination in which he 
 shows that the record of “sin taxes” has been anything but successful, as t
 hey have hindered economic progress and failed to deliver the promised soci
 al benefits.</p>
DTSTAMP:20260420T150847
DTSTART;TZID=America/Denver:20250422T070000
DTEND;TZID=America/Denver:20250422T080000
SEQUENCE:0
TRANSP:OPAQUE
END:VEVENT
END:VCALENDAR