BEGIN:VCALENDAR
VERSION:2.0
PRODID:-//jEvents 2.0 for Joomla//EN
CALSCALE:GREGORIAN
METHOD:PUBLISH
BEGIN:VTIMEZONE
TZID:America/Denver
BEGIN:STANDARD
DTSTART:20241103T010000
RDATE:20250309T030000
TZOFFSETFROM:-0600
TZOFFSETTO:-0700
TZNAME:America/Denver MST
END:STANDARD
BEGIN:STANDARD
DTSTART:20251102T010000
RDATE:20260308T030000
TZOFFSETFROM:-0600
TZOFFSETTO:-0700
TZNAME:America/Denver MST
END:STANDARD
BEGIN:STANDARD
DTSTART:20261101T010000
RDATE:20270314T030000
TZOFFSETFROM:-0600
TZOFFSETTO:-0700
TZNAME:America/Denver MST
END:STANDARD
BEGIN:STANDARD
DTSTART:20271107T010000
RDATE:20280312T030000
TZOFFSETFROM:-0600
TZOFFSETTO:-0700
TZNAME:America/Denver MST
END:STANDARD
BEGIN:STANDARD
DTSTART:20281105T010000
RDATE:20290311T030000
TZOFFSETFROM:-0600
TZOFFSETTO:-0700
TZNAME:America/Denver MST
END:STANDARD
BEGIN:STANDARD
DTSTART:20291104T010000
RDATE:20300310T030000
TZOFFSETFROM:-0600
TZOFFSETTO:-0700
TZNAME:America/Denver MST
END:STANDARD
BEGIN:STANDARD
DTSTART:20301103T010000
RDATE:20310309T030000
TZOFFSETFROM:-0600
TZOFFSETTO:-0700
TZNAME:America/Denver MST
END:STANDARD
BEGIN:STANDARD
DTSTART:20311102T010000
RDATE:20320314T030000
TZOFFSETFROM:-0600
TZOFFSETTO:-0700
TZNAME:America/Denver MST
END:STANDARD
BEGIN:STANDARD
DTSTART:20321107T010000
RDATE:20330313T030000
TZOFFSETFROM:-0600
TZOFFSETTO:-0700
TZNAME:America/Denver MST
END:STANDARD
BEGIN:STANDARD
DTSTART:20331106T010000
RDATE:20340312T030000
TZOFFSETFROM:-0600
TZOFFSETTO:-0700
TZNAME:America/Denver MST
END:STANDARD
BEGIN:STANDARD
DTSTART:20341105T010000
RDATE:20350311T030000
TZOFFSETFROM:-0600
TZOFFSETTO:-0700
TZNAME:America/Denver MST
END:STANDARD
BEGIN:STANDARD
DTSTART:20351104T010000
RDATE:20360309T030000
TZOFFSETFROM:-0600
TZOFFSETTO:-0700
TZNAME:America/Denver MST
END:STANDARD
BEGIN:STANDARD
DTSTART:20361102T010000
RDATE:20370308T030000
TZOFFSETFROM:-0600
TZOFFSETTO:-0700
TZNAME:America/Denver MST
END:STANDARD
BEGIN:STANDARD
DTSTART:20371101T010000
TZOFFSETFROM:-0600
TZOFFSETTO:-0700
TZNAME:America/Denver MST
END:STANDARD
BEGIN:DAYLIGHT
DTSTART:20240514T070000
RDATE:20241103T010000
TZOFFSETFROM:-0700
TZOFFSETTO:-0600
TZNAME:America/Denver MDT
END:DAYLIGHT
BEGIN:DAYLIGHT
DTSTART:20250309T030000
RDATE:20251102T010000
TZOFFSETFROM:-0700
TZOFFSETTO:-0600
TZNAME:America/Denver MDT
END:DAYLIGHT
BEGIN:DAYLIGHT
DTSTART:20260308T030000
RDATE:20261101T010000
TZOFFSETFROM:-0700
TZOFFSETTO:-0600
TZNAME:America/Denver MDT
END:DAYLIGHT
BEGIN:DAYLIGHT
DTSTART:20270314T030000
RDATE:20271107T010000
TZOFFSETFROM:-0700
TZOFFSETTO:-0600
TZNAME:America/Denver MDT
END:DAYLIGHT
BEGIN:DAYLIGHT
DTSTART:20280312T030000
RDATE:20281105T010000
TZOFFSETFROM:-0700
TZOFFSETTO:-0600
TZNAME:America/Denver MDT
END:DAYLIGHT
BEGIN:DAYLIGHT
DTSTART:20290311T030000
RDATE:20291104T010000
TZOFFSETFROM:-0700
TZOFFSETTO:-0600
TZNAME:America/Denver MDT
END:DAYLIGHT
BEGIN:DAYLIGHT
DTSTART:20300310T030000
RDATE:20301103T010000
TZOFFSETFROM:-0700
TZOFFSETTO:-0600
TZNAME:America/Denver MDT
END:DAYLIGHT
BEGIN:DAYLIGHT
DTSTART:20310309T030000
RDATE:20311102T010000
TZOFFSETFROM:-0700
TZOFFSETTO:-0600
TZNAME:America/Denver MDT
END:DAYLIGHT
BEGIN:DAYLIGHT
DTSTART:20320314T030000
RDATE:20321107T010000
TZOFFSETFROM:-0700
TZOFFSETTO:-0600
TZNAME:America/Denver MDT
END:DAYLIGHT
BEGIN:DAYLIGHT
DTSTART:20330313T030000
RDATE:20331106T010000
TZOFFSETFROM:-0700
TZOFFSETTO:-0600
TZNAME:America/Denver MDT
END:DAYLIGHT
BEGIN:DAYLIGHT
DTSTART:20340312T030000
RDATE:20341105T010000
TZOFFSETFROM:-0700
TZOFFSETTO:-0600
TZNAME:America/Denver MDT
END:DAYLIGHT
BEGIN:DAYLIGHT
DTSTART:20350311T030000
RDATE:20351104T010000
TZOFFSETFROM:-0700
TZOFFSETTO:-0600
TZNAME:America/Denver MDT
END:DAYLIGHT
BEGIN:DAYLIGHT
DTSTART:20360309T030000
RDATE:20361102T010000
TZOFFSETFROM:-0700
TZOFFSETTO:-0600
TZNAME:America/Denver MDT
END:DAYLIGHT
BEGIN:DAYLIGHT
DTSTART:20370308T030000
RDATE:20371101T010000
TZOFFSETFROM:-0700
TZOFFSETTO:-0600
TZNAME:America/Denver MDT
END:DAYLIGHT
END:VTIMEZONE
BEGIN:VEVENT
UID:611a001a9f4b3b53d5deb58a39c0c70c
CATEGORIES:LSDM
CREATED:20250508T163830
SUMMARY:Michael Pack - President, Palladium Pictures and former CEO of the U.S. Agency for Global Media
DESCRIPTION:Michael Pack is the President and CEO of Palladium Pictures LLC, as well a 
 producer, director, and executive producer for Palladium’s upcoming films.\
 nMichael is also President of Manifold Productions, Inc., an independent fi
 lm and television production company, which he founded in 1977. Through Man
 ifold Productions, he has written, directed, and produced numerous award-wi
 nning nationally broadcast documentaries as well as corporate and education
 al films.\nHis most recent film, Created Equal: Clarence Thomas in His Own 
 Words, a two-hour documentary, opened in movie theaters on January 31st, 20
 20 and was broadcast nationally via PBS on May 18th, 2020. The Washington P
 ost called it “a marvel of filmmaking,” and the Washington Examiner said it
  is “magnificent and necessary.” Also, upcoming, The Last 600 Meters, tells
  the story of the 2004 battles of Najaf and Fallujah, the two biggest battl
 es of the Iraq War.\nAdditiionally, Michael was CEO of the U.S. Agency for 
 Global Media (which supervises the Voice of America) at the end of the firs
 t Trump Administration and has some thoughts about the President’s eliminat
 ion of the agency:  (https://www.wsj.com/opinion/voice-of-america-is-broken
 -and-cant-be-reformed-media-policy-c4781fb0?st=Ldk6x2&amp;reflink=desktopwe
 bshare_permalink)https://www.wsj.com/opinion/voice-of-america-is-broken-and
 -cant-be-reformed-media-policy-c4781fb0?st=Ldk6x2&amp;reflink=desktopwebsha
 re_permalink.\nPaul Gigot interviews Michael Pack on The Making of “Get the
  Jew”: The Crown Heights Riot Revisited.”  https://www.wsj.com/podcasts/opi
 nion-potomac-watch/the-making-of-get-the-jew-the-crown-heights-riot-revisit
 ed/FF815A43-B2AE-4186-B62B-7C6798FC153A\nVictor Davis Hanson has a conversa
 tion with Michael Pack.  https://victorhanson.com/vdh-has-a-conversation-wi
 th-filmmaker-michael-l-pack/ (https://victorhanson.com/vdh-has-a-conversati
 on-with-filmmaker-michael-l-pack/)\nPaul Gigot interviews Michael Pack on “
 The Prime Minister vs. The Blob: Liz Truss’s 44 Days in Office.”  https://w
 ww.wsj.com/podcasts/opinion-potomac-watch/the-political-lessons-of-liz-trus
 ss-44-days-in-office/B41DE697-492E-45E1-B689-BECD15A95615\n
X-ALT-DESC;FMTTYPE=text/html:<p>Michael Pack is the President and CEO of Palladium Pictures LLC, as well
  a producer, director, and executive producer for Palladium’s upcoming film
 s.</p><p>Michael is also President of Manifold Productions, Inc., an indepe
 ndent film and television production company, which he founded in 1977. Thr
 ough Manifold Productions, he has written, directed, and produced numerous 
 award-winning nationally broadcast documentaries as well as corporate and e
 ducational films.</p><p>His most recent film,&nbsp;<em>Created Equal: Clare
 nce Thomas in His Own Words</em>, a two-hour documentary, opened in movie t
 heaters on January 31st, 2020 and was broadcast nationally via PBS on May 1
 8th, 2020.&nbsp;<em>The Washington Post</em>&nbsp;called it “a marvel of fi
 lmmaking,” and the&nbsp;<em>Washington Examiner</em>&nbsp;said it is “magni
 ficent and necessary.” Also, upcoming,&nbsp;<em>The Last 600 Meters</em>, t
 ells the story of the 2004 battles of Najaf and Fallujah, the two biggest b
 attles of the Iraq War.</p><p>Additiionally,&nbsp;Michael was CEO of the U.
 S. Agency for Global Media (which supervises the Voice of America) at the e
 nd of the first Trump Administration and has some thoughts about the Presid
 ent’s elimination of the agency:&nbsp;<a href="https://www.wsj.com/opinion/
 voice-of-america-is-broken-and-cant-be-reformed-media-policy-c4781fb0?st=Ld
 k6x2&amp;reflink=desktopwebshare_permalink"></a><a href="https://www.wsj.co
 m/opinion/voice-of-america-is-broken-and-cant-be-reformed-media-policy-c478
 1fb0?st=Ldk6x2&amp;reflink=desktopwebshare_permalink">https://www.wsj.com/o
 pinion/voice-of-america-is-broken-and-cant-be-reformed-media-policy-c4781fb
 0?st=Ldk6x2&amp;reflink=desktopwebshare_permalink</a>.</p><p>Paul Gigot int
 erviews Michael Pack on&nbsp;<em>The Making of “Get the Jew”: The Crown Hei
 ghts Riot Revisited</em>.” &nbsp;<a href="https://www.wsj.com/podcasts/opin
 ion-potomac-watch/the-making-of-get-the-jew-the-crown-heights-riot-revisite
 d/FF815A43-B2AE-4186-B62B-7C6798FC153A">https://www.wsj.com/podcasts/opinio
 n-potomac-watch/the-making-of-get-the-jew-the-crown-heights-riot-revisited/
 FF815A43-B2AE-4186-B62B-7C6798FC153A</a></p><p>Victor Davis Hanson has a co
 nversation with Michael Pack. &nbsp;<a href="https://victorhanson.com/vdh-h
 as-a-conversation-with-filmmaker-michael-l-pack/">https://victorhanson.com/
 vdh-has-a-conversation-with-filmmaker-michael-l-pack/</a></p><p>Paul Gigot 
 interviews Michael Pack on&nbsp;<em>“The Prime Minister vs. The Blob: Liz T
 russ’s 44 Days in Office.” &nbsp;<a href="https://www.wsj.com/podcasts/opin
 ion-potomac-watch/the-political-lessons-of-liz-trusss-44-days-in-office/B41
 DE697-492E-45E1-B689-BECD15A95615">https://www.wsj.com/podcasts/opinion-pot
 omac-watch/the-political-lessons-of-liz-trusss-44-days-in-office/B41DE697-4
 92E-45E1-B689-BECD15A95615</a></em></p>
DTSTAMP:20260420T194838
DTSTART;TZID=America/Denver:20250515T070000
DTEND;TZID=America/Denver:20250515T080000
SEQUENCE:0
TRANSP:OPAQUE
END:VEVENT
END:VCALENDAR