BEGIN:VCALENDAR
VERSION:2.0
PRODID:-//jEvents 2.0 for Joomla//EN
CALSCALE:GREGORIAN
METHOD:PUBLISH
BEGIN:VTIMEZONE
TZID:America/Denver
BEGIN:STANDARD
DTSTART:20241103T010000
RDATE:20250309T030000
TZOFFSETFROM:-0600
TZOFFSETTO:-0700
TZNAME:America/Denver MST
END:STANDARD
BEGIN:STANDARD
DTSTART:20251102T010000
RDATE:20260308T030000
TZOFFSETFROM:-0600
TZOFFSETTO:-0700
TZNAME:America/Denver MST
END:STANDARD
BEGIN:STANDARD
DTSTART:20261101T010000
RDATE:20270314T030000
TZOFFSETFROM:-0600
TZOFFSETTO:-0700
TZNAME:America/Denver MST
END:STANDARD
BEGIN:STANDARD
DTSTART:20271107T010000
RDATE:20280312T030000
TZOFFSETFROM:-0600
TZOFFSETTO:-0700
TZNAME:America/Denver MST
END:STANDARD
BEGIN:STANDARD
DTSTART:20281105T010000
RDATE:20290311T030000
TZOFFSETFROM:-0600
TZOFFSETTO:-0700
TZNAME:America/Denver MST
END:STANDARD
BEGIN:STANDARD
DTSTART:20291104T010000
RDATE:20300310T030000
TZOFFSETFROM:-0600
TZOFFSETTO:-0700
TZNAME:America/Denver MST
END:STANDARD
BEGIN:STANDARD
DTSTART:20301103T010000
RDATE:20310309T030000
TZOFFSETFROM:-0600
TZOFFSETTO:-0700
TZNAME:America/Denver MST
END:STANDARD
BEGIN:STANDARD
DTSTART:20311102T010000
RDATE:20320314T030000
TZOFFSETFROM:-0600
TZOFFSETTO:-0700
TZNAME:America/Denver MST
END:STANDARD
BEGIN:STANDARD
DTSTART:20321107T010000
RDATE:20330313T030000
TZOFFSETFROM:-0600
TZOFFSETTO:-0700
TZNAME:America/Denver MST
END:STANDARD
BEGIN:STANDARD
DTSTART:20331106T010000
RDATE:20340312T030000
TZOFFSETFROM:-0600
TZOFFSETTO:-0700
TZNAME:America/Denver MST
END:STANDARD
BEGIN:STANDARD
DTSTART:20341105T010000
RDATE:20350311T030000
TZOFFSETFROM:-0600
TZOFFSETTO:-0700
TZNAME:America/Denver MST
END:STANDARD
BEGIN:STANDARD
DTSTART:20351104T010000
RDATE:20360309T030000
TZOFFSETFROM:-0600
TZOFFSETTO:-0700
TZNAME:America/Denver MST
END:STANDARD
BEGIN:STANDARD
DTSTART:20361102T010000
RDATE:20370308T030000
TZOFFSETFROM:-0600
TZOFFSETTO:-0700
TZNAME:America/Denver MST
END:STANDARD
BEGIN:STANDARD
DTSTART:20371101T010000
TZOFFSETFROM:-0600
TZOFFSETTO:-0700
TZNAME:America/Denver MST
END:STANDARD
BEGIN:DAYLIGHT
DTSTART:20241020T070000
RDATE:20241103T010000
TZOFFSETFROM:-0700
TZOFFSETTO:-0600
TZNAME:America/Denver MDT
END:DAYLIGHT
BEGIN:DAYLIGHT
DTSTART:20250309T030000
RDATE:20251102T010000
TZOFFSETFROM:-0700
TZOFFSETTO:-0600
TZNAME:America/Denver MDT
END:DAYLIGHT
BEGIN:DAYLIGHT
DTSTART:20260308T030000
RDATE:20261101T010000
TZOFFSETFROM:-0700
TZOFFSETTO:-0600
TZNAME:America/Denver MDT
END:DAYLIGHT
BEGIN:DAYLIGHT
DTSTART:20270314T030000
RDATE:20271107T010000
TZOFFSETFROM:-0700
TZOFFSETTO:-0600
TZNAME:America/Denver MDT
END:DAYLIGHT
BEGIN:DAYLIGHT
DTSTART:20280312T030000
RDATE:20281105T010000
TZOFFSETFROM:-0700
TZOFFSETTO:-0600
TZNAME:America/Denver MDT
END:DAYLIGHT
BEGIN:DAYLIGHT
DTSTART:20290311T030000
RDATE:20291104T010000
TZOFFSETFROM:-0700
TZOFFSETTO:-0600
TZNAME:America/Denver MDT
END:DAYLIGHT
BEGIN:DAYLIGHT
DTSTART:20300310T030000
RDATE:20301103T010000
TZOFFSETFROM:-0700
TZOFFSETTO:-0600
TZNAME:America/Denver MDT
END:DAYLIGHT
BEGIN:DAYLIGHT
DTSTART:20310309T030000
RDATE:20311102T010000
TZOFFSETFROM:-0700
TZOFFSETTO:-0600
TZNAME:America/Denver MDT
END:DAYLIGHT
BEGIN:DAYLIGHT
DTSTART:20320314T030000
RDATE:20321107T010000
TZOFFSETFROM:-0700
TZOFFSETTO:-0600
TZNAME:America/Denver MDT
END:DAYLIGHT
BEGIN:DAYLIGHT
DTSTART:20330313T030000
RDATE:20331106T010000
TZOFFSETFROM:-0700
TZOFFSETTO:-0600
TZNAME:America/Denver MDT
END:DAYLIGHT
BEGIN:DAYLIGHT
DTSTART:20340312T030000
RDATE:20341105T010000
TZOFFSETFROM:-0700
TZOFFSETTO:-0600
TZNAME:America/Denver MDT
END:DAYLIGHT
BEGIN:DAYLIGHT
DTSTART:20350311T030000
RDATE:20351104T010000
TZOFFSETFROM:-0700
TZOFFSETTO:-0600
TZNAME:America/Denver MDT
END:DAYLIGHT
BEGIN:DAYLIGHT
DTSTART:20360309T030000
RDATE:20361102T010000
TZOFFSETFROM:-0700
TZOFFSETTO:-0600
TZNAME:America/Denver MDT
END:DAYLIGHT
BEGIN:DAYLIGHT
DTSTART:20370308T030000
RDATE:20371101T010000
TZOFFSETFROM:-0700
TZOFFSETTO:-0600
TZNAME:America/Denver MDT
END:DAYLIGHT
END:VTIMEZONE
BEGIN:VEVENT
UID:092be547338ecdeb9089a7100b1cfcea
CATEGORIES:LSDM
CREATED:20251018T120759
SUMMARY:John Johnson, Utah State Senator, District 3
DESCRIPTION:Utah State Senator John D. Johnson has gained national renown for his brill
 iant &amp; courageous work.\nSenator Johnson is well-known for his clear &a
 mp; fair-minded writing.\nHis latest leap into the merciless political cruc
 ible is what he calls the overreach by Judge Dianna Gibson related to Prop 
 4 Federal Redistricting.\nHe’s been vocal on this matter on Facebook:\n8/25
 /2025: www.facebook.com/johndjohnsonusu/posts/10234131354682903\n8/31/2025:
  www.facebook.com/johndjohnsonusu/posts/10234201571558281\nHe writes here i
 n the Deseret News:\nUtah judge’s congressional map ruling is not judicial 
 review, it is judicial overreach\nHere’s why Judge Gibson’s ruling must be 
 overturned\nwww.deseret.com/opinion/2025/08/26/utah-redistricting-judicial-
 oversight (http://www.deseret.com/opinion/2025/08/26/utah-redistricting-jud
 icial-oversight)\n8/26/2025\nJoin us live on Zoom to hear Senator Johnson f
 or yourself as well as for our usual Q-&amp;-A.\n
X-ALT-DESC;FMTTYPE=text/html:<p><strong>Utah State Senator John D. Johnson</strong>&nbsp;has gained nati
 onal renown for his brilliant &amp; courageous work.</p><p>Senator Johnson 
 is well-known for his clear &amp; fair-minded writing.</p><p>His latest lea
 p into the merciless political crucible is what he calls the overreach by J
 udge Dianna Gibson related to Prop 4 Federal Redistricting.</p><p>He’s been
  vocal on this matter on Facebook:</p><p>8/25/2025:&nbsp;<a href="http://ww
 w.facebook.com/johndjohnsonusu/posts/10234131354682903">www.facebook.com/jo
 hndjohnsonusu/posts/10234131354682903</a></p><p>8/31/2025:&nbsp;<a href="ht
 tp://www.facebook.com/johndjohnsonusu/posts/10234201571558281">www.facebook
 .com/johndjohnsonusu/posts/10234201571558281</a></p><p>He writes here in th
 e Deseret News:</p><p>Utah judge’s congressional map ruling is not judicial
  review, it is judicial overreach</p><p>Here’s why Judge Gibson’s ruling mu
 st be overturned</p><p><a href="http://www.deseret.com/opinion/2025/08/26/u
 tah-redistricting-judicial-oversight">www.deseret.com/opinion/2025/08/26/ut
 ah-redistricting-judicial-oversight</a></p><p>8/26/2025</p><p>Join us live 
 on Zoom to hear Senator Johnson for yourself as well as for our usual Q-&am
 p;-A.</p>
DTSTAMP:20260421T032309
DTSTART;TZID=America/Denver:20251021T070000
DTEND;TZID=America/Denver:20251021T080000
SEQUENCE:0
TRANSP:OPAQUE
END:VEVENT
END:VCALENDAR