BEGIN:VCALENDAR
VERSION:2.0
PRODID:-//jEvents 2.0 for Joomla//EN
CALSCALE:GREGORIAN
METHOD:PUBLISH
BEGIN:VTIMEZONE
TZID:America/Denver
BEGIN:STANDARD
DTSTART:20180115T070000
RDATE:20180311T030000
TZOFFSETFROM:-0600
TZOFFSETTO:-0700
TZNAME:America/Denver MST
END:STANDARD
BEGIN:STANDARD
DTSTART:20181104T010000
RDATE:20190310T030000
TZOFFSETFROM:-0600
TZOFFSETTO:-0700
TZNAME:America/Denver MST
END:STANDARD
BEGIN:STANDARD
DTSTART:20191103T010000
RDATE:20200308T030000
TZOFFSETFROM:-0600
TZOFFSETTO:-0700
TZNAME:America/Denver MST
END:STANDARD
BEGIN:STANDARD
DTSTART:20201101T010000
RDATE:20210314T030000
TZOFFSETFROM:-0600
TZOFFSETTO:-0700
TZNAME:America/Denver MST
END:STANDARD
BEGIN:STANDARD
DTSTART:20211107T010000
RDATE:20220313T030000
TZOFFSETFROM:-0600
TZOFFSETTO:-0700
TZNAME:America/Denver MST
END:STANDARD
BEGIN:STANDARD
DTSTART:20221106T010000
RDATE:20230312T030000
TZOFFSETFROM:-0600
TZOFFSETTO:-0700
TZNAME:America/Denver MST
END:STANDARD
BEGIN:STANDARD
DTSTART:20231105T010000
RDATE:20240310T030000
TZOFFSETFROM:-0600
TZOFFSETTO:-0700
TZNAME:America/Denver MST
END:STANDARD
BEGIN:STANDARD
DTSTART:20241103T010000
RDATE:20250309T030000
TZOFFSETFROM:-0600
TZOFFSETTO:-0700
TZNAME:America/Denver MST
END:STANDARD
BEGIN:STANDARD
DTSTART:20251102T010000
RDATE:20260308T030000
TZOFFSETFROM:-0600
TZOFFSETTO:-0700
TZNAME:America/Denver MST
END:STANDARD
BEGIN:STANDARD
DTSTART:20261101T010000
RDATE:20270314T030000
TZOFFSETFROM:-0600
TZOFFSETTO:-0700
TZNAME:America/Denver MST
END:STANDARD
BEGIN:STANDARD
DTSTART:20271107T010000
RDATE:20280312T030000
TZOFFSETFROM:-0600
TZOFFSETTO:-0700
TZNAME:America/Denver MST
END:STANDARD
BEGIN:STANDARD
DTSTART:20281105T010000
RDATE:20290311T030000
TZOFFSETFROM:-0600
TZOFFSETTO:-0700
TZNAME:America/Denver MST
END:STANDARD
BEGIN:STANDARD
DTSTART:20291104T010000
RDATE:20300310T030000
TZOFFSETFROM:-0600
TZOFFSETTO:-0700
TZNAME:America/Denver MST
END:STANDARD
BEGIN:STANDARD
DTSTART:20301103T010000
RDATE:20310309T030000
TZOFFSETFROM:-0600
TZOFFSETTO:-0700
TZNAME:America/Denver MST
END:STANDARD
BEGIN:STANDARD
DTSTART:20311102T010000
RDATE:20320314T030000
TZOFFSETFROM:-0600
TZOFFSETTO:-0700
TZNAME:America/Denver MST
END:STANDARD
BEGIN:STANDARD
DTSTART:20321107T010000
RDATE:20330313T030000
TZOFFSETFROM:-0600
TZOFFSETTO:-0700
TZNAME:America/Denver MST
END:STANDARD
BEGIN:STANDARD
DTSTART:20331106T010000
RDATE:20340312T030000
TZOFFSETFROM:-0600
TZOFFSETTO:-0700
TZNAME:America/Denver MST
END:STANDARD
BEGIN:STANDARD
DTSTART:20341105T010000
RDATE:20350311T030000
TZOFFSETFROM:-0600
TZOFFSETTO:-0700
TZNAME:America/Denver MST
END:STANDARD
BEGIN:STANDARD
DTSTART:20351104T010000
RDATE:20360309T030000
TZOFFSETFROM:-0600
TZOFFSETTO:-0700
TZNAME:America/Denver MST
END:STANDARD
BEGIN:STANDARD
DTSTART:20361102T010000
RDATE:20370308T030000
TZOFFSETFROM:-0600
TZOFFSETTO:-0700
TZNAME:America/Denver MST
END:STANDARD
BEGIN:STANDARD
DTSTART:20371101T010000
TZOFFSETFROM:-0600
TZOFFSETTO:-0700
TZNAME:America/Denver MST
END:STANDARD
BEGIN:DAYLIGHT
DTSTART:20180311T030000
RDATE:20181104T010000
TZOFFSETFROM:-0700
TZOFFSETTO:-0600
TZNAME:America/Denver MDT
END:DAYLIGHT
BEGIN:DAYLIGHT
DTSTART:20190310T030000
RDATE:20191103T010000
TZOFFSETFROM:-0700
TZOFFSETTO:-0600
TZNAME:America/Denver MDT
END:DAYLIGHT
BEGIN:DAYLIGHT
DTSTART:20200308T030000
RDATE:20201101T010000
TZOFFSETFROM:-0700
TZOFFSETTO:-0600
TZNAME:America/Denver MDT
END:DAYLIGHT
BEGIN:DAYLIGHT
DTSTART:20210314T030000
RDATE:20211107T010000
TZOFFSETFROM:-0700
TZOFFSETTO:-0600
TZNAME:America/Denver MDT
END:DAYLIGHT
BEGIN:DAYLIGHT
DTSTART:20220313T030000
RDATE:20221106T010000
TZOFFSETFROM:-0700
TZOFFSETTO:-0600
TZNAME:America/Denver MDT
END:DAYLIGHT
BEGIN:DAYLIGHT
DTSTART:20230312T030000
RDATE:20231105T010000
TZOFFSETFROM:-0700
TZOFFSETTO:-0600
TZNAME:America/Denver MDT
END:DAYLIGHT
BEGIN:DAYLIGHT
DTSTART:20240310T030000
RDATE:20241103T010000
TZOFFSETFROM:-0700
TZOFFSETTO:-0600
TZNAME:America/Denver MDT
END:DAYLIGHT
BEGIN:DAYLIGHT
DTSTART:20250309T030000
RDATE:20251102T010000
TZOFFSETFROM:-0700
TZOFFSETTO:-0600
TZNAME:America/Denver MDT
END:DAYLIGHT
BEGIN:DAYLIGHT
DTSTART:20260308T030000
RDATE:20261101T010000
TZOFFSETFROM:-0700
TZOFFSETTO:-0600
TZNAME:America/Denver MDT
END:DAYLIGHT
BEGIN:DAYLIGHT
DTSTART:20270314T030000
RDATE:20271107T010000
TZOFFSETFROM:-0700
TZOFFSETTO:-0600
TZNAME:America/Denver MDT
END:DAYLIGHT
BEGIN:DAYLIGHT
DTSTART:20280312T030000
RDATE:20281105T010000
TZOFFSETFROM:-0700
TZOFFSETTO:-0600
TZNAME:America/Denver MDT
END:DAYLIGHT
BEGIN:DAYLIGHT
DTSTART:20290311T030000
RDATE:20291104T010000
TZOFFSETFROM:-0700
TZOFFSETTO:-0600
TZNAME:America/Denver MDT
END:DAYLIGHT
BEGIN:DAYLIGHT
DTSTART:20300310T030000
RDATE:20301103T010000
TZOFFSETFROM:-0700
TZOFFSETTO:-0600
TZNAME:America/Denver MDT
END:DAYLIGHT
BEGIN:DAYLIGHT
DTSTART:20310309T030000
RDATE:20311102T010000
TZOFFSETFROM:-0700
TZOFFSETTO:-0600
TZNAME:America/Denver MDT
END:DAYLIGHT
BEGIN:DAYLIGHT
DTSTART:20320314T030000
RDATE:20321107T010000
TZOFFSETFROM:-0700
TZOFFSETTO:-0600
TZNAME:America/Denver MDT
END:DAYLIGHT
BEGIN:DAYLIGHT
DTSTART:20330313T030000
RDATE:20331106T010000
TZOFFSETFROM:-0700
TZOFFSETTO:-0600
TZNAME:America/Denver MDT
END:DAYLIGHT
BEGIN:DAYLIGHT
DTSTART:20340312T030000
RDATE:20341105T010000
TZOFFSETFROM:-0700
TZOFFSETTO:-0600
TZNAME:America/Denver MDT
END:DAYLIGHT
BEGIN:DAYLIGHT
DTSTART:20350311T030000
RDATE:20351104T010000
TZOFFSETFROM:-0700
TZOFFSETTO:-0600
TZNAME:America/Denver MDT
END:DAYLIGHT
BEGIN:DAYLIGHT
DTSTART:20360309T030000
RDATE:20361102T010000
TZOFFSETFROM:-0700
TZOFFSETTO:-0600
TZNAME:America/Denver MDT
END:DAYLIGHT
BEGIN:DAYLIGHT
DTSTART:20370308T030000
RDATE:20371101T010000
TZOFFSETFROM:-0700
TZOFFSETTO:-0600
TZNAME:America/Denver MDT
END:DAYLIGHT
END:VTIMEZONE
BEGIN:VEVENT
UID:a05ad1820bb9046de6a6e360d0c40bb7
CATEGORIES:LSDM
CREATED:20190109T060055
SUMMARY:Paul Wynn
DESCRIPTION:	 \n	 \n	Paul Wynn recently retired after more than 35 years in finance, pr
 edominantly in investment management.\n	For nearly 20 years Paul headed Wes
 tern Asset’s global inflation-linked strategy and led the growth of the UK 
 pension business. A member of the firm’s Strategy Committee since 2003, at 
 its peak, he was responsible for over $20bn of client funds.\n	Paul’s passi
 ons are spread between Bonds (of the fixed income and 007 varieties), and s
 occer. He is a fervent fan of Chelsea and a season ticket holder at his hom
 etown of Swindon.\n	 \n
X-ALT-DESC;FMTTYPE=text/html:<p>	&nbsp;</p><p>	&nbsp;</p><p class="aolmail_p1" style="background-color: 
 transparent; box-sizing: content-box; color: rgb(0, 0, 0); font-family: Hel
 vetica,Arial,sans-serif; font-size: 13.33px; font-style: normal; font-varia
 nt: normal; font-weight: 400; letter-spacing: normal; margin-bottom: 20px; 
 margin-left: 0px; margin-right: 0px; margin-top: 0px; orphans: 2; padding-b
 ottom: 0px; padding-left: 0px; padding-right: 0px; padding-top: 0px; text-a
 lign: left; text-decoration: none; text-indent: 0px; text-transform: none; 
 -webkit-text-stroke-width: 0px; white-space: normal; word-spacing: 0px;">	<
 span class="aolmail_s1" style="background-color: rgba(255, 255, 255, 0); bo
 x-sizing: content-box;">Paul Wynn recently retired after more than 35 years
  in finance, predominantly in investment management.</span></p><p class="ao
 lmail_p1" style="background-color: transparent; box-sizing: content-box; co
 lor: rgb(0, 0, 0); font-family: Helvetica,Arial,sans-serif; font-size: 13.3
 3px; font-style: normal; font-variant: normal; font-weight: 400; letter-spa
 cing: normal; margin-bottom: 20px; margin-left: 0px; margin-right: 0px; mar
 gin-top: 0px; orphans: 2; padding-bottom: 0px; padding-left: 0px; padding-r
 ight: 0px; padding-top: 0px; text-align: left; text-decoration: none; text-
 indent: 0px; text-transform: none; -webkit-text-stroke-width: 0px; white-sp
 ace: normal; word-spacing: 0px;">	<span class="aolmail_s1" style="backgroun
 d-color: rgba(255, 255, 255, 0); box-sizing: content-box;">For nearly 20 ye
 ars Paul headed Western Asset&rsquo;s global inflation-linked strategy and 
 led the growth of the UK pension business. A member of the firm&rsquo;s Str
 ategy Committee since 2003, at its peak, he was responsible for over $20bn 
 of client funds.</span></p><p class="aolmail_p1" style="background-color: t
 ransparent; box-sizing: content-box; color: rgb(0, 0, 0); font-family: Helv
 etica,Arial,sans-serif; font-size: 13.33px; font-style: normal; font-varian
 t: normal; font-weight: 400; letter-spacing: normal; margin-bottom: 20px; m
 argin-left: 0px; margin-right: 0px; margin-top: 0px; orphans: 2; padding-bo
 ttom: 0px; padding-left: 0px; padding-right: 0px; padding-top: 0px; text-al
 ign: left; text-decoration: none; text-indent: 0px; text-transform: none; -
 webkit-text-stroke-width: 0px; white-space: normal; word-spacing: 0px;">	<s
 pan class="aolmail_s1" style="background-color: rgba(255, 255, 255, 0); box
 -sizing: content-box;">Paul&rsquo;s passions are spread between Bonds (of t
 he fixed income and 007 varieties), and soccer. He is a fervent fan of Chel
 sea and a season ticket holder at his hometown of Swindon.</span></p><p>	&n
 bsp;</p>
DTSTAMP:20260421T163613
DTSTART;TZID=America/Denver:20190116T070000
DTEND;TZID=America/Denver:20190116T080000
SEQUENCE:0
TRANSP:OPAQUE
END:VEVENT
END:VCALENDAR