BEGIN:VCALENDAR
VERSION:2.0
PRODID:-//jEvents 2.0 for Joomla//EN
CALSCALE:GREGORIAN
METHOD:PUBLISH
BEGIN:VTIMEZONE
TZID:America/Denver
BEGIN:STANDARD
DTSTART:20191103T010000
RDATE:20200308T030000
TZOFFSETFROM:-0600
TZOFFSETTO:-0700
TZNAME:America/Denver MST
END:STANDARD
BEGIN:STANDARD
DTSTART:20201101T010000
RDATE:20210314T030000
TZOFFSETFROM:-0600
TZOFFSETTO:-0700
TZNAME:America/Denver MST
END:STANDARD
BEGIN:STANDARD
DTSTART:20211107T010000
RDATE:20220313T030000
TZOFFSETFROM:-0600
TZOFFSETTO:-0700
TZNAME:America/Denver MST
END:STANDARD
BEGIN:STANDARD
DTSTART:20221106T010000
RDATE:20230312T030000
TZOFFSETFROM:-0600
TZOFFSETTO:-0700
TZNAME:America/Denver MST
END:STANDARD
BEGIN:STANDARD
DTSTART:20231105T010000
RDATE:20240310T030000
TZOFFSETFROM:-0600
TZOFFSETTO:-0700
TZNAME:America/Denver MST
END:STANDARD
BEGIN:STANDARD
DTSTART:20241103T010000
RDATE:20250309T030000
TZOFFSETFROM:-0600
TZOFFSETTO:-0700
TZNAME:America/Denver MST
END:STANDARD
BEGIN:STANDARD
DTSTART:20251102T010000
RDATE:20260308T030000
TZOFFSETFROM:-0600
TZOFFSETTO:-0700
TZNAME:America/Denver MST
END:STANDARD
BEGIN:STANDARD
DTSTART:20261101T010000
RDATE:20270314T030000
TZOFFSETFROM:-0600
TZOFFSETTO:-0700
TZNAME:America/Denver MST
END:STANDARD
BEGIN:STANDARD
DTSTART:20271107T010000
RDATE:20280312T030000
TZOFFSETFROM:-0600
TZOFFSETTO:-0700
TZNAME:America/Denver MST
END:STANDARD
BEGIN:STANDARD
DTSTART:20281105T010000
RDATE:20290311T030000
TZOFFSETFROM:-0600
TZOFFSETTO:-0700
TZNAME:America/Denver MST
END:STANDARD
BEGIN:STANDARD
DTSTART:20291104T010000
RDATE:20300310T030000
TZOFFSETFROM:-0600
TZOFFSETTO:-0700
TZNAME:America/Denver MST
END:STANDARD
BEGIN:STANDARD
DTSTART:20301103T010000
RDATE:20310309T030000
TZOFFSETFROM:-0600
TZOFFSETTO:-0700
TZNAME:America/Denver MST
END:STANDARD
BEGIN:STANDARD
DTSTART:20311102T010000
RDATE:20320314T030000
TZOFFSETFROM:-0600
TZOFFSETTO:-0700
TZNAME:America/Denver MST
END:STANDARD
BEGIN:STANDARD
DTSTART:20321107T010000
RDATE:20330313T030000
TZOFFSETFROM:-0600
TZOFFSETTO:-0700
TZNAME:America/Denver MST
END:STANDARD
BEGIN:STANDARD
DTSTART:20331106T010000
RDATE:20340312T030000
TZOFFSETFROM:-0600
TZOFFSETTO:-0700
TZNAME:America/Denver MST
END:STANDARD
BEGIN:STANDARD
DTSTART:20341105T010000
RDATE:20350311T030000
TZOFFSETFROM:-0600
TZOFFSETTO:-0700
TZNAME:America/Denver MST
END:STANDARD
BEGIN:STANDARD
DTSTART:20351104T010000
RDATE:20360309T030000
TZOFFSETFROM:-0600
TZOFFSETTO:-0700
TZNAME:America/Denver MST
END:STANDARD
BEGIN:STANDARD
DTSTART:20361102T010000
RDATE:20370308T030000
TZOFFSETFROM:-0600
TZOFFSETTO:-0700
TZNAME:America/Denver MST
END:STANDARD
BEGIN:STANDARD
DTSTART:20371101T010000
TZOFFSETFROM:-0600
TZOFFSETTO:-0700
TZNAME:America/Denver MST
END:STANDARD
BEGIN:DAYLIGHT
DTSTART:20190410T070000
RDATE:20191103T010000
TZOFFSETFROM:-0700
TZOFFSETTO:-0600
TZNAME:America/Denver MDT
END:DAYLIGHT
BEGIN:DAYLIGHT
DTSTART:20200308T030000
RDATE:20201101T010000
TZOFFSETFROM:-0700
TZOFFSETTO:-0600
TZNAME:America/Denver MDT
END:DAYLIGHT
BEGIN:DAYLIGHT
DTSTART:20210314T030000
RDATE:20211107T010000
TZOFFSETFROM:-0700
TZOFFSETTO:-0600
TZNAME:America/Denver MDT
END:DAYLIGHT
BEGIN:DAYLIGHT
DTSTART:20220313T030000
RDATE:20221106T010000
TZOFFSETFROM:-0700
TZOFFSETTO:-0600
TZNAME:America/Denver MDT
END:DAYLIGHT
BEGIN:DAYLIGHT
DTSTART:20230312T030000
RDATE:20231105T010000
TZOFFSETFROM:-0700
TZOFFSETTO:-0600
TZNAME:America/Denver MDT
END:DAYLIGHT
BEGIN:DAYLIGHT
DTSTART:20240310T030000
RDATE:20241103T010000
TZOFFSETFROM:-0700
TZOFFSETTO:-0600
TZNAME:America/Denver MDT
END:DAYLIGHT
BEGIN:DAYLIGHT
DTSTART:20250309T030000
RDATE:20251102T010000
TZOFFSETFROM:-0700
TZOFFSETTO:-0600
TZNAME:America/Denver MDT
END:DAYLIGHT
BEGIN:DAYLIGHT
DTSTART:20260308T030000
RDATE:20261101T010000
TZOFFSETFROM:-0700
TZOFFSETTO:-0600
TZNAME:America/Denver MDT
END:DAYLIGHT
BEGIN:DAYLIGHT
DTSTART:20270314T030000
RDATE:20271107T010000
TZOFFSETFROM:-0700
TZOFFSETTO:-0600
TZNAME:America/Denver MDT
END:DAYLIGHT
BEGIN:DAYLIGHT
DTSTART:20280312T030000
RDATE:20281105T010000
TZOFFSETFROM:-0700
TZOFFSETTO:-0600
TZNAME:America/Denver MDT
END:DAYLIGHT
BEGIN:DAYLIGHT
DTSTART:20290311T030000
RDATE:20291104T010000
TZOFFSETFROM:-0700
TZOFFSETTO:-0600
TZNAME:America/Denver MDT
END:DAYLIGHT
BEGIN:DAYLIGHT
DTSTART:20300310T030000
RDATE:20301103T010000
TZOFFSETFROM:-0700
TZOFFSETTO:-0600
TZNAME:America/Denver MDT
END:DAYLIGHT
BEGIN:DAYLIGHT
DTSTART:20310309T030000
RDATE:20311102T010000
TZOFFSETFROM:-0700
TZOFFSETTO:-0600
TZNAME:America/Denver MDT
END:DAYLIGHT
BEGIN:DAYLIGHT
DTSTART:20320314T030000
RDATE:20321107T010000
TZOFFSETFROM:-0700
TZOFFSETTO:-0600
TZNAME:America/Denver MDT
END:DAYLIGHT
BEGIN:DAYLIGHT
DTSTART:20330313T030000
RDATE:20331106T010000
TZOFFSETFROM:-0700
TZOFFSETTO:-0600
TZNAME:America/Denver MDT
END:DAYLIGHT
BEGIN:DAYLIGHT
DTSTART:20340312T030000
RDATE:20341105T010000
TZOFFSETFROM:-0700
TZOFFSETTO:-0600
TZNAME:America/Denver MDT
END:DAYLIGHT
BEGIN:DAYLIGHT
DTSTART:20350311T030000
RDATE:20351104T010000
TZOFFSETFROM:-0700
TZOFFSETTO:-0600
TZNAME:America/Denver MDT
END:DAYLIGHT
BEGIN:DAYLIGHT
DTSTART:20360309T030000
RDATE:20361102T010000
TZOFFSETFROM:-0700
TZOFFSETTO:-0600
TZNAME:America/Denver MDT
END:DAYLIGHT
BEGIN:DAYLIGHT
DTSTART:20370308T030000
RDATE:20371101T010000
TZOFFSETFROM:-0700
TZOFFSETTO:-0600
TZNAME:America/Denver MDT
END:DAYLIGHT
END:VTIMEZONE
BEGIN:VEVENT
UID:71e12e2edd0d164d44ab903b189c0869
CATEGORIES:LSDM
CREATED:20200403T150801
SUMMARY:James (Jimmy) Anderson
DESCRIPTION:	 \n	Friday, April 10, 2020	 \n	 	James (Jimmy) W. Anderson	Shareholder	Cly
 de Snow &amp; Sessions	 										Mr. Anderson’s law practice spans all are
 as of business and commercial law, including bankruptcy, creditor’s rights,
  and workouts, litigation, entity formation, tax planning, and general busi
 ness and commercial transactions.  Link to bio: https://www.clydesnow.com/a
 ttorneys/39-James-W-Anderson (https://www.clydesnow.com/attorneys/39-James-
 W-Anderson)				 	He will speak in particular about the two loan packages in
  the recently enacted CARES Act.  These loan packages are the Paycheck Prot
 ection Program and Economic Impact Disaster Loans.		 	 	 			 	 \n	 \n
X-ALT-DESC;FMTTYPE=text/html:<p>	&nbsp;</p><p>	<span style="color: rgb(0, 0, 0); font-family: Arial,Helv
 etica,sans-serif; font-size: 13.33px; font-style: normal; font-variant: nor
 mal; font-weight: bold; letter-spacing: normal; orphans: 2; text-align: lef
 t; text-decoration: none; text-indent: 0px; text-transform: none; -webkit-t
 ext-stroke-width: 0px; white-space: normal; word-spacing: 0px;"><font size=
 "3" style="font-family: arial,helvetica,clean,sans-serif;">Friday, April 10
 , 2020<br style="font-family: arial,helvetica,clean,sans-serif;" />	</font>
 </span><span style="display: inline !important; float: none; background-col
 or: rgb(255, 255, 255); color: rgb(0, 0, 0); font-family: arial,helvetica,c
 lean,sans-serif; font-size: 13.33px; font-style: normal; font-variant: norm
 al; font-weight: 400; letter-spacing: normal; orphans: 2; text-align: left;
  text-decoration: none; text-indent: 0px; text-transform: none; -webkit-tex
 t-stroke-width: 0px; white-space: normal; word-spacing: 0px;"> </span></p><
 div style="color: rgb(0, 0, 0); font-family: arial,helvetica,clean,sans-ser
 if; font-size: 13.33px; font-style: normal; font-variant: normal; font-weig
 ht: 400; letter-spacing: normal; margin-bottom: 0px; margin-left: 0px; marg
 in-right: 0px; margin-top: 0px; orphans: 2; padding-bottom: 0px; padding-le
 ft: 0px; padding-right: 0px; padding-top: 0px; text-align: left; text-decor
 ation: none; text-indent: 0px; text-transform: none; -webkit-text-stroke-wi
 dth: 0px; white-space: normal; word-spacing: 0px;">	&nbsp;</div><div style=
 "color: rgb(0, 0, 0); font-family: arial,helvetica,clean,sans-serif; font-s
 ize: 13.33px; font-style: normal; font-variant: normal; font-weight: 400; l
 etter-spacing: normal; margin-bottom: 0px; margin-left: 0px; margin-right: 
 0px; margin-top: 0px; orphans: 2; padding-bottom: 0px; padding-left: 0px; p
 adding-right: 0px; padding-top: 0px; text-align: left; text-decoration: non
 e; text-indent: 0px; text-transform: none; -webkit-text-stroke-width: 0px; 
 white-space: normal; word-spacing: 0px;">	<span style="font-family: Arial,H
 elvetica,sans-serif; font-weight: bold;"><font size="3" style="font-family:
  arial,helvetica,clean,sans-serif;">James (Jimmy) W. Anderson</font></span>
 </div><div style="color: rgb(0, 0, 0); font-family: arial,helvetica,clean,s
 ans-serif; font-size: 13.33px; font-style: normal; font-variant: normal; fo
 nt-weight: 400; letter-spacing: normal; margin-bottom: 0px; margin-left: 0p
 x; margin-right: 0px; margin-top: 0px; orphans: 2; padding-bottom: 0px; pad
 ding-left: 0px; padding-right: 0px; padding-top: 0px; text-align: left; tex
 t-decoration: none; text-indent: 0px; text-transform: none; -webkit-text-st
 roke-width: 0px; white-space: normal; word-spacing: 0px;">	<span style="fon
 t-family: Arial,Helvetica,sans-serif; font-weight: bold;"><font size="3" st
 yle="font-family: arial,helvetica,clean,sans-serif;">Shareholder</font></sp
 an></div><div style="color: rgb(0, 0, 0); font-family: arial,helvetica,clea
 n,sans-serif; font-size: 13.33px; font-style: normal; font-variant: normal;
  font-weight: 400; letter-spacing: normal; margin-bottom: 0px; margin-left:
  0px; margin-right: 0px; margin-top: 0px; orphans: 2; padding-bottom: 0px; 
 padding-left: 0px; padding-right: 0px; padding-top: 0px; text-align: left; 
 text-decoration: none; text-indent: 0px; text-transform: none; -webkit-text
 -stroke-width: 0px; white-space: normal; word-spacing: 0px;">	<span style="
 font-family: Arial,Helvetica,sans-serif; font-weight: bold;"><font size="3"
  style="font-family: arial,helvetica,clean,sans-serif;">Clyde Snow &amp; Se
 ssions</font></span></div><div style="color: rgb(0, 0, 0); font-family: ari
 al,helvetica,clean,sans-serif; font-size: 13.33px; font-style: normal; font
 -variant: normal; font-weight: 400; letter-spacing: normal; margin-bottom: 
 0px; margin-left: 0px; margin-right: 0px; margin-top: 0px; orphans: 2; padd
 ing-bottom: 0px; padding-left: 0px; padding-right: 0px; padding-top: 0px; t
 ext-align: left; text-decoration: none; text-indent: 0px; text-transform: n
 one; -webkit-text-stroke-width: 0px; white-space: normal; word-spacing: 0px
 ;">	&nbsp;</div><div style="color: rgb(0, 0, 0); font-family: arial,helveti
 ca,clean,sans-serif; font-size: 13.33px; font-style: normal; font-variant: 
 normal; font-weight: 400; letter-spacing: normal; margin-bottom: 0px; margi
 n-left: 0px; margin-right: 0px; margin-top: 0px; orphans: 2; padding-bottom
 : 0px; padding-left: 0px; padding-right: 0px; padding-top: 0px; text-align:
  left; text-decoration: none; text-indent: 0px; text-transform: none; -webk
 it-text-stroke-width: 0px; white-space: normal; word-spacing: 0px;">	<div c
 lass="yiv3412450843section" style="background-attachment: scroll; backgroun
 d-clip: border-box; background-color: rgb(255, 255, 255); background-image:
  none; background-origin: padding-box; background-position-x: 0%; backgroun
 d-position-y: 0%; background-repeat: repeat; background-size: auto; color: 
 rgb(11, 11, 11); font-family: arial,helvetica,clean,sans-serif; line-height
 : 30px; margin-bottom: 0px; margin-left: 0px; margin-right: 0px; margin-top
 : 0px; padding-bottom: 0px; padding-left: 0px; padding-right: 0px; padding-
 top: 0px;">		<div class="yiv3412450843section-content" style="background-at
 tachment: scroll; background-clip: border-box; background-color: transparen
 t; background-image: none; background-origin: padding-box; background-posit
 ion-x: 0%; background-position-y: 0%; background-repeat: repeat; background
 -size: auto; font-family: arial,helvetica,clean,sans-serif; line-height: 30
 px; margin-bottom: 0px; margin-left: 0px; margin-right: 0px; margin-top: 0p
 x; padding-bottom: 0px; padding-left: 0px; padding-right: 0px; padding-top:
  0px;">			<div style="background-attachment: scroll; background-clip: borde
 r-box; background-color: transparent; background-image: none; background-or
 igin: padding-box; background-position-x: 0%; background-position-y: 0%; ba
 ckground-repeat: repeat; background-size: auto; font-family: arial,helvetic
 a,clean,sans-serif; line-height: 30px; margin-bottom: 10px; margin-left: 0p
 x; margin-right: 0px; margin-top: 0px; padding-bottom: 0px; padding-left: 0
 px; padding-right: 0px; padding-top: 0px;">				<span style="font-family: Ar
 ial,Helvetica,sans-serif; font-weight: bold;"><font size="3" style="font-fa
 mily: arial,helvetica,clean,sans-serif;">Mr. Anderson&rsquo;s law practice 
 spans all areas of business and commercial law, including bankruptcy, credi
 tor&rsquo;s rights, and workouts, litigation, entity formation, tax plannin
 g, and general business and commercial transactions.&nbsp;&nbsp;</font></sp
 an><span style="background-color: transparent; color: black; font-family: A
 rial,Helvetica,sans-serif; font-size: medium; font-weight: bold;">Link to b
 io:&nbsp;</span><a href="https://www.clydesnow.com/attorneys/39-James-W-And
 erson" rel="noopener noreferrer" style="background-color: transparent; curs
 or: pointer; font-family: Arial,Helvetica,sans-serif; font-size: medium; fo
 nt-weight: bold;" target="_blank">https://www.clydesnow.com/attorneys/39-Ja
 mes-W-Anderson</a></div>		</div>	</div></div><div style="color: rgb(0, 0, 0
 ); font-family: arial,helvetica,clean,sans-serif; font-size: 13.33px; font-
 style: normal; font-variant: normal; font-weight: 400; letter-spacing: norm
 al; margin-bottom: 0px; margin-left: 0px; margin-right: 0px; margin-top: 0p
 x; orphans: 2; padding-bottom: 0px; padding-left: 0px; padding-right: 0px; 
 padding-top: 0px; text-align: left; text-decoration: none; text-indent: 0px
 ; text-transform: none; -webkit-text-stroke-width: 0px; white-space: normal
 ; word-spacing: 0px;">	&nbsp;</div><div style="color: rgb(0, 0, 0); font-fa
 mily: arial,helvetica,clean,sans-serif; font-size: 13.33px; font-style: nor
 mal; font-variant: normal; font-weight: 400; letter-spacing: normal; margin
 -bottom: 0px; margin-left: 0px; margin-right: 0px; margin-top: 0px; orphans
 : 2; padding-bottom: 0px; padding-left: 0px; padding-right: 0px; padding-to
 p: 0px; text-align: left; text-decoration: none; text-indent: 0px; text-tra
 nsform: none; -webkit-text-stroke-width: 0px; white-space: normal; word-spa
 cing: 0px;">	<span style="font-family: arial,helvetica,clean,sans-serif;"><
 span style="background-color: rgb(255, 255, 255); color: rgb(11, 11, 11); f
 ont-family: Arial,Helvetica,sans-serif; font-weight: bold;"><font size="3" 
 style="font-family: arial,helvetica,clean,sans-serif;">He will speak in par
 ticular about the two loan packages in the recently enacted CARES Act.&nbsp
 ; These loan packages are the Paycheck Protection Program and Economic Impa
 ct Disaster Loans.</font></span><br style="font-family: arial,helvetica,cle
 an,sans-serif;" />	</span></div><div style="color: rgb(0, 0, 0); font-famil
 y: arial,helvetica,clean,sans-serif; font-size: 13.33px; font-style: normal
 ; font-variant: normal; font-weight: 400; letter-spacing: normal; margin-bo
 ttom: 0px; margin-left: 0px; margin-right: 0px; margin-top: 0px; orphans: 2
 ; padding-bottom: 0px; padding-left: 0px; padding-right: 0px; padding-top: 
 0px; text-align: left; text-decoration: none; text-indent: 0px; text-transf
 orm: none; -webkit-text-stroke-width: 0px; white-space: normal; word-spacin
 g: 0px;">	&nbsp;</div><div style="color: rgb(0, 0, 0); font-family: arial,h
 elvetica,clean,sans-serif; font-size: 13.33px; font-style: normal; font-var
 iant: normal; font-weight: 400; letter-spacing: normal; margin-bottom: 0px;
  margin-left: 0px; margin-right: 0px; margin-top: 0px; orphans: 2; padding-
 bottom: 0px; padding-left: 0px; padding-right: 0px; padding-top: 0px; text-
 align: left; text-decoration: none; text-indent: 0px; text-transform: none;
  -webkit-text-stroke-width: 0px; white-space: normal; word-spacing: 0px;">	
 &nbsp;</div><div style="color: rgb(0, 0, 0); font-family: arial,helvetica,c
 lean,sans-serif; font-size: 13.33px; font-style: normal; font-variant: norm
 al; font-weight: 400; letter-spacing: normal; margin-bottom: 0px; margin-le
 ft: 0px; margin-right: 0px; margin-top: 0px; orphans: 2; padding-bottom: 0p
 x; padding-left: 0px; padding-right: 0px; padding-top: 0px; text-align: lef
 t; text-decoration: none; text-indent: 0px; text-transform: none; -webkit-t
 ext-stroke-width: 0px; white-space: normal; word-spacing: 0px;">	&nbsp;</di
 v><div style="color: rgb(0, 0, 0); font-family: arial,helvetica,clean,sans-
 serif; font-size: 13.33px; font-style: normal; font-variant: normal; font-w
 eight: 400; letter-spacing: normal; margin-bottom: 0px; margin-left: 0px; m
 argin-right: 0px; margin-top: 0px; orphans: 2; padding-bottom: 0px; padding
 -left: 0px; padding-right: 0px; padding-top: 0px; text-align: left; text-de
 coration: none; text-indent: 0px; text-transform: none; -webkit-text-stroke
 -width: 0px; white-space: normal; word-spacing: 0px;">	<h2 style="backgroun
 d-color: rgb(255, 255, 255); color: rgb(207, 21, 49); font-family: Lora,ser
 if; font-size: 54px; font-weight: 400; line-height: 60px; margin-bottom: 0p
 x; margin-left: 0px; margin-right: 0px; margin-top: 0px; padding-bottom: 25
 px; padding-left: 0px; padding-right: 0px; padding-top: 10px;">		&nbsp;</h2
 ></div><p>	&nbsp;</p><p>	&nbsp;</p>
DTSTAMP:20260422T005914
DTSTART;TZID=America/Denver:20200410T070000
DTEND;TZID=America/Denver:20200410T080000
SEQUENCE:0
TRANSP:OPAQUE
END:VEVENT
END:VCALENDAR