BEGIN:VCALENDAR
VERSION:2.0
PRODID:-//jEvents 2.0 for Joomla//EN
CALSCALE:GREGORIAN
METHOD:PUBLISH
BEGIN:VTIMEZONE
TZID:America/Denver
BEGIN:STANDARD
DTSTART:20191103T010000
RDATE:20200308T030000
TZOFFSETFROM:-0600
TZOFFSETTO:-0700
TZNAME:America/Denver MST
END:STANDARD
BEGIN:STANDARD
DTSTART:20201101T010000
RDATE:20210314T030000
TZOFFSETFROM:-0600
TZOFFSETTO:-0700
TZNAME:America/Denver MST
END:STANDARD
BEGIN:STANDARD
DTSTART:20211107T010000
RDATE:20220313T030000
TZOFFSETFROM:-0600
TZOFFSETTO:-0700
TZNAME:America/Denver MST
END:STANDARD
BEGIN:STANDARD
DTSTART:20221106T010000
RDATE:20230312T030000
TZOFFSETFROM:-0600
TZOFFSETTO:-0700
TZNAME:America/Denver MST
END:STANDARD
BEGIN:STANDARD
DTSTART:20231105T010000
RDATE:20240310T030000
TZOFFSETFROM:-0600
TZOFFSETTO:-0700
TZNAME:America/Denver MST
END:STANDARD
BEGIN:STANDARD
DTSTART:20241103T010000
RDATE:20250309T030000
TZOFFSETFROM:-0600
TZOFFSETTO:-0700
TZNAME:America/Denver MST
END:STANDARD
BEGIN:STANDARD
DTSTART:20251102T010000
RDATE:20260308T030000
TZOFFSETFROM:-0600
TZOFFSETTO:-0700
TZNAME:America/Denver MST
END:STANDARD
BEGIN:STANDARD
DTSTART:20261101T010000
RDATE:20270314T030000
TZOFFSETFROM:-0600
TZOFFSETTO:-0700
TZNAME:America/Denver MST
END:STANDARD
BEGIN:STANDARD
DTSTART:20271107T010000
RDATE:20280312T030000
TZOFFSETFROM:-0600
TZOFFSETTO:-0700
TZNAME:America/Denver MST
END:STANDARD
BEGIN:STANDARD
DTSTART:20281105T010000
RDATE:20290311T030000
TZOFFSETFROM:-0600
TZOFFSETTO:-0700
TZNAME:America/Denver MST
END:STANDARD
BEGIN:STANDARD
DTSTART:20291104T010000
RDATE:20300310T030000
TZOFFSETFROM:-0600
TZOFFSETTO:-0700
TZNAME:America/Denver MST
END:STANDARD
BEGIN:STANDARD
DTSTART:20301103T010000
RDATE:20310309T030000
TZOFFSETFROM:-0600
TZOFFSETTO:-0700
TZNAME:America/Denver MST
END:STANDARD
BEGIN:STANDARD
DTSTART:20311102T010000
RDATE:20320314T030000
TZOFFSETFROM:-0600
TZOFFSETTO:-0700
TZNAME:America/Denver MST
END:STANDARD
BEGIN:STANDARD
DTSTART:20321107T010000
RDATE:20330313T030000
TZOFFSETFROM:-0600
TZOFFSETTO:-0700
TZNAME:America/Denver MST
END:STANDARD
BEGIN:STANDARD
DTSTART:20331106T010000
RDATE:20340312T030000
TZOFFSETFROM:-0600
TZOFFSETTO:-0700
TZNAME:America/Denver MST
END:STANDARD
BEGIN:STANDARD
DTSTART:20341105T010000
RDATE:20350311T030000
TZOFFSETFROM:-0600
TZOFFSETTO:-0700
TZNAME:America/Denver MST
END:STANDARD
BEGIN:STANDARD
DTSTART:20351104T010000
RDATE:20360309T030000
TZOFFSETFROM:-0600
TZOFFSETTO:-0700
TZNAME:America/Denver MST
END:STANDARD
BEGIN:STANDARD
DTSTART:20361102T010000
RDATE:20370308T030000
TZOFFSETFROM:-0600
TZOFFSETTO:-0700
TZNAME:America/Denver MST
END:STANDARD
BEGIN:STANDARD
DTSTART:20371101T010000
TZOFFSETFROM:-0600
TZOFFSETTO:-0700
TZNAME:America/Denver MST
END:STANDARD
BEGIN:DAYLIGHT
DTSTART:20190523T070000
RDATE:20191103T010000
TZOFFSETFROM:-0700
TZOFFSETTO:-0600
TZNAME:America/Denver MDT
END:DAYLIGHT
BEGIN:DAYLIGHT
DTSTART:20200308T030000
RDATE:20201101T010000
TZOFFSETFROM:-0700
TZOFFSETTO:-0600
TZNAME:America/Denver MDT
END:DAYLIGHT
BEGIN:DAYLIGHT
DTSTART:20210314T030000
RDATE:20211107T010000
TZOFFSETFROM:-0700
TZOFFSETTO:-0600
TZNAME:America/Denver MDT
END:DAYLIGHT
BEGIN:DAYLIGHT
DTSTART:20220313T030000
RDATE:20221106T010000
TZOFFSETFROM:-0700
TZOFFSETTO:-0600
TZNAME:America/Denver MDT
END:DAYLIGHT
BEGIN:DAYLIGHT
DTSTART:20230312T030000
RDATE:20231105T010000
TZOFFSETFROM:-0700
TZOFFSETTO:-0600
TZNAME:America/Denver MDT
END:DAYLIGHT
BEGIN:DAYLIGHT
DTSTART:20240310T030000
RDATE:20241103T010000
TZOFFSETFROM:-0700
TZOFFSETTO:-0600
TZNAME:America/Denver MDT
END:DAYLIGHT
BEGIN:DAYLIGHT
DTSTART:20250309T030000
RDATE:20251102T010000
TZOFFSETFROM:-0700
TZOFFSETTO:-0600
TZNAME:America/Denver MDT
END:DAYLIGHT
BEGIN:DAYLIGHT
DTSTART:20260308T030000
RDATE:20261101T010000
TZOFFSETFROM:-0700
TZOFFSETTO:-0600
TZNAME:America/Denver MDT
END:DAYLIGHT
BEGIN:DAYLIGHT
DTSTART:20270314T030000
RDATE:20271107T010000
TZOFFSETFROM:-0700
TZOFFSETTO:-0600
TZNAME:America/Denver MDT
END:DAYLIGHT
BEGIN:DAYLIGHT
DTSTART:20280312T030000
RDATE:20281105T010000
TZOFFSETFROM:-0700
TZOFFSETTO:-0600
TZNAME:America/Denver MDT
END:DAYLIGHT
BEGIN:DAYLIGHT
DTSTART:20290311T030000
RDATE:20291104T010000
TZOFFSETFROM:-0700
TZOFFSETTO:-0600
TZNAME:America/Denver MDT
END:DAYLIGHT
BEGIN:DAYLIGHT
DTSTART:20300310T030000
RDATE:20301103T010000
TZOFFSETFROM:-0700
TZOFFSETTO:-0600
TZNAME:America/Denver MDT
END:DAYLIGHT
BEGIN:DAYLIGHT
DTSTART:20310309T030000
RDATE:20311102T010000
TZOFFSETFROM:-0700
TZOFFSETTO:-0600
TZNAME:America/Denver MDT
END:DAYLIGHT
BEGIN:DAYLIGHT
DTSTART:20320314T030000
RDATE:20321107T010000
TZOFFSETFROM:-0700
TZOFFSETTO:-0600
TZNAME:America/Denver MDT
END:DAYLIGHT
BEGIN:DAYLIGHT
DTSTART:20330313T030000
RDATE:20331106T010000
TZOFFSETFROM:-0700
TZOFFSETTO:-0600
TZNAME:America/Denver MDT
END:DAYLIGHT
BEGIN:DAYLIGHT
DTSTART:20340312T030000
RDATE:20341105T010000
TZOFFSETFROM:-0700
TZOFFSETTO:-0600
TZNAME:America/Denver MDT
END:DAYLIGHT
BEGIN:DAYLIGHT
DTSTART:20350311T030000
RDATE:20351104T010000
TZOFFSETFROM:-0700
TZOFFSETTO:-0600
TZNAME:America/Denver MDT
END:DAYLIGHT
BEGIN:DAYLIGHT
DTSTART:20360309T030000
RDATE:20361102T010000
TZOFFSETFROM:-0700
TZOFFSETTO:-0600
TZNAME:America/Denver MDT
END:DAYLIGHT
BEGIN:DAYLIGHT
DTSTART:20370308T030000
RDATE:20371101T010000
TZOFFSETFROM:-0700
TZOFFSETTO:-0600
TZNAME:America/Denver MDT
END:DAYLIGHT
END:VTIMEZONE
BEGIN:VEVENT
UID:1214f6394c2785fdeadcfcfda5d5dba5
CATEGORIES:LSDM
CREATED:20200511T160601
SUMMARY:Bryan Callen
DESCRIPTION:<p>	<b style="color: rgb(32, 33, 34); font-family: sans-serif; font-size: 1
 4px; font-style: normal; font-variant: normal; font-weight: 700; letter-spa
 cing: normal; orphans: 2; text-align: left; text-decoration: none; text-ind
 ent: 0px; text-transform: none; -webkit-text-stroke-width: 0px; white-space
 : normal; word-spacing: 0px;">Bryan Callen</b><span style="display: inline 
 !important; float: none; background-color: rgb(255, 255, 255); color: rgb(3
 2, 33, 34); font-family: sans-serif; font-size: 14px; font-style: normal; f
 ont-variant: normal; font-weight: 400; letter-spacing: normal; orphans: 2; 
 text-align: left; text-decoration: none; text-indent: 0px; text-transform: 
 none; -webkit-text-stroke-width: 0px; white-space: normal; word-spacing: 0p
 x;"> (born January 26, 1967)</span><span style="display: inline !important;
  float: none; background-color: rgb(255, 255, 255); color: rgb(32, 33, 34);
  font-family: sans-serif; font-size: 14px; font-style: normal; font-variant
 : normal; font-weight: 400; letter-spacing: normal; orphans: 2; text-align:
  left; text-decoration: none; text-indent: 0px; text-transform: none; -webk
 it-text-stroke-width: 0px; white-space: normal; word-spacing: 0px;"> is an 
 American </span><a class="mw-redirect" href="https://en.wikipedia.org/wiki/
 Stand-up_comedian" style="background-attachment: scroll; background-clip: b
 order-box; background-color: transparent; background-image: none; backgroun
 d-origin: padding-box; background-position-x: 0%; background-position-y: 0%
 ; background-repeat: repeat; background-size: auto; color: rgb(6, 69, 173);
  font-family: sans-serif; font-size: 14px; font-style: normal; font-variant
 : normal; font-weight: 400; letter-spacing: normal; orphans: 2; text-align:
  left; text-decoration: none; text-indent: 0px; text-transform: none; -webk
 it-text-stroke-width: 0px; white-space: normal; word-spacing: 0px;" title="
 Stand-up comedian">stand-up comedian</a><span style="display: inline !impor
 tant; float: none; background-color: rgb(255, 255, 255); color: rgb(32, 33,
  34); font-family: sans-serif; font-size: 14px; font-style: normal; font-va
 riant: normal; font-weight: 400; letter-spacing: normal; orphans: 2; text-a
 lign: left; text-decoration: none; text-indent: 0px; text-transform: none; 
 -webkit-text-stroke-width: 0px; white-space: normal; word-spacing: 0px;">, 
 actor, writer and podcaster. He studied acting at the </span><a href="https
 ://en.wikipedia.org/wiki/Beverly_Hills_Playhouse" style="background-attachm
 ent: scroll; background-clip: border-box; background-color: transparent; ba
 ckground-image: none; background-origin: padding-box; background-position-x
 : 0%; background-position-y: 0%; background-repeat: repeat; background-size
 : auto; color: rgb(6, 69, 173); font-family: sans-serif; font-size: 14px; f
 ont-style: normal; font-variant: normal; font-weight: 400; letter-spacing: 
 normal; orphans: 2; text-align: left; text-decoration: none; text-indent: 0
 px; text-transform: none; -webkit-text-stroke-width: 0px; white-space: norm
 al; word-spacing: 0px;" title="Beverly Hills Playhouse">Beverly Hills Playh
 ouse</a><span style="display: inline !important; float: none; background-co
 lor: rgb(255, 255, 255); color: rgb(32, 33, 34); font-family: sans-serif; f
 ont-size: 14px; font-style: normal; font-variant: normal; font-weight: 400;
  letter-spacing: normal; orphans: 2; text-align: left; text-decoration: non
 e; text-indent: 0px; text-transform: none; -webkit-text-stroke-width: 0px; 
 white-space: normal; word-spacing: 0px;">.</span><span style="display: inli
 ne !important; float: none; background-color: rgb(255, 255, 255); color: rg
 b(32, 33, 34); font-family: sans-serif; font-size: 14px; font-style: normal
 ; font-variant: normal; font-weight: 400; letter-spacing: normal; orphans: 
 2; text-align: left; text-decoration: none; text-indent: 0px; text-transfor
 m: none; -webkit-text-stroke-width: 0px; white-space: normal; word-spacing:
  0px;"> Callen initiated his career as one of the original cast members on 
 the </span><a href="https://en.wikipedia.org/wiki/Sketch_comedy" style="bac
 kground-attachment: scroll; background-clip: border-box; background-color: 
 transparent; background-image: none; background-origin: padding-box; backgr
 ound-position-x: 0%; background-position-y: 0%; background-repeat: repeat; 
 background-size: auto; color: rgb(6, 69, 173); font-family: sans-serif; fon
 t-size: 14px; font-style: normal; font-variant: normal; font-weight: 400; l
 etter-spacing: normal; orphans: 2; text-align: left; text-decoration: under
 line; text-indent: 0px; text-transform: none; -webkit-text-stroke-width: 0p
 x; white-space: normal; word-spacing: 0px;" title="Sketch comedy">sketch co
 medy</a><span style="display: inline !important; float: none; background-co
 lor: rgb(255, 255, 255); color: rgb(32, 33, 34); font-family: sans-serif; f
 ont-size: 14px; font-style: normal; font-variant: normal; font-weight: 400;
  letter-spacing: normal; orphans: 2; text-align: left; text-decoration: non
 e; text-indent: 0px; text-transform: none; -webkit-text-stroke-width: 0px; 
 white-space: normal; word-spacing: 0px;"> series </span><i style="color: rg
 b(32, 33, 34); font-family: sans-serif; font-size: 14px; font-style: italic
 ; font-variant: normal; font-weight: 400; letter-spacing: normal; orphans: 
 2; text-align: left; text-decoration: none; text-indent: 0px; text-transfor
 m: none; -webkit-text-stroke-width: 0px; white-space: normal; word-spacing:
  0px;"><a class="mw-redirect" href="https://en.wikipedia.org/wiki/MADtv" st
 yle="background-attachment: scroll; background-clip: border-box; background
 -color: transparent; background-image: none; background-origin: padding-box
 ; background-position-x: 0%; background-position-y: 0%; background-repeat: 
 repeat; background-size: auto; color: rgb(6, 69, 173); text-decoration: non
 e;" title="MADtv">MADtv</a></i><span style="display: inline !important; flo
 at: none; background-color: rgb(255, 255, 255); color: rgb(32, 33, 34); fon
 t-family: sans-serif; font-size: 14px; font-style: normal; font-variant: no
 rmal; font-weight: 400; letter-spacing: normal; orphans: 2; text-align: lef
 t; text-decoration: none; text-indent: 0px; text-transform: none; -webkit-t
 ext-stroke-width: 0px; white-space: normal; word-spacing: 0px;">.</span><sp
 an style="display: inline !important; float: none; background-color: rgb(25
 5, 255, 255); color: rgb(32, 33, 34); font-family: sans-serif; font-size: 1
 4px; font-style: normal; font-variant: normal; font-weight: 400; letter-spa
 cing: normal; orphans: 2; text-align: left; text-decoration: none; text-ind
 ent: 0px; text-transform: none; -webkit-text-stroke-width: 0px; white-space
 : normal; word-spacing: 0px;"> Callen played Eddie in The Hangover Part 1, 
 and Samir in The Hangover Part II.&nbsp; He is a touring stand-up comic hav
 ing completed three, successful television stand-up specials.&nbsp;<span st
 yle="display: inline !important; float: none; background-color: rgb(255, 25
 5, 255); border-collapse: collapse; border-spacing: 0px; color: rgb(102, 10
 2, 102); font-family: Arial,Helvetica,Sans-Serif; font-size: 14px; font-sty
 le: normal; font-variant: normal; font-weight: 400; letter-spacing: normal;
  line-height: 22px; list-style-image: none; list-style-position: outside; l
 ist-style-type: none; orphans: 2; text-align: left; text-decoration: none; 
 text-indent: 0px; text-transform: none; -webkit-text-stroke-width: 0px; whi
 te-space: normal; word-spacing: 0px;"> His third one-hour </span><strong st
 yle="color: rgb(118, 118, 118); font-family: Arial,Helvetica,Sans-Serif; fo
 nt-size: 14px; font-style: normal; font-variant: normal; font-weight: 700; 
 letter-spacing: normal; orphans: 2; text-align: left; text-decoration: none
 ; text-indent: 0px; text-transform: none; -webkit-text-stroke-width: 0px; w
 hite-space: normal; word-spacing: 0px;">comedy special</strong><span style=
 "display: inline !important; float: none; background-color: rgb(255, 255, 2
 55); border-collapse: collapse; border-spacing: 0px; color: rgb(102, 102, 1
 02); font-family: Arial,Helvetica,Sans-Serif; font-size: 14px; font-style: 
 normal; font-variant: normal; font-weight: 400; letter-spacing: normal; lin
 e-height: 22px; list-style-image: none; list-style-position: outside; list-
 style-type: none; orphans: 2; text-align: left; text-decoration: none; text
 -indent: 0px; text-transform: none; -webkit-text-stroke-width: 0px; white-s
 pace: normal; word-spacing: 0px;">, &ldquo;Complicated Apes&rdquo;, topped 
 the iTunes charts upon its release in March, 2019.</span> Callen now plays 
 Coach Mellor in </span><i style="color: rgb(32, 33, 34); font-family: sans-
 serif; font-size: 14px; font-style: italic; font-variant: normal; font-weig
 ht: 400; letter-spacing: normal; orphans: 2; text-align: left; text-decorat
 ion: none; text-indent: 0px; text-transform: none; -webkit-text-stroke-widt
 h: 0px; white-space: normal; word-spacing: 0px;"><a href="https://en.wikipe
 dia.org/wiki/Schooled_(TV_series)" style="background-attachment: scroll; ba
 ckground-clip: border-box; background-color: transparent; background-image:
  none; background-origin: padding-box; background-position-x: 0%; backgroun
 d-position-y: 0%; background-repeat: repeat; background-size: auto; color: 
 rgb(6, 69, 173); text-decoration: none;" title="Schooled (TV series)">Schoo
 led</a></i><span style="display: inline !important; float: none; background
 -color: rgb(255, 255, 255); color: rgb(32, 33, 34); font-family: sans-serif
 ; font-size: 14px; font-style: normal; font-variant: normal; font-weight: 4
 00; letter-spacing: normal; orphans: 2; text-align: left; text-decoration: 
 none; text-indent: 0px; text-transform: none; -webkit-text-stroke-width: 0p
 x; white-space: normal; word-spacing: 0px;"> and is co-host of the podcast 
 </span><i style="color: rgb(32, 33, 34); font-family: sans-serif; font-size
 : 14px; font-style: italic; font-variant: normal; font-weight: 400; letter-
 spacing: normal; orphans: 2; text-align: left; text-decoration: none; text-
 indent: 0px; text-transform: none; -webkit-text-stroke-width: 0px; white-sp
 ace: normal; word-spacing: 0px;"><a href="https://en.wikipedia.org/wiki/The
 _Fighter_and_the_Kid" style="background-attachment: scroll; background-clip
 : border-box; background-color: transparent; background-image: none; backgr
 ound-origin: padding-box; background-position-x: 0%; background-position-y:
  0%; background-repeat: repeat; background-size: auto; color: rgb(6, 69, 17
 3); text-decoration: none;" title="The Fighter and the Kid">The Fighter and
  the Kid</a>,</i><span style="display: inline !important; float: none; back
 ground-color: rgb(255, 255, 255); color: rgb(32, 33, 34); font-family: sans
 -serif; font-size: 14px; font-style: normal; font-variant: normal; font-wei
 ght: 400; letter-spacing: normal; orphans: 2; text-align: left; text-decora
 tion: none; text-indent: 0px; text-transform: none; -webkit-text-stroke-wid
 th: 0px; white-space: normal; word-spacing: 0px;"> alongside </span><a href
 ="https://en.wikipedia.org/wiki/Brendan_Schaub" style="background-attachmen
 t: scroll; background-clip: border-box; background-color: transparent; back
 ground-image: none; background-origin: padding-box; background-position-x: 
 0%; background-position-y: 0%; background-repeat: repeat; background-size: 
 auto; color: rgb(6, 69, 173); font-family: sans-serif; font-size: 14px; fon
 t-style: normal; font-variant: normal; font-weight: 400; letter-spacing: no
 rmal; orphans: 2; text-align: left; text-decoration: none; text-indent: 0px
 ; text-transform: none; -webkit-text-stroke-width: 0px; white-space: normal
 ; word-spacing: 0px;" title="Brendan Schaub">Brendan Schaub</a><span style=
 "display: inline !important; float: none; background-color: rgb(255, 255, 2
 55); color: rgb(32, 33, 34); font-family: sans-serif; font-size: 14px; font
 -style: normal; font-variant: normal; font-weight: 400; letter-spacing: nor
 mal; orphans: 2; text-align: left; text-decoration: none; text-indent: 0px;
  text-transform: none; -webkit-text-stroke-width: 0px; white-space: normal;
  word-spacing: 0px;">.</span></p>
DTSTAMP:20260422T072442
DTSTART;TZID=America/Denver:20200523T070000
DTEND;TZID=America/Denver:20200523T080000
SEQUENCE:0
TRANSP:OPAQUE
END:VEVENT
END:VCALENDAR