BEGIN:VCALENDAR
VERSION:2.0
PRODID:-//jEvents 2.0 for Joomla//EN
CALSCALE:GREGORIAN
METHOD:PUBLISH
BEGIN:VTIMEZONE
TZID:America/Denver
BEGIN:STANDARD
DTSTART:20191103T010000
RDATE:20200308T030000
TZOFFSETFROM:-0600
TZOFFSETTO:-0700
TZNAME:America/Denver MST
END:STANDARD
BEGIN:STANDARD
DTSTART:20201101T010000
RDATE:20210314T030000
TZOFFSETFROM:-0600
TZOFFSETTO:-0700
TZNAME:America/Denver MST
END:STANDARD
BEGIN:STANDARD
DTSTART:20211107T010000
RDATE:20220313T030000
TZOFFSETFROM:-0600
TZOFFSETTO:-0700
TZNAME:America/Denver MST
END:STANDARD
BEGIN:STANDARD
DTSTART:20221106T010000
RDATE:20230312T030000
TZOFFSETFROM:-0600
TZOFFSETTO:-0700
TZNAME:America/Denver MST
END:STANDARD
BEGIN:STANDARD
DTSTART:20231105T010000
RDATE:20240310T030000
TZOFFSETFROM:-0600
TZOFFSETTO:-0700
TZNAME:America/Denver MST
END:STANDARD
BEGIN:STANDARD
DTSTART:20241103T010000
RDATE:20250309T030000
TZOFFSETFROM:-0600
TZOFFSETTO:-0700
TZNAME:America/Denver MST
END:STANDARD
BEGIN:STANDARD
DTSTART:20251102T010000
RDATE:20260308T030000
TZOFFSETFROM:-0600
TZOFFSETTO:-0700
TZNAME:America/Denver MST
END:STANDARD
BEGIN:STANDARD
DTSTART:20261101T010000
RDATE:20270314T030000
TZOFFSETFROM:-0600
TZOFFSETTO:-0700
TZNAME:America/Denver MST
END:STANDARD
BEGIN:STANDARD
DTSTART:20271107T010000
RDATE:20280312T030000
TZOFFSETFROM:-0600
TZOFFSETTO:-0700
TZNAME:America/Denver MST
END:STANDARD
BEGIN:STANDARD
DTSTART:20281105T010000
RDATE:20290311T030000
TZOFFSETFROM:-0600
TZOFFSETTO:-0700
TZNAME:America/Denver MST
END:STANDARD
BEGIN:STANDARD
DTSTART:20291104T010000
RDATE:20300310T030000
TZOFFSETFROM:-0600
TZOFFSETTO:-0700
TZNAME:America/Denver MST
END:STANDARD
BEGIN:STANDARD
DTSTART:20301103T010000
RDATE:20310309T030000
TZOFFSETFROM:-0600
TZOFFSETTO:-0700
TZNAME:America/Denver MST
END:STANDARD
BEGIN:STANDARD
DTSTART:20311102T010000
RDATE:20320314T030000
TZOFFSETFROM:-0600
TZOFFSETTO:-0700
TZNAME:America/Denver MST
END:STANDARD
BEGIN:STANDARD
DTSTART:20321107T010000
RDATE:20330313T030000
TZOFFSETFROM:-0600
TZOFFSETTO:-0700
TZNAME:America/Denver MST
END:STANDARD
BEGIN:STANDARD
DTSTART:20331106T010000
RDATE:20340312T030000
TZOFFSETFROM:-0600
TZOFFSETTO:-0700
TZNAME:America/Denver MST
END:STANDARD
BEGIN:STANDARD
DTSTART:20341105T010000
RDATE:20350311T030000
TZOFFSETFROM:-0600
TZOFFSETTO:-0700
TZNAME:America/Denver MST
END:STANDARD
BEGIN:STANDARD
DTSTART:20351104T010000
RDATE:20360309T030000
TZOFFSETFROM:-0600
TZOFFSETTO:-0700
TZNAME:America/Denver MST
END:STANDARD
BEGIN:STANDARD
DTSTART:20361102T010000
RDATE:20370308T030000
TZOFFSETFROM:-0600
TZOFFSETTO:-0700
TZNAME:America/Denver MST
END:STANDARD
BEGIN:STANDARD
DTSTART:20371101T010000
TZOFFSETFROM:-0600
TZOFFSETTO:-0700
TZNAME:America/Denver MST
END:STANDARD
BEGIN:DAYLIGHT
DTSTART:20190618T070000
RDATE:20191103T010000
TZOFFSETFROM:-0700
TZOFFSETTO:-0600
TZNAME:America/Denver MDT
END:DAYLIGHT
BEGIN:DAYLIGHT
DTSTART:20200308T030000
RDATE:20201101T010000
TZOFFSETFROM:-0700
TZOFFSETTO:-0600
TZNAME:America/Denver MDT
END:DAYLIGHT
BEGIN:DAYLIGHT
DTSTART:20210314T030000
RDATE:20211107T010000
TZOFFSETFROM:-0700
TZOFFSETTO:-0600
TZNAME:America/Denver MDT
END:DAYLIGHT
BEGIN:DAYLIGHT
DTSTART:20220313T030000
RDATE:20221106T010000
TZOFFSETFROM:-0700
TZOFFSETTO:-0600
TZNAME:America/Denver MDT
END:DAYLIGHT
BEGIN:DAYLIGHT
DTSTART:20230312T030000
RDATE:20231105T010000
TZOFFSETFROM:-0700
TZOFFSETTO:-0600
TZNAME:America/Denver MDT
END:DAYLIGHT
BEGIN:DAYLIGHT
DTSTART:20240310T030000
RDATE:20241103T010000
TZOFFSETFROM:-0700
TZOFFSETTO:-0600
TZNAME:America/Denver MDT
END:DAYLIGHT
BEGIN:DAYLIGHT
DTSTART:20250309T030000
RDATE:20251102T010000
TZOFFSETFROM:-0700
TZOFFSETTO:-0600
TZNAME:America/Denver MDT
END:DAYLIGHT
BEGIN:DAYLIGHT
DTSTART:20260308T030000
RDATE:20261101T010000
TZOFFSETFROM:-0700
TZOFFSETTO:-0600
TZNAME:America/Denver MDT
END:DAYLIGHT
BEGIN:DAYLIGHT
DTSTART:20270314T030000
RDATE:20271107T010000
TZOFFSETFROM:-0700
TZOFFSETTO:-0600
TZNAME:America/Denver MDT
END:DAYLIGHT
BEGIN:DAYLIGHT
DTSTART:20280312T030000
RDATE:20281105T010000
TZOFFSETFROM:-0700
TZOFFSETTO:-0600
TZNAME:America/Denver MDT
END:DAYLIGHT
BEGIN:DAYLIGHT
DTSTART:20290311T030000
RDATE:20291104T010000
TZOFFSETFROM:-0700
TZOFFSETTO:-0600
TZNAME:America/Denver MDT
END:DAYLIGHT
BEGIN:DAYLIGHT
DTSTART:20300310T030000
RDATE:20301103T010000
TZOFFSETFROM:-0700
TZOFFSETTO:-0600
TZNAME:America/Denver MDT
END:DAYLIGHT
BEGIN:DAYLIGHT
DTSTART:20310309T030000
RDATE:20311102T010000
TZOFFSETFROM:-0700
TZOFFSETTO:-0600
TZNAME:America/Denver MDT
END:DAYLIGHT
BEGIN:DAYLIGHT
DTSTART:20320314T030000
RDATE:20321107T010000
TZOFFSETFROM:-0700
TZOFFSETTO:-0600
TZNAME:America/Denver MDT
END:DAYLIGHT
BEGIN:DAYLIGHT
DTSTART:20330313T030000
RDATE:20331106T010000
TZOFFSETFROM:-0700
TZOFFSETTO:-0600
TZNAME:America/Denver MDT
END:DAYLIGHT
BEGIN:DAYLIGHT
DTSTART:20340312T030000
RDATE:20341105T010000
TZOFFSETFROM:-0700
TZOFFSETTO:-0600
TZNAME:America/Denver MDT
END:DAYLIGHT
BEGIN:DAYLIGHT
DTSTART:20350311T030000
RDATE:20351104T010000
TZOFFSETFROM:-0700
TZOFFSETTO:-0600
TZNAME:America/Denver MDT
END:DAYLIGHT
BEGIN:DAYLIGHT
DTSTART:20360309T030000
RDATE:20361102T010000
TZOFFSETFROM:-0700
TZOFFSETTO:-0600
TZNAME:America/Denver MDT
END:DAYLIGHT
BEGIN:DAYLIGHT
DTSTART:20370308T030000
RDATE:20371101T010000
TZOFFSETFROM:-0700
TZOFFSETTO:-0600
TZNAME:America/Denver MDT
END:DAYLIGHT
END:VTIMEZONE
BEGIN:VEVENT
UID:28a82e85077e6a24d8d8684d5bad7c2d
CATEGORIES:LSDM
CREATED:20200606T141353
SUMMARY:Jennie Taylor, Gold Star Mom
DESCRIPTION:	 \n	https://www.aerotechnews.com/blog/2020/05/25/gold-star-wife-remembers-
 soldiers-dreams/\n	Taylor is the widow of Army Maj. Brent Taylor, who was k
 illed in Afghanistan by a member of the Afghan security forces in 2018. The
  National Guard officer was on his fourth year-long tour when he was cut do
 wn. \n	Jennie is raising seven children, ages 2 through 14, complicated now
  by quarantine. “I’m only half-joking when I say I’m one small step away fr
 om really crazy,” she said. \n	From changing diapers to schlepping the olde
 r kids around, Taylor’s life is full of events, but she still finds time to
  honor the dreams her husband lived for.\n\n	Brent Taylor was the mayor of 
 North Ogden when he was called up for deployment. Many people told him that
  he had done enough, and that he should decline the orders. That was not in
  line with his beliefs, Jennie said. Each time he left for deployment or ex
 tended Guard training “it was gut-wrenching” to the family, she added, but 
 “he wasn’t comfortable just staying home and taking it for granted.”\n	 \n
X-ALT-DESC;FMTTYPE=text/html:<p>	&nbsp;</p><p>	https://www.aerotechnews.com/blog/2020/05/25/gold-star-wi
 fe-remembers-soldiers-dreams/</p><p style="box-sizing: border-box; color: r
 gb(34, 34, 34); font-family: Verdana,Geneva,sans-serif; font-size: 15px; fo
 nt-style: normal; font-variant: normal; font-weight: 400; letter-spacing: n
 ormal; line-height: 26px; margin-bottom: 26px; margin-top: 0px; orphans: 2;
  overflow-wrap: break-word; text-align: left; text-decoration: none; text-i
 ndent: 0px; text-transform: none; -webkit-text-stroke-width: 0px; white-spa
 ce: normal; word-spacing: 0px;">	Taylor is the widow of Army Maj. Brent Tay
 lor, who was killed in Afghanistan&nbsp;by a member of the Afghan security 
 forces in 2018. The National Guard officer was on his fourth year-long tour
  when he was cut down.&nbsp;</p><p style="box-sizing: border-box; color: rg
 b(34, 34, 34); font-family: Verdana,Geneva,sans-serif; font-size: 15px; fon
 t-style: normal; font-variant: normal; font-weight: 400; letter-spacing: no
 rmal; line-height: 26px; margin-bottom: 26px; margin-top: 0px; orphans: 2; 
 overflow-wrap: break-word; text-align: left; text-decoration: none; text-in
 dent: 0px; text-transform: none; -webkit-text-stroke-width: 0px; white-spac
 e: normal; word-spacing: 0px;">	Jennie is raising seven children, ages 2 th
 rough 14, complicated now by quarantine. &ldquo;I&rsquo;m only half-joking 
 when I say I&rsquo;m one small step away from really crazy,&rdquo;&nbsp;she
  said.&nbsp;</p><p style="box-sizing: border-box; color: rgb(34, 34, 34); f
 ont-family: Verdana,Geneva,sans-serif; font-size: 15px; font-style: normal;
  font-variant: normal; font-weight: 400; letter-spacing: normal; line-heigh
 t: 26px; margin-bottom: 26px; margin-top: 0px; orphans: 2; overflow-wrap: b
 reak-word; text-align: left; text-decoration: none; text-indent: 0px; text-
 transform: none; -webkit-text-stroke-width: 0px; white-space: normal; word-
 spacing: 0px;">	From changing diapers to schlepping the older kids around, 
 Taylor&rsquo;s life is full of events, but she still finds time to honor th
 e dreams her husband lived for.</p><figure class="wp-caption alignright" id
 ="attachment_43719" style="box-sizing: border-box; color: rgb(34, 34, 34); 
 display: block; float: right; font-family: Verdana,Geneva,sans-serif; font-
 size: 15px; font-style: normal; font-variant: normal; font-weight: 400; let
 ter-spacing: normal; margin-bottom: 0px; margin-left: 24px; margin-right: 0
 px; margin-top: 6px; max-width: 100%; orphans: 2; text-align: center; text-
 decoration: none; text-indent: 0px; text-transform: none; -webkit-text-stro
 ke-width: 0px; white-space: normal; width: 300px; word-spacing: 0px;"><br /
 ></figure><p style="box-sizing: border-box; color: rgb(34, 34, 34); font-fa
 mily: Verdana,Geneva,sans-serif; font-size: 15px; font-style: normal; font-
 variant: normal; font-weight: 400; letter-spacing: normal; line-height: 26p
 x; margin-bottom: 26px; margin-top: 0px; orphans: 2; overflow-wrap: break-w
 ord; text-align: left; text-decoration: none; text-indent: 0px; text-transf
 orm: none; -webkit-text-stroke-width: 0px; white-space: normal; word-spacin
 g: 0px;">	Brent Taylor was the mayor of North Ogden when he was called up f
 or deployment. Many people told him that he had done enough, and that he sh
 ould decline the orders. That was not in line with his beliefs, Jennie said
 . Each time he left for deployment or extended Guard training &ldquo;it was
  gut-wrenching&rdquo;&nbsp;to the family, she added, but &ldquo;he wasn&rsq
 uo;t comfortable just staying home and taking it for granted.&rdquo;</p><p>
 	&nbsp;</p>
DTSTAMP:20260422T115227
DTSTART;TZID=America/Denver:20200618T070000
DTEND;TZID=America/Denver:20200618T080000
SEQUENCE:0
TRANSP:OPAQUE
END:VEVENT
END:VCALENDAR