BEGIN:VCALENDAR
VERSION:2.0
PRODID:-//jEvents 2.0 for Joomla//EN
CALSCALE:GREGORIAN
METHOD:PUBLISH
BEGIN:VTIMEZONE
TZID:America/Denver
BEGIN:STANDARD
DTSTART:20191103T010000
RDATE:20200308T030000
TZOFFSETFROM:-0600
TZOFFSETTO:-0700
TZNAME:America/Denver MST
END:STANDARD
BEGIN:STANDARD
DTSTART:20201101T010000
RDATE:20210314T030000
TZOFFSETFROM:-0600
TZOFFSETTO:-0700
TZNAME:America/Denver MST
END:STANDARD
BEGIN:STANDARD
DTSTART:20211107T010000
RDATE:20220313T030000
TZOFFSETFROM:-0600
TZOFFSETTO:-0700
TZNAME:America/Denver MST
END:STANDARD
BEGIN:STANDARD
DTSTART:20221106T010000
RDATE:20230312T030000
TZOFFSETFROM:-0600
TZOFFSETTO:-0700
TZNAME:America/Denver MST
END:STANDARD
BEGIN:STANDARD
DTSTART:20231105T010000
RDATE:20240310T030000
TZOFFSETFROM:-0600
TZOFFSETTO:-0700
TZNAME:America/Denver MST
END:STANDARD
BEGIN:STANDARD
DTSTART:20241103T010000
RDATE:20250309T030000
TZOFFSETFROM:-0600
TZOFFSETTO:-0700
TZNAME:America/Denver MST
END:STANDARD
BEGIN:STANDARD
DTSTART:20251102T010000
RDATE:20260308T030000
TZOFFSETFROM:-0600
TZOFFSETTO:-0700
TZNAME:America/Denver MST
END:STANDARD
BEGIN:STANDARD
DTSTART:20261101T010000
RDATE:20270314T030000
TZOFFSETFROM:-0600
TZOFFSETTO:-0700
TZNAME:America/Denver MST
END:STANDARD
BEGIN:STANDARD
DTSTART:20271107T010000
RDATE:20280312T030000
TZOFFSETFROM:-0600
TZOFFSETTO:-0700
TZNAME:America/Denver MST
END:STANDARD
BEGIN:STANDARD
DTSTART:20281105T010000
RDATE:20290311T030000
TZOFFSETFROM:-0600
TZOFFSETTO:-0700
TZNAME:America/Denver MST
END:STANDARD
BEGIN:STANDARD
DTSTART:20291104T010000
RDATE:20300310T030000
TZOFFSETFROM:-0600
TZOFFSETTO:-0700
TZNAME:America/Denver MST
END:STANDARD
BEGIN:STANDARD
DTSTART:20301103T010000
RDATE:20310309T030000
TZOFFSETFROM:-0600
TZOFFSETTO:-0700
TZNAME:America/Denver MST
END:STANDARD
BEGIN:STANDARD
DTSTART:20311102T010000
RDATE:20320314T030000
TZOFFSETFROM:-0600
TZOFFSETTO:-0700
TZNAME:America/Denver MST
END:STANDARD
BEGIN:STANDARD
DTSTART:20321107T010000
RDATE:20330313T030000
TZOFFSETFROM:-0600
TZOFFSETTO:-0700
TZNAME:America/Denver MST
END:STANDARD
BEGIN:STANDARD
DTSTART:20331106T010000
RDATE:20340312T030000
TZOFFSETFROM:-0600
TZOFFSETTO:-0700
TZNAME:America/Denver MST
END:STANDARD
BEGIN:STANDARD
DTSTART:20341105T010000
RDATE:20350311T030000
TZOFFSETFROM:-0600
TZOFFSETTO:-0700
TZNAME:America/Denver MST
END:STANDARD
BEGIN:STANDARD
DTSTART:20351104T010000
RDATE:20360309T030000
TZOFFSETFROM:-0600
TZOFFSETTO:-0700
TZNAME:America/Denver MST
END:STANDARD
BEGIN:STANDARD
DTSTART:20361102T010000
RDATE:20370308T030000
TZOFFSETFROM:-0600
TZOFFSETTO:-0700
TZNAME:America/Denver MST
END:STANDARD
BEGIN:STANDARD
DTSTART:20371101T010000
TZOFFSETFROM:-0600
TZOFFSETTO:-0700
TZNAME:America/Denver MST
END:STANDARD
BEGIN:DAYLIGHT
DTSTART:20191029T070000
RDATE:20191103T010000
TZOFFSETFROM:-0700
TZOFFSETTO:-0600
TZNAME:America/Denver MDT
END:DAYLIGHT
BEGIN:DAYLIGHT
DTSTART:20200308T030000
RDATE:20201101T010000
TZOFFSETFROM:-0700
TZOFFSETTO:-0600
TZNAME:America/Denver MDT
END:DAYLIGHT
BEGIN:DAYLIGHT
DTSTART:20210314T030000
RDATE:20211107T010000
TZOFFSETFROM:-0700
TZOFFSETTO:-0600
TZNAME:America/Denver MDT
END:DAYLIGHT
BEGIN:DAYLIGHT
DTSTART:20220313T030000
RDATE:20221106T010000
TZOFFSETFROM:-0700
TZOFFSETTO:-0600
TZNAME:America/Denver MDT
END:DAYLIGHT
BEGIN:DAYLIGHT
DTSTART:20230312T030000
RDATE:20231105T010000
TZOFFSETFROM:-0700
TZOFFSETTO:-0600
TZNAME:America/Denver MDT
END:DAYLIGHT
BEGIN:DAYLIGHT
DTSTART:20240310T030000
RDATE:20241103T010000
TZOFFSETFROM:-0700
TZOFFSETTO:-0600
TZNAME:America/Denver MDT
END:DAYLIGHT
BEGIN:DAYLIGHT
DTSTART:20250309T030000
RDATE:20251102T010000
TZOFFSETFROM:-0700
TZOFFSETTO:-0600
TZNAME:America/Denver MDT
END:DAYLIGHT
BEGIN:DAYLIGHT
DTSTART:20260308T030000
RDATE:20261101T010000
TZOFFSETFROM:-0700
TZOFFSETTO:-0600
TZNAME:America/Denver MDT
END:DAYLIGHT
BEGIN:DAYLIGHT
DTSTART:20270314T030000
RDATE:20271107T010000
TZOFFSETFROM:-0700
TZOFFSETTO:-0600
TZNAME:America/Denver MDT
END:DAYLIGHT
BEGIN:DAYLIGHT
DTSTART:20280312T030000
RDATE:20281105T010000
TZOFFSETFROM:-0700
TZOFFSETTO:-0600
TZNAME:America/Denver MDT
END:DAYLIGHT
BEGIN:DAYLIGHT
DTSTART:20290311T030000
RDATE:20291104T010000
TZOFFSETFROM:-0700
TZOFFSETTO:-0600
TZNAME:America/Denver MDT
END:DAYLIGHT
BEGIN:DAYLIGHT
DTSTART:20300310T030000
RDATE:20301103T010000
TZOFFSETFROM:-0700
TZOFFSETTO:-0600
TZNAME:America/Denver MDT
END:DAYLIGHT
BEGIN:DAYLIGHT
DTSTART:20310309T030000
RDATE:20311102T010000
TZOFFSETFROM:-0700
TZOFFSETTO:-0600
TZNAME:America/Denver MDT
END:DAYLIGHT
BEGIN:DAYLIGHT
DTSTART:20320314T030000
RDATE:20321107T010000
TZOFFSETFROM:-0700
TZOFFSETTO:-0600
TZNAME:America/Denver MDT
END:DAYLIGHT
BEGIN:DAYLIGHT
DTSTART:20330313T030000
RDATE:20331106T010000
TZOFFSETFROM:-0700
TZOFFSETTO:-0600
TZNAME:America/Denver MDT
END:DAYLIGHT
BEGIN:DAYLIGHT
DTSTART:20340312T030000
RDATE:20341105T010000
TZOFFSETFROM:-0700
TZOFFSETTO:-0600
TZNAME:America/Denver MDT
END:DAYLIGHT
BEGIN:DAYLIGHT
DTSTART:20350311T030000
RDATE:20351104T010000
TZOFFSETFROM:-0700
TZOFFSETTO:-0600
TZNAME:America/Denver MDT
END:DAYLIGHT
BEGIN:DAYLIGHT
DTSTART:20360309T030000
RDATE:20361102T010000
TZOFFSETFROM:-0700
TZOFFSETTO:-0600
TZNAME:America/Denver MDT
END:DAYLIGHT
BEGIN:DAYLIGHT
DTSTART:20370308T030000
RDATE:20371101T010000
TZOFFSETFROM:-0700
TZOFFSETTO:-0600
TZNAME:America/Denver MDT
END:DAYLIGHT
END:VTIMEZONE
BEGIN:VEVENT
UID:79873eb08045525f121d1872a5980b21
CATEGORIES:LSDM
CREATED:20201011T100859
SUMMARY:Jennifer Yin, Executive Director of the Utah Judicial Performance Evaluation Commission (JPEC)
DESCRIPTION:	, \n			The Judicial Performance Evaluation Commission (JPEC) was establish
 ed by the legislature in 2008 to help you get to know your judges. Its goal
 s are:						To collect and disseminate valid information about each judge’s
  performance so that voters may make informed decisions about whether or no
 t to retain that judge in office;					To provide judges with useful feedbac
 k about their performance so that they may become better judges and to ther
 eby improve the quality of the judiciary as a whole; and					To promote pub
 lic accountability of the judiciary while ensuring that the judiciary conti
 nues to operate as an independent branch of government.				Performance Eval
 uations			To accomplish these goals, the Judicial Performance Evaluation Co
 mmission conducts multi-faceted evaluations of judges. As judges stand for 
 retention elections, the Commission publishes the evaluation report and mak
 es a recommendation whether the judge should be retained in office. The vot
 ers ultimately decide whether or not each judge will continue to serve in o
 ffice.
X-ALT-DESC;FMTTYPE=text/html:<p>	,&nbsp;</p><div id="yiv5181628630main" style="margin: 0px; padding: 0px
 ; font-family: Helvetica, Arial, Helmet, Freesans, sans-serif; border: 0px;
  font-size: 16px; vertical-align: baseline; background-image: initial; back
 ground-position: initial; background-size: initial; background-repeat: init
 ial; background-attachment: initial;">	<div style="margin: 0px; padding: 0p
 x; font-family: arial, helvetica, clean, sans-serif; border: 0px; vertical-
 align: baseline; background: transparent; color: rgb(90, 90, 90);">		<span 
 style="font-weight: bold;">The Judicial Performance Evaluation Commission (
 JPEC) was established by the legislature in 2008 to help you get to know yo
 ur judges. Its goals are:</span></div>	<ul style="margin-bottom: 0px; margi
 n-left: 0px; font-family: arial, helvetica, clean, sans-serif; border: 0px;
  vertical-align: baseline; background: transparent; list-style: none;">		<l
 i style="margin: 0px; padding: 0px; border: 0px; vertical-align: baseline; 
 background: transparent; color: rgb(90, 90, 90); list-style: disc; text-ali
 gn: left;">			<span style="font-weight: bold;">To collect and disseminate v
 alid information about each judge&rsquo;s performance so that voters may ma
 ke informed decisions about whether or not to retain that judge in office;<
 /span></li>		<li style="margin: 0px; padding: 0px; border: 0px; vertical-al
 ign: baseline; background: transparent; color: rgb(90, 90, 90); list-style:
  disc; text-align: left;">			<span style="font-weight: bold;">To provide ju
 dges with useful feedback about their performance so that they may become b
 etter judges and to thereby improve the quality of the judiciary as a whole
 ; and</span></li>		<li style="margin: 0px; padding: 0px; border: 0px; verti
 cal-align: baseline; background: transparent; color: rgb(90, 90, 90); list-
 style: disc; text-align: left;">			<span style="font-weight: bold;">To prom
 ote public accountability of the judiciary while ensuring that the judiciar
 y continues to operate as an independent branch of government.</span></li>	
 </ul></div><div id="yiv5181628630main" style="margin: 0px; padding: 0px; fo
 nt-family: Helvetica, Arial, Helmet, Freesans, sans-serif; border: 0px; fon
 t-size: 16px; vertical-align: baseline; background-image: initial; backgrou
 nd-position: initial; background-size: initial; background-repeat: initial;
  background-attachment: initial;">	<h4 style="margin-top: 0px; margin-botto
 m: 0px; padding: 0px; font-family: arial, helvetica, clean, sans-serif; bor
 der: 0px; vertical-align: baseline; background: transparent; color: rgb(110
 , 107, 110);">		Performance Evaluations</h4>	<div style="margin: 0px; paddi
 ng: 0px; font-family: arial, helvetica, clean, sans-serif; border: 0px; ver
 tical-align: baseline; background: transparent; color: rgb(90, 90, 90);">		
 <span style="font-weight: bold;">To accomplish these goals, the Judicial Pe
 rformance Evaluation Commission conducts multi-faceted evaluations of judge
 s.&nbsp;As judges stand for retention elections, the Commission publishes t
 he evaluation report and makes a recommendation whether the judge should be
  retained in office. The voters ultimately decide whether or not each judge
  will continue to serve in office.</span></div></div>
DTSTAMP:20260425T213142
DTSTART;TZID=America/Denver:20201029T070000
DTEND;TZID=America/Denver:20201029T080000
SEQUENCE:0
TRANSP:OPAQUE
END:VEVENT
END:VCALENDAR