BEGIN:VCALENDAR
VERSION:2.0
PRODID:-//jEvents 2.0 for Joomla//EN
CALSCALE:GREGORIAN
METHOD:PUBLISH
BEGIN:VTIMEZONE
TZID:America/Denver
BEGIN:STANDARD
DTSTART:20200113T070000
RDATE:20200308T030000
TZOFFSETFROM:-0600
TZOFFSETTO:-0700
TZNAME:America/Denver MST
END:STANDARD
BEGIN:STANDARD
DTSTART:20201101T010000
RDATE:20210314T030000
TZOFFSETFROM:-0600
TZOFFSETTO:-0700
TZNAME:America/Denver MST
END:STANDARD
BEGIN:STANDARD
DTSTART:20211107T010000
RDATE:20220313T030000
TZOFFSETFROM:-0600
TZOFFSETTO:-0700
TZNAME:America/Denver MST
END:STANDARD
BEGIN:STANDARD
DTSTART:20221106T010000
RDATE:20230312T030000
TZOFFSETFROM:-0600
TZOFFSETTO:-0700
TZNAME:America/Denver MST
END:STANDARD
BEGIN:STANDARD
DTSTART:20231105T010000
RDATE:20240310T030000
TZOFFSETFROM:-0600
TZOFFSETTO:-0700
TZNAME:America/Denver MST
END:STANDARD
BEGIN:STANDARD
DTSTART:20241103T010000
RDATE:20250309T030000
TZOFFSETFROM:-0600
TZOFFSETTO:-0700
TZNAME:America/Denver MST
END:STANDARD
BEGIN:STANDARD
DTSTART:20251102T010000
RDATE:20260308T030000
TZOFFSETFROM:-0600
TZOFFSETTO:-0700
TZNAME:America/Denver MST
END:STANDARD
BEGIN:STANDARD
DTSTART:20261101T010000
RDATE:20270314T030000
TZOFFSETFROM:-0600
TZOFFSETTO:-0700
TZNAME:America/Denver MST
END:STANDARD
BEGIN:STANDARD
DTSTART:20271107T010000
RDATE:20280312T030000
TZOFFSETFROM:-0600
TZOFFSETTO:-0700
TZNAME:America/Denver MST
END:STANDARD
BEGIN:STANDARD
DTSTART:20281105T010000
RDATE:20290311T030000
TZOFFSETFROM:-0600
TZOFFSETTO:-0700
TZNAME:America/Denver MST
END:STANDARD
BEGIN:STANDARD
DTSTART:20291104T010000
RDATE:20300310T030000
TZOFFSETFROM:-0600
TZOFFSETTO:-0700
TZNAME:America/Denver MST
END:STANDARD
BEGIN:STANDARD
DTSTART:20301103T010000
RDATE:20310309T030000
TZOFFSETFROM:-0600
TZOFFSETTO:-0700
TZNAME:America/Denver MST
END:STANDARD
BEGIN:STANDARD
DTSTART:20311102T010000
RDATE:20320314T030000
TZOFFSETFROM:-0600
TZOFFSETTO:-0700
TZNAME:America/Denver MST
END:STANDARD
BEGIN:STANDARD
DTSTART:20321107T010000
RDATE:20330313T030000
TZOFFSETFROM:-0600
TZOFFSETTO:-0700
TZNAME:America/Denver MST
END:STANDARD
BEGIN:STANDARD
DTSTART:20331106T010000
RDATE:20340312T030000
TZOFFSETFROM:-0600
TZOFFSETTO:-0700
TZNAME:America/Denver MST
END:STANDARD
BEGIN:STANDARD
DTSTART:20341105T010000
RDATE:20350311T030000
TZOFFSETFROM:-0600
TZOFFSETTO:-0700
TZNAME:America/Denver MST
END:STANDARD
BEGIN:STANDARD
DTSTART:20351104T010000
RDATE:20360309T030000
TZOFFSETFROM:-0600
TZOFFSETTO:-0700
TZNAME:America/Denver MST
END:STANDARD
BEGIN:STANDARD
DTSTART:20361102T010000
RDATE:20370308T030000
TZOFFSETFROM:-0600
TZOFFSETTO:-0700
TZNAME:America/Denver MST
END:STANDARD
BEGIN:STANDARD
DTSTART:20371101T010000
TZOFFSETFROM:-0600
TZOFFSETTO:-0700
TZNAME:America/Denver MST
END:STANDARD
BEGIN:DAYLIGHT
DTSTART:20200308T030000
RDATE:20201101T010000
TZOFFSETFROM:-0700
TZOFFSETTO:-0600
TZNAME:America/Denver MDT
END:DAYLIGHT
BEGIN:DAYLIGHT
DTSTART:20210314T030000
RDATE:20211107T010000
TZOFFSETFROM:-0700
TZOFFSETTO:-0600
TZNAME:America/Denver MDT
END:DAYLIGHT
BEGIN:DAYLIGHT
DTSTART:20220313T030000
RDATE:20221106T010000
TZOFFSETFROM:-0700
TZOFFSETTO:-0600
TZNAME:America/Denver MDT
END:DAYLIGHT
BEGIN:DAYLIGHT
DTSTART:20230312T030000
RDATE:20231105T010000
TZOFFSETFROM:-0700
TZOFFSETTO:-0600
TZNAME:America/Denver MDT
END:DAYLIGHT
BEGIN:DAYLIGHT
DTSTART:20240310T030000
RDATE:20241103T010000
TZOFFSETFROM:-0700
TZOFFSETTO:-0600
TZNAME:America/Denver MDT
END:DAYLIGHT
BEGIN:DAYLIGHT
DTSTART:20250309T030000
RDATE:20251102T010000
TZOFFSETFROM:-0700
TZOFFSETTO:-0600
TZNAME:America/Denver MDT
END:DAYLIGHT
BEGIN:DAYLIGHT
DTSTART:20260308T030000
RDATE:20261101T010000
TZOFFSETFROM:-0700
TZOFFSETTO:-0600
TZNAME:America/Denver MDT
END:DAYLIGHT
BEGIN:DAYLIGHT
DTSTART:20270314T030000
RDATE:20271107T010000
TZOFFSETFROM:-0700
TZOFFSETTO:-0600
TZNAME:America/Denver MDT
END:DAYLIGHT
BEGIN:DAYLIGHT
DTSTART:20280312T030000
RDATE:20281105T010000
TZOFFSETFROM:-0700
TZOFFSETTO:-0600
TZNAME:America/Denver MDT
END:DAYLIGHT
BEGIN:DAYLIGHT
DTSTART:20290311T030000
RDATE:20291104T010000
TZOFFSETFROM:-0700
TZOFFSETTO:-0600
TZNAME:America/Denver MDT
END:DAYLIGHT
BEGIN:DAYLIGHT
DTSTART:20300310T030000
RDATE:20301103T010000
TZOFFSETFROM:-0700
TZOFFSETTO:-0600
TZNAME:America/Denver MDT
END:DAYLIGHT
BEGIN:DAYLIGHT
DTSTART:20310309T030000
RDATE:20311102T010000
TZOFFSETFROM:-0700
TZOFFSETTO:-0600
TZNAME:America/Denver MDT
END:DAYLIGHT
BEGIN:DAYLIGHT
DTSTART:20320314T030000
RDATE:20321107T010000
TZOFFSETFROM:-0700
TZOFFSETTO:-0600
TZNAME:America/Denver MDT
END:DAYLIGHT
BEGIN:DAYLIGHT
DTSTART:20330313T030000
RDATE:20331106T010000
TZOFFSETFROM:-0700
TZOFFSETTO:-0600
TZNAME:America/Denver MDT
END:DAYLIGHT
BEGIN:DAYLIGHT
DTSTART:20340312T030000
RDATE:20341105T010000
TZOFFSETFROM:-0700
TZOFFSETTO:-0600
TZNAME:America/Denver MDT
END:DAYLIGHT
BEGIN:DAYLIGHT
DTSTART:20350311T030000
RDATE:20351104T010000
TZOFFSETFROM:-0700
TZOFFSETTO:-0600
TZNAME:America/Denver MDT
END:DAYLIGHT
BEGIN:DAYLIGHT
DTSTART:20360309T030000
RDATE:20361102T010000
TZOFFSETFROM:-0700
TZOFFSETTO:-0600
TZNAME:America/Denver MDT
END:DAYLIGHT
BEGIN:DAYLIGHT
DTSTART:20370308T030000
RDATE:20371101T010000
TZOFFSETFROM:-0700
TZOFFSETTO:-0600
TZNAME:America/Denver MDT
END:DAYLIGHT
END:VTIMEZONE
BEGIN:VEVENT
UID:d4f0c561b3fbb489322de664dac0dafa
CATEGORIES:LSDM
CREATED:20201230T090655
SUMMARY:Charles Warren and Maria Simone, co CEO's and Co Founders of ZenMoose Capital, LLC
DESCRIPTION:	Hat tip:  Delilah\n	Maria and Chad have a lot to share about the crossroad
 s of Social Impact, access to capital and bringing more consciousness to me
 dia. They have developed a unique financial methodology that creates a self
 -sustaining capital base that pulls from a $7 trillion dollar source of non
 -liquid capital. Their approach is a game-changer for Venture Funding that 
 supports the raising of consciousness in a way that is socially impactful a
 nd profitable. For example, The United Nations 17 SDGs initiative calls for
  the eradication of poverty, global warming and other serious global issues
  by 2030. However, there is currently a $3 trillion dollar deficit of capit
 al required to achieve this mission. Zen Moose is the solution to this. You
  can learn more here: www.ZenMooseCapital.com (https://eur04.safelinks.prot
 ection.outlook.com/?url=http%3A%2F%2Fwww.zenmoosecapital.com%2F&amp;data=04
 %7C01%7C%7C9dc597784aa645b89f5108d896fac703%7C84df9e7fe9f640afb435aaaaaaaaa
 aaa%7C1%7C0%7C637425351649017125%7CUnknown%7CTWFpbGZsb3d8eyJWIjoiMC4wLjAwMD
 AiLCJQIjoiV2luMzIiLCJBTiI6Ik1haWwiLCJXVCI6Mn0%3D%7C1000&amp;sdata=YH4Rouy3%
 2Bxn9dQ3HIrLAyy4ITvQ%2F%2Bib0ymUokvbfEIs%3D&amp;reserved=0)\n
X-ALT-DESC;FMTTYPE=text/html:<p>	Hat tip:&nbsp; Delilah</p><p>	<span style="font-family: arial, helvetic
 a, clean, sans-serif; font-size: 10pt;">Maria and Chad have a lot to share 
 about the crossroads of Social Impact, access to capital and bringing more 
 consciousness to media. They have developed a unique financial methodology 
 that creates a self-sustaining capital base that pulls from a $7 trillion d
 ollar source of non-liquid</span><span class="yiv3859425631Apple-converted-
 space" style="font-family: arial, helvetica, clean, sans-serif; font-size: 
 10pt;">&nbsp;</span><span class="yiv3859425631" style="font-family: &quot;w
 eb blinkmacsystemfont&quot;, sans-serif; font-size: 12pt; color: rgb(50, 49
 , 48);">capital.<span class="yiv3859425631Apple-converted-space" style="fon
 t-family: arial, helvetica, clean, sans-serif;">&nbsp;</span></span><span c
 lass="yiv3859425631" style="font-family: &quot;web blinkmacsystemfont&quot;
 , sans-serif; font-size: 12pt; color: rgb(50, 49, 48);">Their approach is a
  game-changer</span><span class="yiv3859425631" style="font-family: arial, 
 helvetica, clean, sans-serif; font-size: 10pt;"><span class="yiv3859425631"
 ><span class="yiv3859425631" style="font-family: &quot;web blinkmacsystemfo
 nt&quot;, sans-serif; color: rgb(50, 49, 48); font-size: 12pt;"><span class
 ="yiv3859425631Apple-converted-space" style="font-family: arial, helvetica,
  clean, sans-serif;">&nbsp;</span>for Venture Funding that supports the rai
 sing of consciousness in a way that is socially impactful and profitable. F
 or example,</span></span></span><span class="yiv3859425631" style="font-fam
 ily: arial, helvetica, clean, sans-serif; font-size: 10pt;"><span class="yi
 v3859425631"><span class="yiv3859425631" style="font-family: &quot;web blin
 kmacsystemfont&quot;, sans-serif; color: rgb(50, 49, 48); font-size: 12pt;"
 ><span class="yiv3859425631Apple-converted-space" style="font-family: arial
 , helvetica, clean, sans-serif;">&nbsp;</span>The United Nations 17 SDGs in
 itiative calls for the eradication of poverty, global warming and other ser
 ious global issues by 2030. However, there is currently a $3 trillion dolla
 r deficit of capital required to achieve this mission. Zen Moose is the sol
 ution to this.</span></span></span><span class="yiv3859425631Apple-converte
 d-space" style="font-family: arial, helvetica, clean, sans-serif; font-size
 : 10pt;">&nbsp;</span><span style="font-family: arial, helvetica, clean, sa
 ns-serif; font-size: 10pt;">You can learn more here:</span><span class="yiv
 3859425631Apple-converted-space" style="font-family: arial, helvetica, clea
 n, sans-serif; font-size: 10pt;">&nbsp;</span><a class="yiv3859425631" href
 ="https://eur04.safelinks.protection.outlook.com/?url=http%3A%2F%2Fwww.zenm
 oosecapital.com%2F&amp;data=04%7C01%7C%7C9dc597784aa645b89f5108d896fac703%7
 C84df9e7fe9f640afb435aaaaaaaaaaaa%7C1%7C0%7C637425351649017125%7CUnknown%7C
 TWFpbGZsb3d8eyJWIjoiMC4wLjAwMDAiLCJQIjoiV2luMzIiLCJBTiI6Ik1haWwiLCJXVCI6Mn0
 %3D%7C1000&amp;sdata=YH4Rouy3%2Bxn9dQ3HIrLAyy4ITvQ%2F%2Bib0ymUokvbfEIs%3D&a
 mp;reserved=0" id="yiv3859425631LPlnk273512" rel="nofollow noopener norefer
 rer" shape="rect" style="font-family: arial, helvetica, clean, sans-serif; 
 font-size: 10pt; cursor: pointer;" target="_blank">www.ZenMooseCapital.com<
 /a></p>
DTSTAMP:20260421T132159
DTSTART;TZID=America/Denver:20210113T070000
DTEND;TZID=America/Denver:20210113T080000
SEQUENCE:0
TRANSP:OPAQUE
END:VEVENT
END:VCALENDAR