BEGIN:VCALENDAR
VERSION:2.0
PRODID:-//jEvents 2.0 for Joomla//EN
CALSCALE:GREGORIAN
METHOD:PUBLISH
BEGIN:VTIMEZONE
TZID:America/Denver
BEGIN:STANDARD
DTSTART:20200122T070000
RDATE:20200308T030000
TZOFFSETFROM:-0600
TZOFFSETTO:-0700
TZNAME:America/Denver MST
END:STANDARD
BEGIN:STANDARD
DTSTART:20201101T010000
RDATE:20210314T030000
TZOFFSETFROM:-0600
TZOFFSETTO:-0700
TZNAME:America/Denver MST
END:STANDARD
BEGIN:STANDARD
DTSTART:20211107T010000
RDATE:20220313T030000
TZOFFSETFROM:-0600
TZOFFSETTO:-0700
TZNAME:America/Denver MST
END:STANDARD
BEGIN:STANDARD
DTSTART:20221106T010000
RDATE:20230312T030000
TZOFFSETFROM:-0600
TZOFFSETTO:-0700
TZNAME:America/Denver MST
END:STANDARD
BEGIN:STANDARD
DTSTART:20231105T010000
RDATE:20240310T030000
TZOFFSETFROM:-0600
TZOFFSETTO:-0700
TZNAME:America/Denver MST
END:STANDARD
BEGIN:STANDARD
DTSTART:20241103T010000
RDATE:20250309T030000
TZOFFSETFROM:-0600
TZOFFSETTO:-0700
TZNAME:America/Denver MST
END:STANDARD
BEGIN:STANDARD
DTSTART:20251102T010000
RDATE:20260308T030000
TZOFFSETFROM:-0600
TZOFFSETTO:-0700
TZNAME:America/Denver MST
END:STANDARD
BEGIN:STANDARD
DTSTART:20261101T010000
RDATE:20270314T030000
TZOFFSETFROM:-0600
TZOFFSETTO:-0700
TZNAME:America/Denver MST
END:STANDARD
BEGIN:STANDARD
DTSTART:20271107T010000
RDATE:20280312T030000
TZOFFSETFROM:-0600
TZOFFSETTO:-0700
TZNAME:America/Denver MST
END:STANDARD
BEGIN:STANDARD
DTSTART:20281105T010000
RDATE:20290311T030000
TZOFFSETFROM:-0600
TZOFFSETTO:-0700
TZNAME:America/Denver MST
END:STANDARD
BEGIN:STANDARD
DTSTART:20291104T010000
RDATE:20300310T030000
TZOFFSETFROM:-0600
TZOFFSETTO:-0700
TZNAME:America/Denver MST
END:STANDARD
BEGIN:STANDARD
DTSTART:20301103T010000
RDATE:20310309T030000
TZOFFSETFROM:-0600
TZOFFSETTO:-0700
TZNAME:America/Denver MST
END:STANDARD
BEGIN:STANDARD
DTSTART:20311102T010000
RDATE:20320314T030000
TZOFFSETFROM:-0600
TZOFFSETTO:-0700
TZNAME:America/Denver MST
END:STANDARD
BEGIN:STANDARD
DTSTART:20321107T010000
RDATE:20330313T030000
TZOFFSETFROM:-0600
TZOFFSETTO:-0700
TZNAME:America/Denver MST
END:STANDARD
BEGIN:STANDARD
DTSTART:20331106T010000
RDATE:20340312T030000
TZOFFSETFROM:-0600
TZOFFSETTO:-0700
TZNAME:America/Denver MST
END:STANDARD
BEGIN:STANDARD
DTSTART:20341105T010000
RDATE:20350311T030000
TZOFFSETFROM:-0600
TZOFFSETTO:-0700
TZNAME:America/Denver MST
END:STANDARD
BEGIN:STANDARD
DTSTART:20351104T010000
RDATE:20360309T030000
TZOFFSETFROM:-0600
TZOFFSETTO:-0700
TZNAME:America/Denver MST
END:STANDARD
BEGIN:STANDARD
DTSTART:20361102T010000
RDATE:20370308T030000
TZOFFSETFROM:-0600
TZOFFSETTO:-0700
TZNAME:America/Denver MST
END:STANDARD
BEGIN:STANDARD
DTSTART:20371101T010000
TZOFFSETFROM:-0600
TZOFFSETTO:-0700
TZNAME:America/Denver MST
END:STANDARD
BEGIN:DAYLIGHT
DTSTART:20200308T030000
RDATE:20201101T010000
TZOFFSETFROM:-0700
TZOFFSETTO:-0600
TZNAME:America/Denver MDT
END:DAYLIGHT
BEGIN:DAYLIGHT
DTSTART:20210314T030000
RDATE:20211107T010000
TZOFFSETFROM:-0700
TZOFFSETTO:-0600
TZNAME:America/Denver MDT
END:DAYLIGHT
BEGIN:DAYLIGHT
DTSTART:20220313T030000
RDATE:20221106T010000
TZOFFSETFROM:-0700
TZOFFSETTO:-0600
TZNAME:America/Denver MDT
END:DAYLIGHT
BEGIN:DAYLIGHT
DTSTART:20230312T030000
RDATE:20231105T010000
TZOFFSETFROM:-0700
TZOFFSETTO:-0600
TZNAME:America/Denver MDT
END:DAYLIGHT
BEGIN:DAYLIGHT
DTSTART:20240310T030000
RDATE:20241103T010000
TZOFFSETFROM:-0700
TZOFFSETTO:-0600
TZNAME:America/Denver MDT
END:DAYLIGHT
BEGIN:DAYLIGHT
DTSTART:20250309T030000
RDATE:20251102T010000
TZOFFSETFROM:-0700
TZOFFSETTO:-0600
TZNAME:America/Denver MDT
END:DAYLIGHT
BEGIN:DAYLIGHT
DTSTART:20260308T030000
RDATE:20261101T010000
TZOFFSETFROM:-0700
TZOFFSETTO:-0600
TZNAME:America/Denver MDT
END:DAYLIGHT
BEGIN:DAYLIGHT
DTSTART:20270314T030000
RDATE:20271107T010000
TZOFFSETFROM:-0700
TZOFFSETTO:-0600
TZNAME:America/Denver MDT
END:DAYLIGHT
BEGIN:DAYLIGHT
DTSTART:20280312T030000
RDATE:20281105T010000
TZOFFSETFROM:-0700
TZOFFSETTO:-0600
TZNAME:America/Denver MDT
END:DAYLIGHT
BEGIN:DAYLIGHT
DTSTART:20290311T030000
RDATE:20291104T010000
TZOFFSETFROM:-0700
TZOFFSETTO:-0600
TZNAME:America/Denver MDT
END:DAYLIGHT
BEGIN:DAYLIGHT
DTSTART:20300310T030000
RDATE:20301103T010000
TZOFFSETFROM:-0700
TZOFFSETTO:-0600
TZNAME:America/Denver MDT
END:DAYLIGHT
BEGIN:DAYLIGHT
DTSTART:20310309T030000
RDATE:20311102T010000
TZOFFSETFROM:-0700
TZOFFSETTO:-0600
TZNAME:America/Denver MDT
END:DAYLIGHT
BEGIN:DAYLIGHT
DTSTART:20320314T030000
RDATE:20321107T010000
TZOFFSETFROM:-0700
TZOFFSETTO:-0600
TZNAME:America/Denver MDT
END:DAYLIGHT
BEGIN:DAYLIGHT
DTSTART:20330313T030000
RDATE:20331106T010000
TZOFFSETFROM:-0700
TZOFFSETTO:-0600
TZNAME:America/Denver MDT
END:DAYLIGHT
BEGIN:DAYLIGHT
DTSTART:20340312T030000
RDATE:20341105T010000
TZOFFSETFROM:-0700
TZOFFSETTO:-0600
TZNAME:America/Denver MDT
END:DAYLIGHT
BEGIN:DAYLIGHT
DTSTART:20350311T030000
RDATE:20351104T010000
TZOFFSETFROM:-0700
TZOFFSETTO:-0600
TZNAME:America/Denver MDT
END:DAYLIGHT
BEGIN:DAYLIGHT
DTSTART:20360309T030000
RDATE:20361102T010000
TZOFFSETFROM:-0700
TZOFFSETTO:-0600
TZNAME:America/Denver MDT
END:DAYLIGHT
BEGIN:DAYLIGHT
DTSTART:20370308T030000
RDATE:20371101T010000
TZOFFSETFROM:-0700
TZOFFSETTO:-0600
TZNAME:America/Denver MDT
END:DAYLIGHT
END:VTIMEZONE
BEGIN:VEVENT
UID:387916edc6bb2a8006ee75208f70a358
CATEGORIES:LSDM
CREATED:20210108T093256
SUMMARY:Charles O "Cob" Blaha - U.S. State Dept Director of the Office of Security and Human Rights
DESCRIPTION:	Director of the Office of Security and Human Rights Bureau of Democracy, H
 uman Rights and Labor (DRL), Office of Security and Human Rights (SHR)\n	Ch
 arles O. (Cob) Blaha\n	Charles Blaha has been Director of the Office of Sec
 urity and Human Rights in the State Department’s Bureau of Democracy, Human
  Rights, and Labor since 2016. From 2013 until January 2016 he was Director
  of the Bureau’s Office of Western Hemisphere Affairs. Prior to that, Mr. B
 laha served in the Department’s International Organizations Bureau’s Human 
 Rights and Humanitarian Affairs Office, and as Counselor for the Political 
 and Specialized Agencies Section of the U.S. Mission to the UN in Geneva, w
 here he worked primarily on issues related to the UN Human Rights Council.\
 n	Mr. Blaha entered the Foreign Service in 1991. Overseas, in addition to G
 eneva, he has served as Political-Economic Counselor at the U.S. Embassy in
  Prague and as Deputy Political Counselor at the U.S. Embassy in Baghdad. H
 e also served two tours in Turkey, two tours at the U.S. Interests Section 
 (now the U.S. Embassy) in Havana, and at the U.S. Embassy in Panama.\n	In W
 ashington, Mr. Blaha served in the State Department’s Executive Secretariat
  from 2001 until 2002, advancing travel and assigning and coordinating task
 ings for Secretary of State Colin Powell. He also served in the State Depar
 tment’s Western European Affairs Office from 2002 until 2003.\n	Before join
 ing the Foreign Service, Mr. Blaha was a trial attorney with the Milwaukee 
 Office of the Wisconsin State Public Defender for ten years.\n	Mr. Blaha ho
 lds a B.A., magna cum laude, from Duke University, and a J.D. from the Univ
 ersity of Virginia School of Law. He speaks Spanish and Turkish, and has st
 udied Czech.\n	 \n	 \n	 \n
X-ALT-DESC;FMTTYPE=text/html:<p>	Director of the Office of Security and Human Rights Bureau of Democracy
 , Human Rights and Labor (DRL), Office of Security and Human Rights (SHR)</
 p><p>	Charles O. (Cob) Blaha</p><p>	Charles Blaha has been Director of the 
 Office of Security and Human Rights in the State Department&rsquo;s Bureau 
 of Democracy, Human Rights, and Labor since 2016. From 2013 until January 2
 016 he was Director of the Bureau&rsquo;s Office of Western Hemisphere Affa
 irs. Prior to that, Mr. Blaha served in the Department&rsquo;s Internationa
 l Organizations Bureau&rsquo;s Human Rights and Humanitarian Affairs Office
 , and as Counselor for the Political and Specialized Agencies Section of th
 e U.S. Mission to the UN in Geneva, where he worked primarily on issues rel
 ated to the UN Human Rights Council.</p><p>	Mr. Blaha entered the Foreign S
 ervice in 1991. Overseas, in addition to Geneva, he has served as Political
 -Economic Counselor at the U.S. Embassy in Prague and as Deputy Political C
 ounselor at the U.S. Embassy in Baghdad. He also served two tours in Turkey
 , two tours at the U.S. Interests Section (now the U.S. Embassy) in Havana,
  and at the U.S. Embassy in Panama.</p><p>	In Washington, Mr. Blaha served 
 in the State Department&rsquo;s Executive Secretariat from 2001 until 2002,
  advancing travel and assigning and coordinating taskings for Secretary of 
 State Colin Powell. He also served in the State Department&rsquo;s Western 
 European Affairs Office from 2002 until 2003.</p><p>	Before joining the For
 eign Service, Mr. Blaha was a trial attorney with the Milwaukee Office of t
 he Wisconsin State Public Defender for ten years.</p><p>	Mr. Blaha holds a 
 B.A., magna cum laude, from Duke University, and a J.D. from the University
  of Virginia School of Law. He speaks Spanish and Turkish, and has studied 
 Czech.</p><p>	&nbsp;</p><p>	&nbsp;</p><p>	&nbsp;</p>
DTSTAMP:20260421T132226
DTSTART;TZID=America/Denver:20210122T070000
DTEND;TZID=America/Denver:20210122T080000
SEQUENCE:0
TRANSP:OPAQUE
END:VEVENT
END:VCALENDAR