BEGIN:VCALENDAR
VERSION:2.0
PRODID:-//jEvents 2.0 for Joomla//EN
CALSCALE:GREGORIAN
METHOD:PUBLISH
BEGIN:VTIMEZONE
TZID:America/Denver
BEGIN:STANDARD
DTSTART:20131103T010000
RDATE:20140309T030000
TZOFFSETFROM:-0600
TZOFFSETTO:-0700
TZNAME:America/Denver MST
END:STANDARD
BEGIN:STANDARD
DTSTART:20141102T010000
RDATE:20150308T030000
TZOFFSETFROM:-0600
TZOFFSETTO:-0700
TZNAME:America/Denver MST
END:STANDARD
BEGIN:STANDARD
DTSTART:20151101T010000
RDATE:20160313T030000
TZOFFSETFROM:-0600
TZOFFSETTO:-0700
TZNAME:America/Denver MST
END:STANDARD
BEGIN:STANDARD
DTSTART:20161106T010000
RDATE:20170312T030000
TZOFFSETFROM:-0600
TZOFFSETTO:-0700
TZNAME:America/Denver MST
END:STANDARD
BEGIN:STANDARD
DTSTART:20171105T010000
RDATE:20180311T030000
TZOFFSETFROM:-0600
TZOFFSETTO:-0700
TZNAME:America/Denver MST
END:STANDARD
BEGIN:STANDARD
DTSTART:20181104T010000
RDATE:20190310T030000
TZOFFSETFROM:-0600
TZOFFSETTO:-0700
TZNAME:America/Denver MST
END:STANDARD
BEGIN:STANDARD
DTSTART:20191103T010000
RDATE:20200308T030000
TZOFFSETFROM:-0600
TZOFFSETTO:-0700
TZNAME:America/Denver MST
END:STANDARD
BEGIN:STANDARD
DTSTART:20201101T010000
RDATE:20210314T030000
TZOFFSETFROM:-0600
TZOFFSETTO:-0700
TZNAME:America/Denver MST
END:STANDARD
BEGIN:STANDARD
DTSTART:20211107T010000
RDATE:20220313T030000
TZOFFSETFROM:-0600
TZOFFSETTO:-0700
TZNAME:America/Denver MST
END:STANDARD
BEGIN:STANDARD
DTSTART:20221106T010000
RDATE:20230312T030000
TZOFFSETFROM:-0600
TZOFFSETTO:-0700
TZNAME:America/Denver MST
END:STANDARD
BEGIN:STANDARD
DTSTART:20231105T010000
RDATE:20240310T030000
TZOFFSETFROM:-0600
TZOFFSETTO:-0700
TZNAME:America/Denver MST
END:STANDARD
BEGIN:STANDARD
DTSTART:20241103T010000
RDATE:20250309T030000
TZOFFSETFROM:-0600
TZOFFSETTO:-0700
TZNAME:America/Denver MST
END:STANDARD
BEGIN:STANDARD
DTSTART:20251102T010000
RDATE:20260308T030000
TZOFFSETFROM:-0600
TZOFFSETTO:-0700
TZNAME:America/Denver MST
END:STANDARD
BEGIN:STANDARD
DTSTART:20261101T010000
RDATE:20270314T030000
TZOFFSETFROM:-0600
TZOFFSETTO:-0700
TZNAME:America/Denver MST
END:STANDARD
BEGIN:STANDARD
DTSTART:20271107T010000
RDATE:20280312T030000
TZOFFSETFROM:-0600
TZOFFSETTO:-0700
TZNAME:America/Denver MST
END:STANDARD
BEGIN:STANDARD
DTSTART:20281105T010000
RDATE:20290311T030000
TZOFFSETFROM:-0600
TZOFFSETTO:-0700
TZNAME:America/Denver MST
END:STANDARD
BEGIN:STANDARD
DTSTART:20291104T010000
RDATE:20300310T030000
TZOFFSETFROM:-0600
TZOFFSETTO:-0700
TZNAME:America/Denver MST
END:STANDARD
BEGIN:STANDARD
DTSTART:20301103T010000
RDATE:20310309T030000
TZOFFSETFROM:-0600
TZOFFSETTO:-0700
TZNAME:America/Denver MST
END:STANDARD
BEGIN:STANDARD
DTSTART:20311102T010000
RDATE:20320314T030000
TZOFFSETFROM:-0600
TZOFFSETTO:-0700
TZNAME:America/Denver MST
END:STANDARD
BEGIN:STANDARD
DTSTART:20321107T010000
RDATE:20330313T030000
TZOFFSETFROM:-0600
TZOFFSETTO:-0700
TZNAME:America/Denver MST
END:STANDARD
BEGIN:STANDARD
DTSTART:20331106T010000
RDATE:20340312T030000
TZOFFSETFROM:-0600
TZOFFSETTO:-0700
TZNAME:America/Denver MST
END:STANDARD
BEGIN:STANDARD
DTSTART:20341105T010000
RDATE:20350311T030000
TZOFFSETFROM:-0600
TZOFFSETTO:-0700
TZNAME:America/Denver MST
END:STANDARD
BEGIN:STANDARD
DTSTART:20351104T010000
RDATE:20360309T030000
TZOFFSETFROM:-0600
TZOFFSETTO:-0700
TZNAME:America/Denver MST
END:STANDARD
BEGIN:STANDARD
DTSTART:20361102T010000
RDATE:20370308T030000
TZOFFSETFROM:-0600
TZOFFSETTO:-0700
TZNAME:America/Denver MST
END:STANDARD
BEGIN:STANDARD
DTSTART:20371101T010000
TZOFFSETFROM:-0600
TZOFFSETTO:-0700
TZNAME:America/Denver MST
END:STANDARD
BEGIN:DAYLIGHT
DTSTART:20130810T070000
RDATE:20131103T010000
TZOFFSETFROM:-0700
TZOFFSETTO:-0600
TZNAME:America/Denver MDT
END:DAYLIGHT
BEGIN:DAYLIGHT
DTSTART:20140309T030000
RDATE:20141102T010000
TZOFFSETFROM:-0700
TZOFFSETTO:-0600
TZNAME:America/Denver MDT
END:DAYLIGHT
BEGIN:DAYLIGHT
DTSTART:20150308T030000
RDATE:20151101T010000
TZOFFSETFROM:-0700
TZOFFSETTO:-0600
TZNAME:America/Denver MDT
END:DAYLIGHT
BEGIN:DAYLIGHT
DTSTART:20160313T030000
RDATE:20161106T010000
TZOFFSETFROM:-0700
TZOFFSETTO:-0600
TZNAME:America/Denver MDT
END:DAYLIGHT
BEGIN:DAYLIGHT
DTSTART:20170312T030000
RDATE:20171105T010000
TZOFFSETFROM:-0700
TZOFFSETTO:-0600
TZNAME:America/Denver MDT
END:DAYLIGHT
BEGIN:DAYLIGHT
DTSTART:20180311T030000
RDATE:20181104T010000
TZOFFSETFROM:-0700
TZOFFSETTO:-0600
TZNAME:America/Denver MDT
END:DAYLIGHT
BEGIN:DAYLIGHT
DTSTART:20190310T030000
RDATE:20191103T010000
TZOFFSETFROM:-0700
TZOFFSETTO:-0600
TZNAME:America/Denver MDT
END:DAYLIGHT
BEGIN:DAYLIGHT
DTSTART:20200308T030000
RDATE:20201101T010000
TZOFFSETFROM:-0700
TZOFFSETTO:-0600
TZNAME:America/Denver MDT
END:DAYLIGHT
BEGIN:DAYLIGHT
DTSTART:20210314T030000
RDATE:20211107T010000
TZOFFSETFROM:-0700
TZOFFSETTO:-0600
TZNAME:America/Denver MDT
END:DAYLIGHT
BEGIN:DAYLIGHT
DTSTART:20220313T030000
RDATE:20221106T010000
TZOFFSETFROM:-0700
TZOFFSETTO:-0600
TZNAME:America/Denver MDT
END:DAYLIGHT
BEGIN:DAYLIGHT
DTSTART:20230312T030000
RDATE:20231105T010000
TZOFFSETFROM:-0700
TZOFFSETTO:-0600
TZNAME:America/Denver MDT
END:DAYLIGHT
BEGIN:DAYLIGHT
DTSTART:20240310T030000
RDATE:20241103T010000
TZOFFSETFROM:-0700
TZOFFSETTO:-0600
TZNAME:America/Denver MDT
END:DAYLIGHT
BEGIN:DAYLIGHT
DTSTART:20250309T030000
RDATE:20251102T010000
TZOFFSETFROM:-0700
TZOFFSETTO:-0600
TZNAME:America/Denver MDT
END:DAYLIGHT
BEGIN:DAYLIGHT
DTSTART:20260308T030000
RDATE:20261101T010000
TZOFFSETFROM:-0700
TZOFFSETTO:-0600
TZNAME:America/Denver MDT
END:DAYLIGHT
BEGIN:DAYLIGHT
DTSTART:20270314T030000
RDATE:20271107T010000
TZOFFSETFROM:-0700
TZOFFSETTO:-0600
TZNAME:America/Denver MDT
END:DAYLIGHT
BEGIN:DAYLIGHT
DTSTART:20280312T030000
RDATE:20281105T010000
TZOFFSETFROM:-0700
TZOFFSETTO:-0600
TZNAME:America/Denver MDT
END:DAYLIGHT
BEGIN:DAYLIGHT
DTSTART:20290311T030000
RDATE:20291104T010000
TZOFFSETFROM:-0700
TZOFFSETTO:-0600
TZNAME:America/Denver MDT
END:DAYLIGHT
BEGIN:DAYLIGHT
DTSTART:20300310T030000
RDATE:20301103T010000
TZOFFSETFROM:-0700
TZOFFSETTO:-0600
TZNAME:America/Denver MDT
END:DAYLIGHT
BEGIN:DAYLIGHT
DTSTART:20310309T030000
RDATE:20311102T010000
TZOFFSETFROM:-0700
TZOFFSETTO:-0600
TZNAME:America/Denver MDT
END:DAYLIGHT
BEGIN:DAYLIGHT
DTSTART:20320314T030000
RDATE:20321107T010000
TZOFFSETFROM:-0700
TZOFFSETTO:-0600
TZNAME:America/Denver MDT
END:DAYLIGHT
BEGIN:DAYLIGHT
DTSTART:20330313T030000
RDATE:20331106T010000
TZOFFSETFROM:-0700
TZOFFSETTO:-0600
TZNAME:America/Denver MDT
END:DAYLIGHT
BEGIN:DAYLIGHT
DTSTART:20340312T030000
RDATE:20341105T010000
TZOFFSETFROM:-0700
TZOFFSETTO:-0600
TZNAME:America/Denver MDT
END:DAYLIGHT
BEGIN:DAYLIGHT
DTSTART:20350311T030000
RDATE:20351104T010000
TZOFFSETFROM:-0700
TZOFFSETTO:-0600
TZNAME:America/Denver MDT
END:DAYLIGHT
BEGIN:DAYLIGHT
DTSTART:20360309T030000
RDATE:20361102T010000
TZOFFSETFROM:-0700
TZOFFSETTO:-0600
TZNAME:America/Denver MDT
END:DAYLIGHT
BEGIN:DAYLIGHT
DTSTART:20370308T030000
RDATE:20371101T010000
TZOFFSETFROM:-0700
TZOFFSETTO:-0600
TZNAME:America/Denver MDT
END:DAYLIGHT
END:VTIMEZONE
BEGIN:VEVENT
UID:e94ebef7cdf8eb1905ae1691578ebf41
CATEGORIES:LSDM
CREATED:20140728T112421
SUMMARY:Wade Carpenter, Chief of Police, Park City, UT
DESCRIPTION:<p>	 </p><p>	Topics:</p><p>	 </p><p>	Colorado pot.</p><p>	Park City law enf
 orcement update</p><p>	Shooting training</p><p>	 </p><p>	 </p><p>	 </p><div
 >	<font size="2"><font color="#000000" face="Arial" size="2" style="BACKGRO
 UND-COLOR: transparent"><font color="#000000" face="Arial" size="2"><i><spa
 n class="yiv2639809295ms__id1246" style="BORDER-BOTTOM: windowtext 1pt; BOR
 DER-LEFT: windowtext 1pt; PADDING-BOTTOM: 0in; PADDING-LEFT: 0in; PADDING-R
 IGHT: 0in; COLOR: blue; BORDER-TOP: windowtext 1pt; BORDER-RIGHT: windowtex
 t 1pt; PADDING-TOP: 0in; border-image: none"><b>La Societe Deux Magots (</b
 >LSDM<b>) is a non-partisan ROMEO (retired old men eating out) group which 
 meets daily, at 7:00 AM at Wasatch Bagel in Park City, UT. LSDM members are
  the rightful intellectual heirs of a group of authors (Hemingway, Sartre, 
 Camus, deBouvoir) who met daily at Cafe Deux Magots, in Paris, France in th
 e 1930's.</b></span></i></font></font></font></div><div>	 </div><div>	 </di
 v><div>	 </div><div>	 </div><div>	 </div><div>	 </div><div>	 </div><div>	<f
 ont size="2"><font face="Arial" size="2" style="BACKGROUND-COLOR: transpare
 nt"><font face="Arial" size="2"><i><span class="yiv2639809295ms__id1249" st
 yle="BORDER-BOTTOM: windowtext 1pt; BORDER-LEFT: windowtext 1pt; PADDING-BO
 TTOM: 0in; PADDING-LEFT: 0in; PADDING-RIGHT: 0in; COLOR: blue; BORDER-TOP: 
 windowtext 1pt; BORDER-RIGHT: windowtext 1pt; PADDING-TOP: 0in; border-imag
 e: none"><b><a href="http://www.lsdm-parkcity.com/" title="http://www.lsdm-
 parkcity.com/"><font color="#ff0000">http://www.lsdm-parkcity.com</font></a
 ></b></span></i></font></font></font></div><div>	 </div><div>	 </div><div>	
  </div><div>	 </div><div>	 </div><div>	 </div><div>	 </div>
DTSTAMP:20260422T201840
DTSTART;TZID=America/Denver:20140811T070000
DTEND;TZID=America/Denver:20140811T080000
SEQUENCE:0
TRANSP:OPAQUE
END:VEVENT
END:VCALENDAR