BEGIN:VCALENDAR
VERSION:2.0
PRODID:-//jEvents 2.0 for Joomla//EN
CALSCALE:GREGORIAN
METHOD:PUBLISH
BEGIN:VTIMEZONE
TZID:America/Denver
BEGIN:STANDARD
DTSTART:20210213T070000
RDATE:20210314T030000
TZOFFSETFROM:-0600
TZOFFSETTO:-0700
TZNAME:America/Denver MST
END:STANDARD
BEGIN:STANDARD
DTSTART:20211107T010000
RDATE:20220313T030000
TZOFFSETFROM:-0600
TZOFFSETTO:-0700
TZNAME:America/Denver MST
END:STANDARD
BEGIN:STANDARD
DTSTART:20221106T010000
RDATE:20230312T030000
TZOFFSETFROM:-0600
TZOFFSETTO:-0700
TZNAME:America/Denver MST
END:STANDARD
BEGIN:STANDARD
DTSTART:20231105T010000
RDATE:20240310T030000
TZOFFSETFROM:-0600
TZOFFSETTO:-0700
TZNAME:America/Denver MST
END:STANDARD
BEGIN:STANDARD
DTSTART:20241103T010000
RDATE:20250309T030000
TZOFFSETFROM:-0600
TZOFFSETTO:-0700
TZNAME:America/Denver MST
END:STANDARD
BEGIN:STANDARD
DTSTART:20251102T010000
RDATE:20260308T030000
TZOFFSETFROM:-0600
TZOFFSETTO:-0700
TZNAME:America/Denver MST
END:STANDARD
BEGIN:STANDARD
DTSTART:20261101T010000
RDATE:20270314T030000
TZOFFSETFROM:-0600
TZOFFSETTO:-0700
TZNAME:America/Denver MST
END:STANDARD
BEGIN:STANDARD
DTSTART:20271107T010000
RDATE:20280312T030000
TZOFFSETFROM:-0600
TZOFFSETTO:-0700
TZNAME:America/Denver MST
END:STANDARD
BEGIN:STANDARD
DTSTART:20281105T010000
RDATE:20290311T030000
TZOFFSETFROM:-0600
TZOFFSETTO:-0700
TZNAME:America/Denver MST
END:STANDARD
BEGIN:STANDARD
DTSTART:20291104T010000
RDATE:20300310T030000
TZOFFSETFROM:-0600
TZOFFSETTO:-0700
TZNAME:America/Denver MST
END:STANDARD
BEGIN:STANDARD
DTSTART:20301103T010000
RDATE:20310309T030000
TZOFFSETFROM:-0600
TZOFFSETTO:-0700
TZNAME:America/Denver MST
END:STANDARD
BEGIN:STANDARD
DTSTART:20311102T010000
RDATE:20320314T030000
TZOFFSETFROM:-0600
TZOFFSETTO:-0700
TZNAME:America/Denver MST
END:STANDARD
BEGIN:STANDARD
DTSTART:20321107T010000
RDATE:20330313T030000
TZOFFSETFROM:-0600
TZOFFSETTO:-0700
TZNAME:America/Denver MST
END:STANDARD
BEGIN:STANDARD
DTSTART:20331106T010000
RDATE:20340312T030000
TZOFFSETFROM:-0600
TZOFFSETTO:-0700
TZNAME:America/Denver MST
END:STANDARD
BEGIN:STANDARD
DTSTART:20341105T010000
RDATE:20350311T030000
TZOFFSETFROM:-0600
TZOFFSETTO:-0700
TZNAME:America/Denver MST
END:STANDARD
BEGIN:STANDARD
DTSTART:20351104T010000
RDATE:20360309T030000
TZOFFSETFROM:-0600
TZOFFSETTO:-0700
TZNAME:America/Denver MST
END:STANDARD
BEGIN:STANDARD
DTSTART:20361102T010000
RDATE:20370308T030000
TZOFFSETFROM:-0600
TZOFFSETTO:-0700
TZNAME:America/Denver MST
END:STANDARD
BEGIN:STANDARD
DTSTART:20371101T010000
TZOFFSETFROM:-0600
TZOFFSETTO:-0700
TZNAME:America/Denver MST
END:STANDARD
BEGIN:DAYLIGHT
DTSTART:20210314T030000
RDATE:20211107T010000
TZOFFSETFROM:-0700
TZOFFSETTO:-0600
TZNAME:America/Denver MDT
END:DAYLIGHT
BEGIN:DAYLIGHT
DTSTART:20220313T030000
RDATE:20221106T010000
TZOFFSETFROM:-0700
TZOFFSETTO:-0600
TZNAME:America/Denver MDT
END:DAYLIGHT
BEGIN:DAYLIGHT
DTSTART:20230312T030000
RDATE:20231105T010000
TZOFFSETFROM:-0700
TZOFFSETTO:-0600
TZNAME:America/Denver MDT
END:DAYLIGHT
BEGIN:DAYLIGHT
DTSTART:20240310T030000
RDATE:20241103T010000
TZOFFSETFROM:-0700
TZOFFSETTO:-0600
TZNAME:America/Denver MDT
END:DAYLIGHT
BEGIN:DAYLIGHT
DTSTART:20250309T030000
RDATE:20251102T010000
TZOFFSETFROM:-0700
TZOFFSETTO:-0600
TZNAME:America/Denver MDT
END:DAYLIGHT
BEGIN:DAYLIGHT
DTSTART:20260308T030000
RDATE:20261101T010000
TZOFFSETFROM:-0700
TZOFFSETTO:-0600
TZNAME:America/Denver MDT
END:DAYLIGHT
BEGIN:DAYLIGHT
DTSTART:20270314T030000
RDATE:20271107T010000
TZOFFSETFROM:-0700
TZOFFSETTO:-0600
TZNAME:America/Denver MDT
END:DAYLIGHT
BEGIN:DAYLIGHT
DTSTART:20280312T030000
RDATE:20281105T010000
TZOFFSETFROM:-0700
TZOFFSETTO:-0600
TZNAME:America/Denver MDT
END:DAYLIGHT
BEGIN:DAYLIGHT
DTSTART:20290311T030000
RDATE:20291104T010000
TZOFFSETFROM:-0700
TZOFFSETTO:-0600
TZNAME:America/Denver MDT
END:DAYLIGHT
BEGIN:DAYLIGHT
DTSTART:20300310T030000
RDATE:20301103T010000
TZOFFSETFROM:-0700
TZOFFSETTO:-0600
TZNAME:America/Denver MDT
END:DAYLIGHT
BEGIN:DAYLIGHT
DTSTART:20310309T030000
RDATE:20311102T010000
TZOFFSETFROM:-0700
TZOFFSETTO:-0600
TZNAME:America/Denver MDT
END:DAYLIGHT
BEGIN:DAYLIGHT
DTSTART:20320314T030000
RDATE:20321107T010000
TZOFFSETFROM:-0700
TZOFFSETTO:-0600
TZNAME:America/Denver MDT
END:DAYLIGHT
BEGIN:DAYLIGHT
DTSTART:20330313T030000
RDATE:20331106T010000
TZOFFSETFROM:-0700
TZOFFSETTO:-0600
TZNAME:America/Denver MDT
END:DAYLIGHT
BEGIN:DAYLIGHT
DTSTART:20340312T030000
RDATE:20341105T010000
TZOFFSETFROM:-0700
TZOFFSETTO:-0600
TZNAME:America/Denver MDT
END:DAYLIGHT
BEGIN:DAYLIGHT
DTSTART:20350311T030000
RDATE:20351104T010000
TZOFFSETFROM:-0700
TZOFFSETTO:-0600
TZNAME:America/Denver MDT
END:DAYLIGHT
BEGIN:DAYLIGHT
DTSTART:20360309T030000
RDATE:20361102T010000
TZOFFSETFROM:-0700
TZOFFSETTO:-0600
TZNAME:America/Denver MDT
END:DAYLIGHT
BEGIN:DAYLIGHT
DTSTART:20370308T030000
RDATE:20371101T010000
TZOFFSETFROM:-0700
TZOFFSETTO:-0600
TZNAME:America/Denver MDT
END:DAYLIGHT
END:VTIMEZONE
BEGIN:VEVENT
UID:c637a4548416935c3a9cacaee4c8cd52
CATEGORIES:LSDM
CREATED:20220213T065111
SUMMARY:Shawn Farris, St. George attorney who spent the last week in Ukraine
DESCRIPTION:	Shawn Farris\n	St. George attorney who spent the past week in Ukraine\n			
  			Travel Blogger on Attorney-Wandering.BlogSpot.com (https://attorney-wan
 dering.blogspot.com/?fbclid=IwAR0SPb7egNxCjAuga8kV4yZjtVVz_VJEopi3Xp7NZzvTV
 5_mPopdFSFmkIE)		Instagram AttorneyWandering		Facebook @AttyWandering
X-ALT-DESC;FMTTYPE=text/html:<p>	<span style="font-family: arial; font-size: 13.3333px;">Shawn Farris</s
 pan></p><div style="font-family: arial; font-size: 13.3333px;">	St. George 
 attorney who spent the past week in Ukraine<br />	<div>		&nbsp;</div>	<div>
 		<span style="color: rgb(5, 5, 5); font-family: &quot;UI Helvetica&quot;, 
 Arial, sans-serif; font-size: 15px; text-align: center;">Travel Blogger on&
 nbsp;</span><a class="yiv2876689451oajrlxb2 yiv2876689451g5ia77u1 yiv287668
 9451qu0x051f yiv2876689451esr5mh6w yiv2876689451e9989ue4 yiv2876689451r7d6k
 gcz yiv2876689451rq0escxv yiv2876689451nhd2j8a9 yiv2876689451nc684nl6 yiv28
 76689451p7hjln8o yiv2876689451kvgmc6g5 yiv2876689451cxmmr5t8 yiv2876689451o
 ygrvhab yiv2876689451hcukyx3x yiv2876689451jb3vyjys yiv2876689451rz4wbd8a y
 iv2876689451qt6c0cv9 yiv2876689451a8nywdso yiv2876689451i1ao9s8h yiv2876689
 451esuyzwwr yiv2876689451f1sip0of yiv2876689451lzcic4wl yiv2876689451gpro0w
 i8 yiv2876689451py34i1dx" href="https://attorney-wandering.blogspot.com/?fb
 clid=IwAR0SPb7egNxCjAuga8kV4yZjtVVz_VJEopi3Xp7NZzvTV5_mPopdFSFmkIE" rel="no
 follow noopener noreferrer" style="color: blue; cursor: pointer; outline: n
 one; list-style: none; border-width: 0px; border-style: initial; border-col
 or: initial; padding: 0px; margin: 0px; text-align: center; display: inline
 ; font-family: &quot;UI Helvetica&quot;, Arial, sans-serif; font-size: 15px
 ;" tabindex="0" target="_blank">Attorney-Wandering.BlogSpot.com</a><br styl
 e="color: rgb(5, 5, 5); font-family: &quot;UI Helvetica&quot;, Arial, sans-
 serif; font-size: 15px; text-align: center;" />		<span style="color: rgb(5,
  5, 5); font-family: &quot;UI Helvetica&quot;, Arial, sans-serif; font-size
 : 15px; text-align: center;">Instagram AttorneyWandering</span><br style="c
 olor: rgb(5, 5, 5); font-family: &quot;UI Helvetica&quot;, Arial, sans-seri
 f; font-size: 15px; text-align: center;" />		<span style="color: rgb(5, 5, 
 5); font-family: &quot;UI Helvetica&quot;, Arial, sans-serif; font-size: 15
 px; text-align: center;">Facebook @AttyWandering</span></div></div>
DTSTAMP:20260421T103207
DTSTART;TZID=America/Denver:20220214T070000
DTEND;TZID=America/Denver:20220214T080000
SEQUENCE:0
TRANSP:OPAQUE
END:VEVENT
END:VCALENDAR