BEGIN:VCALENDAR
VERSION:2.0
PRODID:-//jEvents 2.0 for Joomla//EN
CALSCALE:GREGORIAN
METHOD:PUBLISH
BEGIN:VTIMEZONE
TZID:America/Denver
BEGIN:STANDARD
DTSTART:20141102T010000
RDATE:20150308T030000
TZOFFSETFROM:-0600
TZOFFSETTO:-0700
TZNAME:America/Denver MST
END:STANDARD
BEGIN:STANDARD
DTSTART:20151101T010000
RDATE:20160313T030000
TZOFFSETFROM:-0600
TZOFFSETTO:-0700
TZNAME:America/Denver MST
END:STANDARD
BEGIN:STANDARD
DTSTART:20161106T010000
RDATE:20170312T030000
TZOFFSETFROM:-0600
TZOFFSETTO:-0700
TZNAME:America/Denver MST
END:STANDARD
BEGIN:STANDARD
DTSTART:20171105T010000
RDATE:20180311T030000
TZOFFSETFROM:-0600
TZOFFSETTO:-0700
TZNAME:America/Denver MST
END:STANDARD
BEGIN:STANDARD
DTSTART:20181104T010000
RDATE:20190310T030000
TZOFFSETFROM:-0600
TZOFFSETTO:-0700
TZNAME:America/Denver MST
END:STANDARD
BEGIN:STANDARD
DTSTART:20191103T010000
RDATE:20200308T030000
TZOFFSETFROM:-0600
TZOFFSETTO:-0700
TZNAME:America/Denver MST
END:STANDARD
BEGIN:STANDARD
DTSTART:20201101T010000
RDATE:20210314T030000
TZOFFSETFROM:-0600
TZOFFSETTO:-0700
TZNAME:America/Denver MST
END:STANDARD
BEGIN:STANDARD
DTSTART:20211107T010000
RDATE:20220313T030000
TZOFFSETFROM:-0600
TZOFFSETTO:-0700
TZNAME:America/Denver MST
END:STANDARD
BEGIN:STANDARD
DTSTART:20221106T010000
RDATE:20230312T030000
TZOFFSETFROM:-0600
TZOFFSETTO:-0700
TZNAME:America/Denver MST
END:STANDARD
BEGIN:STANDARD
DTSTART:20231105T010000
RDATE:20240310T030000
TZOFFSETFROM:-0600
TZOFFSETTO:-0700
TZNAME:America/Denver MST
END:STANDARD
BEGIN:STANDARD
DTSTART:20241103T010000
RDATE:20250309T030000
TZOFFSETFROM:-0600
TZOFFSETTO:-0700
TZNAME:America/Denver MST
END:STANDARD
BEGIN:STANDARD
DTSTART:20251102T010000
RDATE:20260308T030000
TZOFFSETFROM:-0600
TZOFFSETTO:-0700
TZNAME:America/Denver MST
END:STANDARD
BEGIN:STANDARD
DTSTART:20261101T010000
RDATE:20270314T030000
TZOFFSETFROM:-0600
TZOFFSETTO:-0700
TZNAME:America/Denver MST
END:STANDARD
BEGIN:STANDARD
DTSTART:20271107T010000
RDATE:20280312T030000
TZOFFSETFROM:-0600
TZOFFSETTO:-0700
TZNAME:America/Denver MST
END:STANDARD
BEGIN:STANDARD
DTSTART:20281105T010000
RDATE:20290311T030000
TZOFFSETFROM:-0600
TZOFFSETTO:-0700
TZNAME:America/Denver MST
END:STANDARD
BEGIN:STANDARD
DTSTART:20291104T010000
RDATE:20300310T030000
TZOFFSETFROM:-0600
TZOFFSETTO:-0700
TZNAME:America/Denver MST
END:STANDARD
BEGIN:STANDARD
DTSTART:20301103T010000
RDATE:20310309T030000
TZOFFSETFROM:-0600
TZOFFSETTO:-0700
TZNAME:America/Denver MST
END:STANDARD
BEGIN:STANDARD
DTSTART:20311102T010000
RDATE:20320314T030000
TZOFFSETFROM:-0600
TZOFFSETTO:-0700
TZNAME:America/Denver MST
END:STANDARD
BEGIN:STANDARD
DTSTART:20321107T010000
RDATE:20330313T030000
TZOFFSETFROM:-0600
TZOFFSETTO:-0700
TZNAME:America/Denver MST
END:STANDARD
BEGIN:STANDARD
DTSTART:20331106T010000
RDATE:20340312T030000
TZOFFSETFROM:-0600
TZOFFSETTO:-0700
TZNAME:America/Denver MST
END:STANDARD
BEGIN:STANDARD
DTSTART:20341105T010000
RDATE:20350311T030000
TZOFFSETFROM:-0600
TZOFFSETTO:-0700
TZNAME:America/Denver MST
END:STANDARD
BEGIN:STANDARD
DTSTART:20351104T010000
RDATE:20360309T030000
TZOFFSETFROM:-0600
TZOFFSETTO:-0700
TZNAME:America/Denver MST
END:STANDARD
BEGIN:STANDARD
DTSTART:20361102T010000
RDATE:20370308T030000
TZOFFSETFROM:-0600
TZOFFSETTO:-0700
TZNAME:America/Denver MST
END:STANDARD
BEGIN:STANDARD
DTSTART:20371101T010000
TZOFFSETFROM:-0600
TZOFFSETTO:-0700
TZNAME:America/Denver MST
END:STANDARD
BEGIN:DAYLIGHT
DTSTART:20140526T070000
RDATE:20141102T010000
TZOFFSETFROM:-0700
TZOFFSETTO:-0600
TZNAME:America/Denver MDT
END:DAYLIGHT
BEGIN:DAYLIGHT
DTSTART:20150308T030000
RDATE:20151101T010000
TZOFFSETFROM:-0700
TZOFFSETTO:-0600
TZNAME:America/Denver MDT
END:DAYLIGHT
BEGIN:DAYLIGHT
DTSTART:20160313T030000
RDATE:20161106T010000
TZOFFSETFROM:-0700
TZOFFSETTO:-0600
TZNAME:America/Denver MDT
END:DAYLIGHT
BEGIN:DAYLIGHT
DTSTART:20170312T030000
RDATE:20171105T010000
TZOFFSETFROM:-0700
TZOFFSETTO:-0600
TZNAME:America/Denver MDT
END:DAYLIGHT
BEGIN:DAYLIGHT
DTSTART:20180311T030000
RDATE:20181104T010000
TZOFFSETFROM:-0700
TZOFFSETTO:-0600
TZNAME:America/Denver MDT
END:DAYLIGHT
BEGIN:DAYLIGHT
DTSTART:20190310T030000
RDATE:20191103T010000
TZOFFSETFROM:-0700
TZOFFSETTO:-0600
TZNAME:America/Denver MDT
END:DAYLIGHT
BEGIN:DAYLIGHT
DTSTART:20200308T030000
RDATE:20201101T010000
TZOFFSETFROM:-0700
TZOFFSETTO:-0600
TZNAME:America/Denver MDT
END:DAYLIGHT
BEGIN:DAYLIGHT
DTSTART:20210314T030000
RDATE:20211107T010000
TZOFFSETFROM:-0700
TZOFFSETTO:-0600
TZNAME:America/Denver MDT
END:DAYLIGHT
BEGIN:DAYLIGHT
DTSTART:20220313T030000
RDATE:20221106T010000
TZOFFSETFROM:-0700
TZOFFSETTO:-0600
TZNAME:America/Denver MDT
END:DAYLIGHT
BEGIN:DAYLIGHT
DTSTART:20230312T030000
RDATE:20231105T010000
TZOFFSETFROM:-0700
TZOFFSETTO:-0600
TZNAME:America/Denver MDT
END:DAYLIGHT
BEGIN:DAYLIGHT
DTSTART:20240310T030000
RDATE:20241103T010000
TZOFFSETFROM:-0700
TZOFFSETTO:-0600
TZNAME:America/Denver MDT
END:DAYLIGHT
BEGIN:DAYLIGHT
DTSTART:20250309T030000
RDATE:20251102T010000
TZOFFSETFROM:-0700
TZOFFSETTO:-0600
TZNAME:America/Denver MDT
END:DAYLIGHT
BEGIN:DAYLIGHT
DTSTART:20260308T030000
RDATE:20261101T010000
TZOFFSETFROM:-0700
TZOFFSETTO:-0600
TZNAME:America/Denver MDT
END:DAYLIGHT
BEGIN:DAYLIGHT
DTSTART:20270314T030000
RDATE:20271107T010000
TZOFFSETFROM:-0700
TZOFFSETTO:-0600
TZNAME:America/Denver MDT
END:DAYLIGHT
BEGIN:DAYLIGHT
DTSTART:20280312T030000
RDATE:20281105T010000
TZOFFSETFROM:-0700
TZOFFSETTO:-0600
TZNAME:America/Denver MDT
END:DAYLIGHT
BEGIN:DAYLIGHT
DTSTART:20290311T030000
RDATE:20291104T010000
TZOFFSETFROM:-0700
TZOFFSETTO:-0600
TZNAME:America/Denver MDT
END:DAYLIGHT
BEGIN:DAYLIGHT
DTSTART:20300310T030000
RDATE:20301103T010000
TZOFFSETFROM:-0700
TZOFFSETTO:-0600
TZNAME:America/Denver MDT
END:DAYLIGHT
BEGIN:DAYLIGHT
DTSTART:20310309T030000
RDATE:20311102T010000
TZOFFSETFROM:-0700
TZOFFSETTO:-0600
TZNAME:America/Denver MDT
END:DAYLIGHT
BEGIN:DAYLIGHT
DTSTART:20320314T030000
RDATE:20321107T010000
TZOFFSETFROM:-0700
TZOFFSETTO:-0600
TZNAME:America/Denver MDT
END:DAYLIGHT
BEGIN:DAYLIGHT
DTSTART:20330313T030000
RDATE:20331106T010000
TZOFFSETFROM:-0700
TZOFFSETTO:-0600
TZNAME:America/Denver MDT
END:DAYLIGHT
BEGIN:DAYLIGHT
DTSTART:20340312T030000
RDATE:20341105T010000
TZOFFSETFROM:-0700
TZOFFSETTO:-0600
TZNAME:America/Denver MDT
END:DAYLIGHT
BEGIN:DAYLIGHT
DTSTART:20350311T030000
RDATE:20351104T010000
TZOFFSETFROM:-0700
TZOFFSETTO:-0600
TZNAME:America/Denver MDT
END:DAYLIGHT
BEGIN:DAYLIGHT
DTSTART:20360309T030000
RDATE:20361102T010000
TZOFFSETFROM:-0700
TZOFFSETTO:-0600
TZNAME:America/Denver MDT
END:DAYLIGHT
BEGIN:DAYLIGHT
DTSTART:20370308T030000
RDATE:20371101T010000
TZOFFSETFROM:-0700
TZOFFSETTO:-0600
TZNAME:America/Denver MDT
END:DAYLIGHT
END:VTIMEZONE
BEGIN:VEVENT
UID:3318f3c8dfd6fa87856e6ded315e18d9
CATEGORIES:LSDM
CREATED:20150523T095857
SUMMARY:Michael P. Davidson
DESCRIPTION:	 \n	 \n	Michael P. Davidson\n	CEO\n	Gen Next\n	Michael P. Davidson connect
 s innovative and successful leaders to dynamic\n	mission-based ideas and or
 ganizations, creating powerful networks that help\n	make the world better. 
 As CEO of Gen Next, an exclusive organization of\n	successful individuals e
 ngaged with ensuring future generations have access to\n	great opportunitie
 s. Michael works with emerging and established leaders and\n	helps them tak
 e on tomorrow’s biggest societal challenges.	\n	He has helped engage some o
 f the brightest, most innovative entrepreneurs and\n	leaders from around th
 e U.S. and world in Gen Next’s mission to ensure future\n	generations have 
 opportunity to flourish. Gen Next has hosted hundreds of\n	programs with th
 oughts leaders, dignitaries, elected officials, and high-profile\n	business
  executives, allowing its Members to dialogue on global issues with the\n	w
 orld’s foremost experts and decision makers. Michael has also led Gen Next\
 n	delegations to key regions around the world, including China, Western Eur
 ope,\n	Brazil, Russia, and the Middle East, in order to stay at the leading
  edge of global\n	trends. Michael’s leadership has helped Gen Next provide 
 unmatched experiences and impact to its\n	Members and partners.	\n	In addit
 ion to his leadership of Gen Next, Michael is also the President of the Gen
  Next Foundation\n	(GNF), which utilizes venture philanthropy and private s
 ector leadership to create high-impact solutions in\n	the areas of economic
  opportunity, education, and global security. Michael has helped lead GNF t
 o\n	significant and bold initiatives around some of the world’s most diffic
 ult challenges. A recent\n	collaborations was with Google Ideas and the Ins
 titute for Strategic Dialogue on\n	the AgainstViolentExtremism.org Network 
 (AVE).	\n	Michael’s work supporting great missions and exploring generation
 al issues goes beyond Gen Next. He\n	also serves on the U.S. Board of Direc
 tors for the Quilliam Foundation, the world’s first counter-extremism\n	thi
 nk tank, which was created to address the unique challenges of citizenship,
  identity, and community in\n	a globalized world. He is also a Fellow at th
 e Unruh Institute of Politics at the University of Southern\n	California.	\
 n	Michael is a Founding Member or PTTOW!, an annual summit that discusses c
 ulture, media, and\n	marketing to consumers between the ages of 14 and 34. 
 He serves as an advisor to EQtainment, an\n	educational media company that 
 promotes emotional intelligence. And he was formerly on the Board of\n	Mana
 gers of PersonalCare Physicians, a premier provider of exclusive concierge 
 health and wellness\n	services.	\n	He graduated from the University of Cali
 fornia, Berkeley and enjoys spending time with family and\n	friends, travel
 , movies, trying to play guitar, and reading.
X-ALT-DESC;FMTTYPE=text/html:<p>	 </p><p>	 </p><div>	Michael P. Davidson<br />	CEO<br />	Gen Next<br />	
 Michael P. Davidson connects innovative and successful leaders to dynamic<b
 r />	mission-based ideas and organizations, creating powerful networks that
  help<br />	make the world better. As CEO of Gen Next, an exclusive organiz
 ation of<br />	successful individuals engaged with ensuring future generati
 ons have access to<br />	great opportunities. Michael works with emerging a
 nd established leaders and<br />	helps them take on tomorrow&rsquo;s bigges
 t societal challenges.</div><div>	<br />	He has helped engage some of the b
 rightest, most innovative entrepreneurs and<br />	leaders from around the U
 .S. and world in Gen Next&rsquo;s mission to ensure future<br />	generation
 s have opportunity to flourish. Gen Next has hosted hundreds of<br />	progr
 ams with thoughts leaders, dignitaries, elected officials, and high-profile
 <br />	business executives, allowing its Members to dialogue on global issu
 es with the<br />	world&rsquo;s foremost experts and decision makers. Micha
 el has also led Gen Next<br />	delegations to key regions around the world,
  including China, Western Europe,<br />	Brazil, Russia, and the Middle East
 , in order to stay at the leading edge of global<br />	trends. Michael&rsqu
 o;s leadership has helped Gen Next provide unmatched experiences and impact
  to its<br />	Members and partners.</div><div>	<br />	In addition to his le
 adership of Gen Next, Michael is also the President of the Gen Next Foundat
 ion<br />	(GNF), which utilizes venture philanthropy and private sector lea
 dership to create high-impact solutions in<br />	the areas of economic oppo
 rtunity, education, and global security. Michael has helped lead GNF to<br 
 />	significant and bold initiatives around some of the world&rsquo;s most d
 ifficult challenges. A recent<br />	collaborations was with Google Ideas an
 d the Institute for Strategic Dialogue on<br />	the AgainstViolentExtremism
 .org Network (AVE).</div><div>	<br />	Michael&rsquo;s work supporting great
  missions and exploring generational issues goes beyond Gen Next. He<br />	
 also serves on the U.S. Board of Directors for the Quilliam Foundation, the
  world&rsquo;s first counter-extremism<br />	think tank, which was created 
 to address the unique challenges of citizenship, identity, and community in
 <br />	a globalized world. He is also a Fellow at the Unruh Institute of Po
 litics at the University of Southern<br />	California.</div><div>	<br />	Mi
 chael is a Founding Member or PTTOW!, an annual summit that discusses cultu
 re, media, and<br />	marketing to consumers between the ages of 14 and 34. 
 He serves as an advisor to EQtainment, an<br />	educational media company t
 hat promotes emotional intelligence. And he was formerly on the Board of<br
  />	Managers of PersonalCare Physicians, a premier provider of exclusive co
 ncierge health and wellness<br />	services.</div><div>	<br />	He graduated 
 from the University of California, Berkeley and enjoys spending time with f
 amily and<br />	friends, travel, movies, trying to play guitar, and reading
 .</div>
DTSTAMP:20260423T004732
DTSTART;TZID=America/Denver:20150527T070000
DTEND;TZID=America/Denver:20150527T080000
SEQUENCE:0
TRANSP:OPAQUE
END:VEVENT
END:VCALENDAR